BEGIN:VCALENDAR
VERSION:2.0
PRODID:-//YGAMETIME.com//YGT iCal Creator//EN
METHOD:PUBLISH
X-PUBLISHED-TTL:PT6H
REFRESH-INTERVAL;VALUE=DURATION:PT6H
CALSCALE:GREGORIAN
X-WR-CALNAME:YGAMETIME CALENDAR
BEGIN:VTIMEZONE
TZID:America/New_York
X-LIC-LOCATION:America/New_York
BEGIN:DAYLIGHT
TZOFFSETFROM:-0500
TZOFFSETTO:-0400
TZNAME:EDT
DTSTART:19700308T020000
RRULE:FREQ=YEARLY;BYMONTH=3;BYDAY=2SU
END:DAYLIGHT
BEGIN:STANDARD
TZOFFSETFROM:-0400
TZOFFSETTO:-0500
TZNAME:EST
DTSTART:19701101T020000
RRULE:FREQ=YEARLY;BYMONTH=11;BYDAY=1SU
END:STANDARD
END:VTIMEZONE
BEGIN:VEVENT
UID:athensmcminn-65015@ygametime.com
DTSTAMP:20160621T214500Z
DTSTART;TZID=America/New_York:20160621T174500
DURATION:PT0H50M0S
SUMMARY:Rhoney vs Shaw
DESCRIPTION:14 and Older | Adult Wiffle Ball\nAthens-McMinn Family YMCA\n
URL;VALUE=URI:https://ygametime.com/branch/athensmcminn/sports/2016-summer-adult-wiffle-ball/568/?utm_medium=calendar&utm_source=team_cal&utm_content=league_url#game-65015
LOCATION:Tball/Soccer Field 2
BEGIN:VALARM
TRIGGER:-P2H
ACTION:DISPLAY
DESCRIPTION:Rhoney vs Shaw
END:VALARM
END:VEVENT
BEGIN:VEVENT
UID:athensmcminn-65016@ygametime.com
DTSTAMP:20160621T223500Z
DTSTART;TZID=America/New_York:20160621T183500
DURATION:PT0H50M0S
SUMMARY:Shaw vs Davis
DESCRIPTION:14 and Older | Adult Wiffle Ball\nAthens-McMinn Family YMCA\n
URL;VALUE=URI:https://ygametime.com/branch/athensmcminn/sports/2016-summer-adult-wiffle-ball/568/?utm_medium=calendar&utm_source=team_cal&utm_content=league_url#game-65016
LOCATION:Tball/Soccer Field 2
BEGIN:VALARM
TRIGGER:-P2H
ACTION:DISPLAY
DESCRIPTION:Shaw vs Davis
END:VALARM
END:VEVENT
BEGIN:VEVENT
UID:athensmcminn-65018@ygametime.com
DTSTAMP:20160628T214500Z
DTSTART;TZID=America/New_York:20160628T174500
DURATION:PT0H50M0S
SUMMARY:Shaw vs Biddle
DESCRIPTION:14 and Older | Adult Wiffle Ball\nAthens-McMinn Family YMCA\n
URL;VALUE=URI:https://ygametime.com/branch/athensmcminn/sports/2016-summer-adult-wiffle-ball/568/?utm_medium=calendar&utm_source=team_cal&utm_content=league_url#game-65018
LOCATION:Tball/Soccer Field 2
BEGIN:VALARM
TRIGGER:-P2H
ACTION:DISPLAY
DESCRIPTION:Shaw vs Biddle
END:VALARM
END:VEVENT
BEGIN:VEVENT
UID:athensmcminn-65020@ygametime.com
DTSTAMP:20160628T223500Z
DTSTART;TZID=America/New_York:20160628T183500
DURATION:PT0H50M0S
SUMMARY:Rhoney vs Shaw
DESCRIPTION:14 and Older | Adult Wiffle Ball\nAthens-McMinn Family YMCA\n
URL;VALUE=URI:https://ygametime.com/branch/athensmcminn/sports/2016-summer-adult-wiffle-ball/568/?utm_medium=calendar&utm_source=team_cal&utm_content=league_url#game-65020
LOCATION:T Ball Field/Soccer Field 1
BEGIN:VALARM
TRIGGER:-P2H
ACTION:DISPLAY
DESCRIPTION:Rhoney vs Shaw
END:VALARM
END:VEVENT
BEGIN:VEVENT
UID:athensmcminn-65023@ygametime.com
DTSTAMP:20160705T214500Z
DTSTART;TZID=America/New_York:20160705T174500
DURATION:PT0H50M0S
SUMMARY:Shaw vs Davis
DESCRIPTION:14 and Older | Adult Wiffle Ball\nAthens-McMinn Family YMCA\n
URL;VALUE=URI:https://ygametime.com/branch/athensmcminn/sports/2016-summer-adult-wiffle-ball/568/?utm_medium=calendar&utm_source=team_cal&utm_content=league_url#game-65023
LOCATION:Tball/Soccer Field 2
BEGIN:VALARM
TRIGGER:-P2H
ACTION:DISPLAY
DESCRIPTION:Shaw vs Davis
END:VALARM
END:VEVENT
BEGIN:VEVENT
UID:athensmcminn-65025@ygametime.com
DTSTAMP:20160705T223500Z
DTSTART;TZID=America/New_York:20160705T183500
DURATION:PT0H50M0S
SUMMARY:Shaw vs Biddle
DESCRIPTION:14 and Older | Adult Wiffle Ball\nAthens-McMinn Family YMCA\n
URL;VALUE=URI:https://ygametime.com/branch/athensmcminn/sports/2016-summer-adult-wiffle-ball/568/?utm_medium=calendar&utm_source=team_cal&utm_content=league_url#game-65025
LOCATION:Tball/Soccer Field 2
BEGIN:VALARM
TRIGGER:-P2H
ACTION:DISPLAY
DESCRIPTION:Shaw vs Biddle
END:VALARM
END:VEVENT
BEGIN:VEVENT
UID:athensmcminn-65027@ygametime.com
DTSTAMP:20160712T214500Z
DTSTART;TZID=America/New_York:20160712T174500
DURATION:PT0H50M0S
SUMMARY:Rhoney vs Shaw
DESCRIPTION:14 and Older | Adult Wiffle Ball\nAthens-McMinn Family YMCA\n
URL;VALUE=URI:https://ygametime.com/branch/athensmcminn/sports/2016-summer-adult-wiffle-ball/568/?utm_medium=calendar&utm_source=team_cal&utm_content=league_url#game-65027
LOCATION:Tball/Soccer Field 2
BEGIN:VALARM
TRIGGER:-P2H
ACTION:DISPLAY
DESCRIPTION:Rhoney vs Shaw
END:VALARM
END:VEVENT
BEGIN:VEVENT
UID:athensmcminn-65028@ygametime.com
DTSTAMP:20160712T223500Z
DTSTART;TZID=America/New_York:20160712T183500
DURATION:PT0H50M0S
SUMMARY:Shaw vs Davis
DESCRIPTION:14 and Older | Adult Wiffle Ball\nAthens-McMinn Family YMCA\n
URL;VALUE=URI:https://ygametime.com/branch/athensmcminn/sports/2016-summer-adult-wiffle-ball/568/?utm_medium=calendar&utm_source=team_cal&utm_content=league_url#game-65028
LOCATION:T Ball Field/Soccer Field 1
BEGIN:VALARM
TRIGGER:-P2H
ACTION:DISPLAY
DESCRIPTION:Shaw vs Davis
END:VALARM
END:VEVENT
BEGIN:VEVENT
UID:athensmcminn-65030@ygametime.com
DTSTAMP:20160719T214500Z
DTSTART;TZID=America/New_York:20160719T174500
DURATION:PT0H50M0S
SUMMARY:Shaw vs Biddle
DESCRIPTION:14 and Older | Adult Wiffle Ball\nAthens-McMinn Family YMCA\n
URL;VALUE=URI:https://ygametime.com/branch/athensmcminn/sports/2016-summer-adult-wiffle-ball/568/?utm_medium=calendar&utm_source=team_cal&utm_content=league_url#game-65030
LOCATION:T Ball Field/Soccer Field 1
BEGIN:VALARM
TRIGGER:-P2H
ACTION:DISPLAY
DESCRIPTION:Shaw vs Biddle
END:VALARM
END:VEVENT
BEGIN:VEVENT
UID:athensmcminn-65032@ygametime.com
DTSTAMP:20160719T223500Z
DTSTART;TZID=America/New_York:20160719T183500
DURATION:PT0H50M0S
SUMMARY:Rhoney vs Shaw
DESCRIPTION:14 and Older | Adult Wiffle Ball\nAthens-McMinn Family YMCA\n
URL;VALUE=URI:https://ygametime.com/branch/athensmcminn/sports/2016-summer-adult-wiffle-ball/568/?utm_medium=calendar&utm_source=team_cal&utm_content=league_url#game-65032
LOCATION:T Ball Field/Soccer Field 1
BEGIN:VALARM
TRIGGER:-P2H
ACTION:DISPLAY
DESCRIPTION:Rhoney vs Shaw
END:VALARM
END:VEVENT
BEGIN:VEVENT
UID:athensmcminn-65035@ygametime.com
DTSTAMP:20160726T214500Z
DTSTART;TZID=America/New_York:20160726T174500
DURATION:PT0H50M0S
SUMMARY:Shaw vs Davis
DESCRIPTION:14 and Older | Adult Wiffle Ball\nAthens-McMinn Family YMCA\n
URL;VALUE=URI:https://ygametime.com/branch/athensmcminn/sports/2016-summer-adult-wiffle-ball/568/?utm_medium=calendar&utm_source=team_cal&utm_content=league_url#game-65035
LOCATION:Tball/Soccer Field 2
BEGIN:VALARM
TRIGGER:-P2H
ACTION:DISPLAY
DESCRIPTION:Shaw vs Davis
END:VALARM
END:VEVENT
BEGIN:VEVENT
UID:athensmcminn-65037@ygametime.com
DTSTAMP:20160726T223500Z
DTSTART;TZID=America/New_York:20160726T183500
DURATION:PT0H50M0S
SUMMARY:Shaw vs Biddle
DESCRIPTION:14 and Older | Adult Wiffle Ball\nAthens-McMinn Family YMCA\n
URL;VALUE=URI:https://ygametime.com/branch/athensmcminn/sports/2016-summer-adult-wiffle-ball/568/?utm_medium=calendar&utm_source=team_cal&utm_content=league_url#game-65037
LOCATION:Tball/Soccer Field 2
BEGIN:VALARM
TRIGGER:-P2H
ACTION:DISPLAY
DESCRIPTION:Shaw vs Biddle
END:VALARM
END:VEVENT
END:VCALENDAR

