BEGIN:VCALENDAR
VERSION:2.0
PRODID:-//YGAMETIME.com//YGT iCal Creator//EN
METHOD:PUBLISH
X-PUBLISHED-TTL:PT6H
REFRESH-INTERVAL;VALUE=DURATION:PT6H
CALSCALE:GREGORIAN
X-WR-CALNAME:YGAMETIME CALENDAR
BEGIN:VTIMEZONE
TZID:America/Chicago
X-LIC-LOCATION:America/Chicago
BEGIN:DAYLIGHT
TZOFFSETFROM:-0600
TZOFFSETTO:-0500
TZNAME:CDT
DTSTART:19700308T020000
RRULE:FREQ=YEARLY;BYMONTH=3;BYDAY=2SU
END:DAYLIGHT
BEGIN:STANDARD
TZOFFSETFROM:-0500
TZOFFSETTO:-0600
TZNAME:CST
DTSTART:19701101T020000
RRULE:FREQ=YEARLY;BYMONTH=11;BYDAY=1SU
END:STANDARD
END:VTIMEZONE
BEGIN:VEVENT
UID:bedell-601322@ygametime.com
DTSTAMP:20260418T140000Z
DTSTART;TZID=America/Chicago:20260418T090000
DURATION:PT0H60M0S
SUMMARY:Black vs Hot Coral
DESCRIPTION:PreK / K Girls Soccer | Spring Youth Soccer\nBedell Family YMCA\n
URL;VALUE=URI:https://ygametime.com/branch/bedell/sports/2026-spring-spring-youth-soccer/25878/?utm_medium=calendar&utm_source=team_cal&utm_content=league_url#game-601322
LOCATION:U6 Soccer Field 1
BEGIN:VALARM
TRIGGER:-P2H
ACTION:DISPLAY
DESCRIPTION:Black vs Hot Coral
END:VALARM
END:VEVENT
BEGIN:VEVENT
UID:bedell-601325@ygametime.com
DTSTAMP:20260425T140000Z
DTSTART;TZID=America/Chicago:20260425T090000
DURATION:PT0H60M0S
SUMMARY:Hot Coral vs Carolina Blue
DESCRIPTION:PreK / K Girls Soccer | Spring Youth Soccer\nBedell Family YMCA\n
URL;VALUE=URI:https://ygametime.com/branch/bedell/sports/2026-spring-spring-youth-soccer/25878/?utm_medium=calendar&utm_source=team_cal&utm_content=league_url#game-601325
LOCATION:U6 Soccer Field 1
BEGIN:VALARM
TRIGGER:-P2H
ACTION:DISPLAY
DESCRIPTION:Hot Coral vs Carolina Blue
END:VALARM
END:VEVENT
BEGIN:VEVENT
UID:bedell-601327@ygametime.com
DTSTAMP:20260502T130000Z
DTSTART;TZID=America/Chicago:20260502T080000
DURATION:PT0H60M0S
SUMMARY:Kelly Green vs Hot Coral
DESCRIPTION:PreK / K Girls Soccer | Spring Youth Soccer\nBedell Family YMCA\n
URL;VALUE=URI:https://ygametime.com/branch/bedell/sports/2026-spring-spring-youth-soccer/25878/?utm_medium=calendar&utm_source=team_cal&utm_content=league_url#game-601327
LOCATION:U6 Soccer Field 1
BEGIN:VALARM
TRIGGER:-P2H
ACTION:DISPLAY
DESCRIPTION:Kelly Green vs Hot Coral
END:VALARM
END:VEVENT
BEGIN:VEVENT
UID:bedell-601331@ygametime.com
DTSTAMP:20260509T140000Z
DTSTART;TZID=America/Chicago:20260509T090000
DURATION:PT0H60M0S
SUMMARY:Hot Coral vs True Red
DESCRIPTION:PreK / K Girls Soccer | Spring Youth Soccer\nBedell Family YMCA\n
URL;VALUE=URI:https://ygametime.com/branch/bedell/sports/2026-spring-spring-youth-soccer/25878/?utm_medium=calendar&utm_source=team_cal&utm_content=league_url#game-601331
LOCATION:U6 Soccer Field 1
BEGIN:VALARM
TRIGGER:-P2H
ACTION:DISPLAY
DESCRIPTION:Hot Coral vs True Red
END:VALARM
END:VEVENT
BEGIN:VEVENT
UID:bedell-601335@ygametime.com
DTSTAMP:20260516T140000Z
DTSTART;TZID=America/Chicago:20260516T090000
DURATION:PT0H60M0S
SUMMARY:Hot Coral vs Purple
DESCRIPTION:PreK / K Girls Soccer | Spring Youth Soccer\nBedell Family YMCA\n
URL;VALUE=URI:https://ygametime.com/branch/bedell/sports/2026-spring-spring-youth-soccer/25878/?utm_medium=calendar&utm_source=team_cal&utm_content=league_url#game-601335
LOCATION:U6 Soccer Field 1
BEGIN:VALARM
TRIGGER:-P2H
ACTION:DISPLAY
DESCRIPTION:Hot Coral vs Purple
END:VALARM
END:VEVENT
BEGIN:VEVENT
UID:bedell-601338@ygametime.com
DTSTAMP:20260523T140000Z
DTSTART;TZID=America/Chicago:20260523T090000
DURATION:PT0H60M0S
SUMMARY:Black vs Hot Coral
DESCRIPTION:PreK / K Girls Soccer | Spring Youth Soccer\nBedell Family YMCA\n
URL;VALUE=URI:https://ygametime.com/branch/bedell/sports/2026-spring-spring-youth-soccer/25878/?utm_medium=calendar&utm_source=team_cal&utm_content=league_url#game-601338
LOCATION:U6 Soccer Field 1
BEGIN:VALARM
TRIGGER:-P2H
ACTION:DISPLAY
DESCRIPTION:Black vs Hot Coral
END:VALARM
END:VEVENT
END:VCALENDAR

