BEGIN:VCALENDAR
VERSION:2.0
PRODID:-//YGAMETIME.com//YGT iCal Creator//EN
METHOD:PUBLISH
X-PUBLISHED-TTL:PT6H
REFRESH-INTERVAL;VALUE=DURATION:PT6H
CALSCALE:GREGORIAN
X-WR-CALNAME:YGAMETIME CALENDAR
BEGIN:VTIMEZONE
TZID:America/Chicago
X-LIC-LOCATION:America/Chicago
BEGIN:DAYLIGHT
TZOFFSETFROM:-0600
TZOFFSETTO:-0500
TZNAME:CDT
DTSTART:19700308T020000
RRULE:FREQ=YEARLY;BYMONTH=3;BYDAY=2SU
END:DAYLIGHT
BEGIN:STANDARD
TZOFFSETFROM:-0500
TZOFFSETTO:-0600
TZNAME:CST
DTSTART:19701101T020000
RRULE:FREQ=YEARLY;BYMONTH=11;BYDAY=1SU
END:STANDARD
END:VTIMEZONE
BEGIN:VEVENT
UID:bedell-601304@ygametime.com
DTSTAMP:20260418T150000Z
DTSTART;TZID=America/Chicago:20260418T100000
DURATION:PT0H60M0S
SUMMARY:Black vs Atomic Blue
DESCRIPTION:Pre K / K Boys Soccer | Spring Youth Soccer\nBedell Family YMCA\n
URL;VALUE=URI:https://ygametime.com/branch/bedell/sports/2026-spring-spring-youth-soccer/25877/?utm_medium=calendar&utm_source=team_cal&utm_content=league_url#game-601304
LOCATION:U6 Soccer Field 2
BEGIN:VALARM
TRIGGER:-P2H
ACTION:DISPLAY
DESCRIPTION:Black vs Atomic Blue
END:VALARM
END:VEVENT
BEGIN:VEVENT
UID:bedell-601307@ygametime.com
DTSTAMP:20260425T140000Z
DTSTART;TZID=America/Chicago:20260425T090000
DURATION:PT0H60M0S
SUMMARY:Atomic Blue vs Silver
DESCRIPTION:Pre K / K Boys Soccer | Spring Youth Soccer\nBedell Family YMCA\n
URL;VALUE=URI:https://ygametime.com/branch/bedell/sports/2026-spring-spring-youth-soccer/25877/?utm_medium=calendar&utm_source=team_cal&utm_content=league_url#game-601307
LOCATION:U6 Soccer Field 2
BEGIN:VALARM
TRIGGER:-P2H
ACTION:DISPLAY
DESCRIPTION:Atomic Blue vs Silver
END:VALARM
END:VEVENT
BEGIN:VEVENT
UID:bedell-601309@ygametime.com
DTSTAMP:20260502T130000Z
DTSTART;TZID=America/Chicago:20260502T080000
DURATION:PT0H60M0S
SUMMARY:Deep Orange vs Atomic Blue
DESCRIPTION:Pre K / K Boys Soccer | Spring Youth Soccer\nBedell Family YMCA\n
URL;VALUE=URI:https://ygametime.com/branch/bedell/sports/2026-spring-spring-youth-soccer/25877/?utm_medium=calendar&utm_source=team_cal&utm_content=league_url#game-601309
LOCATION:U6 Soccer Field 2
BEGIN:VALARM
TRIGGER:-P2H
ACTION:DISPLAY
DESCRIPTION:Deep Orange vs Atomic Blue
END:VALARM
END:VEVENT
BEGIN:VEVENT
UID:bedell-601313@ygametime.com
DTSTAMP:20260509T140000Z
DTSTART;TZID=America/Chicago:20260509T090000
DURATION:PT0H60M0S
SUMMARY:Atomic Blue vs True Red
DESCRIPTION:Pre K / K Boys Soccer | Spring Youth Soccer\nBedell Family YMCA\n
URL;VALUE=URI:https://ygametime.com/branch/bedell/sports/2026-spring-spring-youth-soccer/25877/?utm_medium=calendar&utm_source=team_cal&utm_content=league_url#game-601313
LOCATION:U6 Soccer Field 2
BEGIN:VALARM
TRIGGER:-P2H
ACTION:DISPLAY
DESCRIPTION:Atomic Blue vs True Red
END:VALARM
END:VEVENT
BEGIN:VEVENT
UID:bedell-601317@ygametime.com
DTSTAMP:20260516T150000Z
DTSTART;TZID=America/Chicago:20260516T100000
DURATION:PT0H60M0S
SUMMARY:Atomic Blue vs Kelly Green
DESCRIPTION:Pre K / K Boys Soccer | Spring Youth Soccer\nBedell Family YMCA\n
URL;VALUE=URI:https://ygametime.com/branch/bedell/sports/2026-spring-spring-youth-soccer/25877/?utm_medium=calendar&utm_source=team_cal&utm_content=league_url#game-601317
LOCATION:U6 Soccer Field 2
BEGIN:VALARM
TRIGGER:-P2H
ACTION:DISPLAY
DESCRIPTION:Atomic Blue vs Kelly Green
END:VALARM
END:VEVENT
BEGIN:VEVENT
UID:bedell-601320@ygametime.com
DTSTAMP:20260523T140000Z
DTSTART;TZID=America/Chicago:20260523T090000
DURATION:PT0H60M0S
SUMMARY:Black vs Atomic Blue
DESCRIPTION:Pre K / K Boys Soccer | Spring Youth Soccer\nBedell Family YMCA\n
URL;VALUE=URI:https://ygametime.com/branch/bedell/sports/2026-spring-spring-youth-soccer/25877/?utm_medium=calendar&utm_source=team_cal&utm_content=league_url#game-601320
LOCATION:U6 Soccer Field 2
BEGIN:VALARM
TRIGGER:-P2H
ACTION:DISPLAY
DESCRIPTION:Black vs Atomic Blue
END:VALARM
END:VEVENT
END:VCALENDAR

