BEGIN:VCALENDAR
VERSION:2.0
PRODID:-//YGAMETIME.com//YGT iCal Creator//EN
METHOD:PUBLISH
X-PUBLISHED-TTL:PT6H
REFRESH-INTERVAL;VALUE=DURATION:PT6H
CALSCALE:GREGORIAN
X-WR-CALNAME:YGAMETIME CALENDAR
BEGIN:VTIMEZONE
TZID:America/Chicago
X-LIC-LOCATION:America/Chicago
BEGIN:DAYLIGHT
TZOFFSETFROM:-0600
TZOFFSETTO:-0500
TZNAME:CDT
DTSTART:19700308T020000
RRULE:FREQ=YEARLY;BYMONTH=3;BYDAY=2SU
END:DAYLIGHT
BEGIN:STANDARD
TZOFFSETFROM:-0500
TZOFFSETTO:-0600
TZNAME:CST
DTSTART:19701101T020000
RRULE:FREQ=YEARLY;BYMONTH=11;BYDAY=1SU
END:STANDARD
END:VTIMEZONE
BEGIN:VEVENT
UID:bedell-601291@ygametime.com
DTSTAMP:20260418T140000Z
DTSTART;TZID=America/Chicago:20260418T090000
DURATION:PT0H60M0S
SUMMARY:Black vs Purple
DESCRIPTION:1st/2nd Girls Soccer | Spring Youth Soccer\nBedell Family YMCA\n
URL;VALUE=URI:https://ygametime.com/branch/bedell/sports/2026-spring-spring-youth-soccer/25874/?utm_medium=calendar&utm_source=team_cal&utm_content=league_url#game-601291
LOCATION:U8 Soccer Field 1
BEGIN:VALARM
TRIGGER:-P2H
ACTION:DISPLAY
DESCRIPTION:Black vs Purple
END:VALARM
END:VEVENT
BEGIN:VEVENT
UID:bedell-601294@ygametime.com
DTSTAMP:20260425T150000Z
DTSTART;TZID=America/Chicago:20260425T100000
DURATION:PT0H60M0S
SUMMARY:Purple vs Hot Coral
DESCRIPTION:1st/2nd Girls Soccer | Spring Youth Soccer\nBedell Family YMCA\n
URL;VALUE=URI:https://ygametime.com/branch/bedell/sports/2026-spring-spring-youth-soccer/25874/?utm_medium=calendar&utm_source=team_cal&utm_content=league_url#game-601294
LOCATION:U8 Soccer Field 1
BEGIN:VALARM
TRIGGER:-P2H
ACTION:DISPLAY
DESCRIPTION:Purple vs Hot Coral
END:VALARM
END:VEVENT
BEGIN:VEVENT
UID:bedell-601295@ygametime.com
DTSTAMP:20260502T140000Z
DTSTART;TZID=America/Chicago:20260502T090000
DURATION:PT0H60M0S
SUMMARY:Carolina Blue vs Purple
DESCRIPTION:1st/2nd Girls Soccer | Spring Youth Soccer\nBedell Family YMCA\n
URL;VALUE=URI:https://ygametime.com/branch/bedell/sports/2026-spring-spring-youth-soccer/25874/?utm_medium=calendar&utm_source=team_cal&utm_content=league_url#game-601295
LOCATION:U8 Soccer Field 1
BEGIN:VALARM
TRIGGER:-P2H
ACTION:DISPLAY
DESCRIPTION:Carolina Blue vs Purple
END:VALARM
END:VEVENT
BEGIN:VEVENT
UID:bedell-601298@ygametime.com
DTSTAMP:20260509T150000Z
DTSTART;TZID=America/Chicago:20260509T100000
DURATION:PT0H60M0S
SUMMARY:Black vs Purple
DESCRIPTION:1st/2nd Girls Soccer | Spring Youth Soccer\nBedell Family YMCA\n
URL;VALUE=URI:https://ygametime.com/branch/bedell/sports/2026-spring-spring-youth-soccer/25874/?utm_medium=calendar&utm_source=team_cal&utm_content=league_url#game-601298
LOCATION:U8 Soccer Field 1
BEGIN:VALARM
TRIGGER:-P2H
ACTION:DISPLAY
DESCRIPTION:Black vs Purple
END:VALARM
END:VEVENT
BEGIN:VEVENT
UID:bedell-601299@ygametime.com
DTSTAMP:20260516T140000Z
DTSTART;TZID=America/Chicago:20260516T090000
DURATION:PT0H60M0S
SUMMARY:Purple vs Hot Coral
DESCRIPTION:1st/2nd Girls Soccer | Spring Youth Soccer\nBedell Family YMCA\n
URL;VALUE=URI:https://ygametime.com/branch/bedell/sports/2026-spring-spring-youth-soccer/25874/?utm_medium=calendar&utm_source=team_cal&utm_content=league_url#game-601299
LOCATION:U8 Soccer Field 1
BEGIN:VALARM
TRIGGER:-P2H
ACTION:DISPLAY
DESCRIPTION:Purple vs Hot Coral
END:VALARM
END:VEVENT
BEGIN:VEVENT
UID:bedell-601302@ygametime.com
DTSTAMP:20260523T150000Z
DTSTART;TZID=America/Chicago:20260523T100000
DURATION:PT0H60M0S
SUMMARY:Carolina Blue vs Purple
DESCRIPTION:1st/2nd Girls Soccer | Spring Youth Soccer\nBedell Family YMCA\n
URL;VALUE=URI:https://ygametime.com/branch/bedell/sports/2026-spring-spring-youth-soccer/25874/?utm_medium=calendar&utm_source=team_cal&utm_content=league_url#game-601302
LOCATION:U8 Soccer Field 1
BEGIN:VALARM
TRIGGER:-P2H
ACTION:DISPLAY
DESCRIPTION:Carolina Blue vs Purple
END:VALARM
END:VEVENT
END:VCALENDAR

