BEGIN:VCALENDAR
VERSION:2.0
PRODID:-//YGAMETIME.com//YGT iCal Creator//EN
METHOD:PUBLISH
X-PUBLISHED-TTL:PT6H
REFRESH-INTERVAL;VALUE=DURATION:PT6H
CALSCALE:GREGORIAN
X-WR-CALNAME:YGAMETIME CALENDAR
BEGIN:VTIMEZONE
TZID:America/Chicago
X-LIC-LOCATION:America/Chicago
BEGIN:DAYLIGHT
TZOFFSETFROM:-0600
TZOFFSETTO:-0500
TZNAME:CDT
DTSTART:19700308T020000
RRULE:FREQ=YEARLY;BYMONTH=3;BYDAY=2SU
END:DAYLIGHT
BEGIN:STANDARD
TZOFFSETFROM:-0500
TZOFFSETTO:-0600
TZNAME:CST
DTSTART:19701101T020000
RRULE:FREQ=YEARLY;BYMONTH=11;BYDAY=1SU
END:STANDARD
END:VTIMEZONE
BEGIN:VEVENT
UID:bedell-601274@ygametime.com
DTSTAMP:20260418T160000Z
DTSTART;TZID=America/Chicago:20260418T110000
DURATION:PT0H60M0S
SUMMARY:True Red vs Atomic Blue
DESCRIPTION:1st/2nd Boys Soccer | Spring Youth Soccer\nBedell Family YMCA\n
URL;VALUE=URI:https://ygametime.com/branch/bedell/sports/2026-spring-spring-youth-soccer/25873/?utm_medium=calendar&utm_source=team_cal&utm_content=league_url#game-601274
LOCATION:U8 Soccer Field 2
BEGIN:VALARM
TRIGGER:-P2H
ACTION:DISPLAY
DESCRIPTION:True Red vs Atomic Blue
END:VALARM
END:VEVENT
BEGIN:VEVENT
UID:bedell-601278@ygametime.com
DTSTAMP:20260425T140000Z
DTSTART;TZID=America/Chicago:20260425T090000
DURATION:PT0H60M0S
SUMMARY:Kelly Green vs True Red
DESCRIPTION:1st/2nd Boys Soccer | Spring Youth Soccer\nBedell Family YMCA\n
URL;VALUE=URI:https://ygametime.com/branch/bedell/sports/2026-spring-spring-youth-soccer/25873/?utm_medium=calendar&utm_source=team_cal&utm_content=league_url#game-601278
LOCATION:U8 Soccer Field 2
BEGIN:VALARM
TRIGGER:-P2H
ACTION:DISPLAY
DESCRIPTION:Kelly Green vs True Red
END:VALARM
END:VEVENT
BEGIN:VEVENT
UID:bedell-601281@ygametime.com
DTSTAMP:20260502T150000Z
DTSTART;TZID=America/Chicago:20260502T100000
DURATION:PT0H60M0S
SUMMARY:Black vs True Red
DESCRIPTION:1st/2nd Boys Soccer | Spring Youth Soccer\nBedell Family YMCA\n
URL;VALUE=URI:https://ygametime.com/branch/bedell/sports/2026-spring-spring-youth-soccer/25873/?utm_medium=calendar&utm_source=team_cal&utm_content=league_url#game-601281
LOCATION:U8 Soccer Field 2
BEGIN:VALARM
TRIGGER:-P2H
ACTION:DISPLAY
DESCRIPTION:Black vs True Red
END:VALARM
END:VEVENT
BEGIN:VEVENT
UID:bedell-601284@ygametime.com
DTSTAMP:20260509T140000Z
DTSTART;TZID=America/Chicago:20260509T090000
DURATION:PT0H60M0S
SUMMARY:True Red vs Deep Orange
DESCRIPTION:1st/2nd Boys Soccer | Spring Youth Soccer\nBedell Family YMCA\n
URL;VALUE=URI:https://ygametime.com/branch/bedell/sports/2026-spring-spring-youth-soccer/25873/?utm_medium=calendar&utm_source=team_cal&utm_content=league_url#game-601284
LOCATION:U8 Soccer Field 2
BEGIN:VALARM
TRIGGER:-P2H
ACTION:DISPLAY
DESCRIPTION:True Red vs Deep Orange
END:VALARM
END:VEVENT
BEGIN:VEVENT
UID:bedell-601286@ygametime.com
DTSTAMP:20260516T150000Z
DTSTART;TZID=America/Chicago:20260516T100000
DURATION:PT0H60M0S
SUMMARY:Silver vs True Red
DESCRIPTION:1st/2nd Boys Soccer | Spring Youth Soccer\nBedell Family YMCA\n
URL;VALUE=URI:https://ygametime.com/branch/bedell/sports/2026-spring-spring-youth-soccer/25873/?utm_medium=calendar&utm_source=team_cal&utm_content=league_url#game-601286
LOCATION:U8 Soccer Field 2
BEGIN:VALARM
TRIGGER:-P2H
ACTION:DISPLAY
DESCRIPTION:Silver vs True Red
END:VALARM
END:VEVENT
BEGIN:VEVENT
UID:bedell-601290@ygametime.com
DTSTAMP:20260523T130000Z
DTSTART;TZID=America/Chicago:20260523T080000
DURATION:PT0H60M0S
SUMMARY:True Red vs Atomic Blue
DESCRIPTION:1st/2nd Boys Soccer | Spring Youth Soccer\nBedell Family YMCA\n
URL;VALUE=URI:https://ygametime.com/branch/bedell/sports/2026-spring-spring-youth-soccer/25873/?utm_medium=calendar&utm_source=team_cal&utm_content=league_url#game-601290
LOCATION:U8 Soccer Field 2
BEGIN:VALARM
TRIGGER:-P2H
ACTION:DISPLAY
DESCRIPTION:True Red vs Atomic Blue
END:VALARM
END:VEVENT
END:VCALENDAR

