BEGIN:VCALENDAR
VERSION:2.0
PRODID:-//YGAMETIME.com//YGT iCal Creator//EN
METHOD:PUBLISH
X-PUBLISHED-TTL:PT6H
REFRESH-INTERVAL;VALUE=DURATION:PT6H
CALSCALE:GREGORIAN
X-WR-CALNAME:YGAMETIME CALENDAR
BEGIN:VTIMEZONE
TZID:America/Chicago
X-LIC-LOCATION:America/Chicago
BEGIN:DAYLIGHT
TZOFFSETFROM:-0600
TZOFFSETTO:-0500
TZNAME:CDT
DTSTART:19700308T020000
RRULE:FREQ=YEARLY;BYMONTH=3;BYDAY=2SU
END:DAYLIGHT
BEGIN:STANDARD
TZOFFSETFROM:-0500
TZOFFSETTO:-0600
TZNAME:CST
DTSTART:19701101T020000
RRULE:FREQ=YEARLY;BYMONTH=11;BYDAY=1SU
END:STANDARD
END:VTIMEZONE
BEGIN:VEVENT
UID:bedell-601361@ygametime.com
DTSTAMP:20260418T150000Z
DTSTART;TZID=America/Chicago:20260418T100000
DURATION:PT0H60M0S
SUMMARY:Kelly Green vs Hot Coral
DESCRIPTION:3rd/4th Girls Soccer | Spring Youth Soccer\nBedell Family YMCA\n
URL;VALUE=URI:https://ygametime.com/branch/bedell/sports/2026-spring-spring-youth-soccer/25876/?utm_medium=calendar&utm_source=team_cal&utm_content=league_url#game-601361
LOCATION:U10 Soccer Field 2
BEGIN:VALARM
TRIGGER:-P2H
ACTION:DISPLAY
DESCRIPTION:Kelly Green vs Hot Coral
END:VALARM
END:VEVENT
BEGIN:VEVENT
UID:bedell-601362@ygametime.com
DTSTAMP:20260425T130000Z
DTSTART;TZID=America/Chicago:20260425T080000
DURATION:PT0H60M0S
SUMMARY:Hot Coral vs Kelly Green
DESCRIPTION:3rd/4th Girls Soccer | Spring Youth Soccer\nBedell Family YMCA\n
URL;VALUE=URI:https://ygametime.com/branch/bedell/sports/2026-spring-spring-youth-soccer/25876/?utm_medium=calendar&utm_source=team_cal&utm_content=league_url#game-601362
LOCATION:U10 Soccer Field 2
BEGIN:VALARM
TRIGGER:-P2H
ACTION:DISPLAY
DESCRIPTION:Hot Coral vs Kelly Green
END:VALARM
END:VEVENT
BEGIN:VEVENT
UID:bedell-601363@ygametime.com
DTSTAMP:20260425T140000Z
DTSTART;TZID=America/Chicago:20260425T090000
DURATION:PT0H60M0S
SUMMARY:Purple vs Hot Coral
DESCRIPTION:3rd/4th Girls Soccer | Spring Youth Soccer\nBedell Family YMCA\n
URL;VALUE=URI:https://ygametime.com/branch/bedell/sports/2026-spring-spring-youth-soccer/25876/?utm_medium=calendar&utm_source=team_cal&utm_content=league_url#game-601363
LOCATION:U10 Soccer Field 2
BEGIN:VALARM
TRIGGER:-P2H
ACTION:DISPLAY
DESCRIPTION:Purple vs Hot Coral
END:VALARM
END:VEVENT
BEGIN:VEVENT
UID:bedell-601364@ygametime.com
DTSTAMP:20260502T130000Z
DTSTART;TZID=America/Chicago:20260502T080000
DURATION:PT0H60M0S
SUMMARY:Hot Coral vs Purple
DESCRIPTION:3rd/4th Girls Soccer | Spring Youth Soccer\nBedell Family YMCA\n
URL;VALUE=URI:https://ygametime.com/branch/bedell/sports/2026-spring-spring-youth-soccer/25876/?utm_medium=calendar&utm_source=team_cal&utm_content=league_url#game-601364
LOCATION:U10 Soccer Field 2
BEGIN:VALARM
TRIGGER:-P2H
ACTION:DISPLAY
DESCRIPTION:Hot Coral vs Purple
END:VALARM
END:VEVENT
BEGIN:VEVENT
UID:bedell-601366@ygametime.com
DTSTAMP:20260509T130000Z
DTSTART;TZID=America/Chicago:20260509T080000
DURATION:PT0H60M0S
SUMMARY:Kelly Green vs Hot Coral
DESCRIPTION:3rd/4th Girls Soccer | Spring Youth Soccer\nBedell Family YMCA\n
URL;VALUE=URI:https://ygametime.com/branch/bedell/sports/2026-spring-spring-youth-soccer/25876/?utm_medium=calendar&utm_source=team_cal&utm_content=league_url#game-601366
LOCATION:U10 Soccer Field 2
BEGIN:VALARM
TRIGGER:-P2H
ACTION:DISPLAY
DESCRIPTION:Kelly Green vs Hot Coral
END:VALARM
END:VEVENT
BEGIN:VEVENT
UID:bedell-601368@ygametime.com
DTSTAMP:20260516T130000Z
DTSTART;TZID=America/Chicago:20260516T080000
DURATION:PT0H60M0S
SUMMARY:Purple vs Hot Coral
DESCRIPTION:3rd/4th Girls Soccer | Spring Youth Soccer\nBedell Family YMCA\n
URL;VALUE=URI:https://ygametime.com/branch/bedell/sports/2026-spring-spring-youth-soccer/25876/?utm_medium=calendar&utm_source=team_cal&utm_content=league_url#game-601368
LOCATION:U10 Soccer Field 2
BEGIN:VALARM
TRIGGER:-P2H
ACTION:DISPLAY
DESCRIPTION:Purple vs Hot Coral
END:VALARM
END:VEVENT
BEGIN:VEVENT
UID:bedell-601369@ygametime.com
DTSTAMP:20260516T140000Z
DTSTART;TZID=America/Chicago:20260516T090000
DURATION:PT0H60M0S
SUMMARY:Hot Coral vs Kelly Green
DESCRIPTION:3rd/4th Girls Soccer | Spring Youth Soccer\nBedell Family YMCA\n
URL;VALUE=URI:https://ygametime.com/branch/bedell/sports/2026-spring-spring-youth-soccer/25876/?utm_medium=calendar&utm_source=team_cal&utm_content=league_url#game-601369
LOCATION:U10 Soccer Field 2
BEGIN:VALARM
TRIGGER:-P2H
ACTION:DISPLAY
DESCRIPTION:Hot Coral vs Kelly Green
END:VALARM
END:VEVENT
BEGIN:VEVENT
UID:bedell-601371@ygametime.com
DTSTAMP:20260523T140000Z
DTSTART;TZID=America/Chicago:20260523T090000
DURATION:PT0H60M0S
SUMMARY:Hot Coral vs Purple
DESCRIPTION:3rd/4th Girls Soccer | Spring Youth Soccer\nBedell Family YMCA\n
URL;VALUE=URI:https://ygametime.com/branch/bedell/sports/2026-spring-spring-youth-soccer/25876/?utm_medium=calendar&utm_source=team_cal&utm_content=league_url#game-601371
LOCATION:U10 Soccer Field 2
BEGIN:VALARM
TRIGGER:-P2H
ACTION:DISPLAY
DESCRIPTION:Hot Coral vs Purple
END:VALARM
END:VEVENT
END:VCALENDAR

