BEGIN:VCALENDAR
VERSION:2.0
PRODID:-//YGAMETIME.com//YGT iCal Creator//EN
METHOD:PUBLISH
X-PUBLISHED-TTL:PT6H
REFRESH-INTERVAL;VALUE=DURATION:PT6H
CALSCALE:GREGORIAN
X-WR-CALNAME:YGAMETIME CALENDAR
BEGIN:VTIMEZONE
TZID:America/Chicago
X-LIC-LOCATION:America/Chicago
BEGIN:DAYLIGHT
TZOFFSETFROM:-0600
TZOFFSETTO:-0500
TZNAME:CDT
DTSTART:19700308T020000
RRULE:FREQ=YEARLY;BYMONTH=3;BYDAY=2SU
END:DAYLIGHT
BEGIN:STANDARD
TZOFFSETFROM:-0500
TZOFFSETTO:-0600
TZNAME:CST
DTSTART:19701101T020000
RRULE:FREQ=YEARLY;BYMONTH=11;BYDAY=1SU
END:STANDARD
END:VTIMEZONE
BEGIN:VEVENT
UID:brentwood-596507@ygametime.com
DTSTAMP:20260328T183000Z
DTSTART;TZID=America/Chicago:20260328T133000
DURATION:PT0H60M0S
SUMMARY:Gadke - Browns vs Kohli - Eagles
DESCRIPTION:1st-2nd Grade | Flag Football\nBrentwood Family YMCA\n
URL;VALUE=URI:https://ygametime.com/branch/brentwood/sports/2026-spring-flag-football/25618/?utm_medium=calendar&utm_source=team_cal&utm_content=league_url#game-596507
LOCATION:Flagpole Park Field 1A
BEGIN:VALARM
TRIGGER:-P2H
ACTION:DISPLAY
DESCRIPTION:Gadke - Browns vs Kohli - Eagles
END:VALARM
END:VEVENT
BEGIN:VEVENT
UID:brentwood-596514@ygametime.com
DTSTAMP:20260404T183000Z
DTSTART;TZID=America/Chicago:20260404T133000
DURATION:PT0H60M0S
SUMMARY:Kohli - Eagles vs Humes/ Wyatt - Bills
DESCRIPTION:1st-2nd Grade | Flag Football\nBrentwood Family YMCA\n
URL;VALUE=URI:https://ygametime.com/branch/brentwood/sports/2026-spring-flag-football/25618/?utm_medium=calendar&utm_source=team_cal&utm_content=league_url#game-596514
LOCATION:Flagpole Park Field 2B
BEGIN:VALARM
TRIGGER:-P2H
ACTION:DISPLAY
DESCRIPTION:Kohli - Eagles vs Humes/ Wyatt - Bills
END:VALARM
END:VEVENT
BEGIN:VEVENT
UID:brentwood-596517@ygametime.com
DTSTAMP:20260411T203000Z
DTSTART;TZID=America/Chicago:20260411T153000
DURATION:PT0H60M0S
SUMMARY:Stone - Chiefs vs Kohli - Eagles
DESCRIPTION:1st-2nd Grade | Flag Football\nBrentwood Family YMCA\n
URL;VALUE=URI:https://ygametime.com/branch/brentwood/sports/2026-spring-flag-football/25618/?utm_medium=calendar&utm_source=team_cal&utm_content=league_url#game-596517
LOCATION:Flagpole Park Field 1A
BEGIN:VALARM
TRIGGER:-P2H
ACTION:DISPLAY
DESCRIPTION:Stone - Chiefs vs Kohli - Eagles
END:VALARM
END:VEVENT
BEGIN:VEVENT
UID:brentwood-596520@ygametime.com
DTSTAMP:20260418T203000Z
DTSTART;TZID=America/Chicago:20260418T153000
DURATION:PT0H60M0S
SUMMARY:Kohli - Eagles vs McCall - Titans 
DESCRIPTION:1st-2nd Grade | Flag Football\nBrentwood Family YMCA\n
URL;VALUE=URI:https://ygametime.com/branch/brentwood/sports/2026-spring-flag-football/25618/?utm_medium=calendar&utm_source=team_cal&utm_content=league_url#game-596520
LOCATION:Flagpole Park Field 1A
BEGIN:VALARM
TRIGGER:-P2H
ACTION:DISPLAY
DESCRIPTION:Kohli - Eagles vs McCall - Titans 
END:VALARM
END:VEVENT
BEGIN:VEVENT
UID:brentwood-596523@ygametime.com
DTSTAMP:20260425T193000Z
DTSTART;TZID=America/Chicago:20260425T143000
DURATION:PT0H60M0S
SUMMARY:Perry - Seahawks vs Kohli - Eagles
DESCRIPTION:1st-2nd Grade | Flag Football\nBrentwood Family YMCA\n
URL;VALUE=URI:https://ygametime.com/branch/brentwood/sports/2026-spring-flag-football/25618/?utm_medium=calendar&utm_source=team_cal&utm_content=league_url#game-596523
LOCATION:Flagpole Park Field 1A
BEGIN:VALARM
TRIGGER:-P2H
ACTION:DISPLAY
DESCRIPTION:Perry - Seahawks vs Kohli - Eagles
END:VALARM
END:VEVENT
BEGIN:VEVENT
UID:brentwood-596530@ygametime.com
DTSTAMP:20260502T183000Z
DTSTART;TZID=America/Chicago:20260502T133000
DURATION:PT0H60M0S
SUMMARY:Kohli - Eagles vs Wilson - Rams
DESCRIPTION:1st-2nd Grade | Flag Football\nBrentwood Family YMCA\n
URL;VALUE=URI:https://ygametime.com/branch/brentwood/sports/2026-spring-flag-football/25618/?utm_medium=calendar&utm_source=team_cal&utm_content=league_url#game-596530
LOCATION:Flagpole Park Field 2B
BEGIN:VALARM
TRIGGER:-P2H
ACTION:DISPLAY
DESCRIPTION:Kohli - Eagles vs Wilson - Rams
END:VALARM
END:VEVENT
BEGIN:VEVENT
UID:brentwood-596533@ygametime.com
DTSTAMP:20260509T203000Z
DTSTART;TZID=America/Chicago:20260509T153000
DURATION:PT0H60M0S
SUMMARY:Delvizis - Falcons vs Kohli - Eagles
DESCRIPTION:1st-2nd Grade | Flag Football\nBrentwood Family YMCA\n
URL;VALUE=URI:https://ygametime.com/branch/brentwood/sports/2026-spring-flag-football/25618/?utm_medium=calendar&utm_source=team_cal&utm_content=league_url#game-596533
LOCATION:Flagpole Park Field 1A
BEGIN:VALARM
TRIGGER:-P2H
ACTION:DISPLAY
DESCRIPTION:Delvizis - Falcons vs Kohli - Eagles
END:VALARM
END:VEVENT
END:VCALENDAR

