BEGIN:VCALENDAR
VERSION:2.0
PRODID:-//YGAMETIME.com//YGT iCal Creator//EN
METHOD:PUBLISH
X-PUBLISHED-TTL:PT6H
REFRESH-INTERVAL;VALUE=DURATION:PT6H
CALSCALE:GREGORIAN
X-WR-CALNAME:YGAMETIME CALENDAR
BEGIN:VTIMEZONE
TZID:America/Chicago
X-LIC-LOCATION:America/Chicago
BEGIN:DAYLIGHT
TZOFFSETFROM:-0600
TZOFFSETTO:-0500
TZNAME:CDT
DTSTART:19700308T020000
RRULE:FREQ=YEARLY;BYMONTH=3;BYDAY=2SU
END:DAYLIGHT
BEGIN:STANDARD
TZOFFSETFROM:-0500
TZOFFSETTO:-0600
TZNAME:CST
DTSTART:19701101T020000
RRULE:FREQ=YEARLY;BYMONTH=11;BYDAY=1SU
END:STANDARD
END:VTIMEZONE
BEGIN:VEVENT
UID:brentwood-596508@ygametime.com
DTSTAMP:20260328T183000Z
DTSTART;TZID=America/Chicago:20260328T133000
DURATION:PT0H60M0S
SUMMARY:Humes/ Wyatt - Bills vs Delvizis - Falcons
DESCRIPTION:1st-2nd Grade | Flag Football\nBrentwood Family YMCA\n
URL;VALUE=URI:https://ygametime.com/branch/brentwood/sports/2026-spring-flag-football/25618/?utm_medium=calendar&utm_source=team_cal&utm_content=league_url#game-596508
LOCATION:Flagpole Park Field 2B
BEGIN:VALARM
TRIGGER:-P2H
ACTION:DISPLAY
DESCRIPTION:Humes/ Wyatt - Bills vs Delvizis - Falcons
END:VALARM
END:VEVENT
BEGIN:VEVENT
UID:brentwood-596512@ygametime.com
DTSTAMP:20260404T203000Z
DTSTART;TZID=America/Chicago:20260404T153000
DURATION:PT0H60M0S
SUMMARY:Delvizis - Falcons vs McCall - Titans 
DESCRIPTION:1st-2nd Grade | Flag Football\nBrentwood Family YMCA\n
URL;VALUE=URI:https://ygametime.com/branch/brentwood/sports/2026-spring-flag-football/25618/?utm_medium=calendar&utm_source=team_cal&utm_content=league_url#game-596512
LOCATION:Flagpole Park Field 1A
BEGIN:VALARM
TRIGGER:-P2H
ACTION:DISPLAY
DESCRIPTION:Delvizis - Falcons vs McCall - Titans 
END:VALARM
END:VEVENT
BEGIN:VEVENT
UID:brentwood-596516@ygametime.com
DTSTAMP:20260411T183000Z
DTSTART;TZID=America/Chicago:20260411T133000
DURATION:PT0H60M0S
SUMMARY:Wilson - Rams vs Delvizis - Falcons
DESCRIPTION:1st-2nd Grade | Flag Football\nBrentwood Family YMCA\n
URL;VALUE=URI:https://ygametime.com/branch/brentwood/sports/2026-spring-flag-football/25618/?utm_medium=calendar&utm_source=team_cal&utm_content=league_url#game-596516
LOCATION:Flagpole Park Field 1A
BEGIN:VALARM
TRIGGER:-P2H
ACTION:DISPLAY
DESCRIPTION:Wilson - Rams vs Delvizis - Falcons
END:VALARM
END:VEVENT
BEGIN:VEVENT
UID:brentwood-596519@ygametime.com
DTSTAMP:20260418T183000Z
DTSTART;TZID=America/Chicago:20260418T133000
DURATION:PT0H60M0S
SUMMARY:Delvizis - Falcons vs Gadke - Browns
DESCRIPTION:1st-2nd Grade | Flag Football\nBrentwood Family YMCA\n
URL;VALUE=URI:https://ygametime.com/branch/brentwood/sports/2026-spring-flag-football/25618/?utm_medium=calendar&utm_source=team_cal&utm_content=league_url#game-596519
LOCATION:Flagpole Park Field 1A
BEGIN:VALARM
TRIGGER:-P2H
ACTION:DISPLAY
DESCRIPTION:Delvizis - Falcons vs Gadke - Browns
END:VALARM
END:VEVENT
BEGIN:VEVENT
UID:brentwood-596525@ygametime.com
DTSTAMP:20260425T203000Z
DTSTART;TZID=America/Chicago:20260425T153000
DURATION:PT0H60M0S
SUMMARY:Stone - Chiefs vs Delvizis - Falcons
DESCRIPTION:1st-2nd Grade | Flag Football\nBrentwood Family YMCA\n
URL;VALUE=URI:https://ygametime.com/branch/brentwood/sports/2026-spring-flag-football/25618/?utm_medium=calendar&utm_source=team_cal&utm_content=league_url#game-596525
LOCATION:Flagpole Park Field 1A
BEGIN:VALARM
TRIGGER:-P2H
ACTION:DISPLAY
DESCRIPTION:Stone - Chiefs vs Delvizis - Falcons
END:VALARM
END:VEVENT
BEGIN:VEVENT
UID:brentwood-596527@ygametime.com
DTSTAMP:20260502T193000Z
DTSTART;TZID=America/Chicago:20260502T143000
DURATION:PT0H60M0S
SUMMARY:Delvizis - Falcons vs Perry - Seahawks
DESCRIPTION:1st-2nd Grade | Flag Football\nBrentwood Family YMCA\n
URL;VALUE=URI:https://ygametime.com/branch/brentwood/sports/2026-spring-flag-football/25618/?utm_medium=calendar&utm_source=team_cal&utm_content=league_url#game-596527
LOCATION:Flagpole Park Field 1A
BEGIN:VALARM
TRIGGER:-P2H
ACTION:DISPLAY
DESCRIPTION:Delvizis - Falcons vs Perry - Seahawks
END:VALARM
END:VEVENT
BEGIN:VEVENT
UID:brentwood-596533@ygametime.com
DTSTAMP:20260509T203000Z
DTSTART;TZID=America/Chicago:20260509T153000
DURATION:PT0H60M0S
SUMMARY:Delvizis - Falcons vs Kohli - Eagles
DESCRIPTION:1st-2nd Grade | Flag Football\nBrentwood Family YMCA\n
URL;VALUE=URI:https://ygametime.com/branch/brentwood/sports/2026-spring-flag-football/25618/?utm_medium=calendar&utm_source=team_cal&utm_content=league_url#game-596533
LOCATION:Flagpole Park Field 1A
BEGIN:VALARM
TRIGGER:-P2H
ACTION:DISPLAY
DESCRIPTION:Delvizis - Falcons vs Kohli - Eagles
END:VALARM
END:VEVENT
END:VCALENDAR

