BEGIN:VCALENDAR
VERSION:2.0
PRODID:-//YGAMETIME.com//YGT iCal Creator//EN
METHOD:PUBLISH
X-PUBLISHED-TTL:PT6H
REFRESH-INTERVAL;VALUE=DURATION:PT6H
CALSCALE:GREGORIAN
X-WR-CALNAME:YGAMETIME CALENDAR
BEGIN:VTIMEZONE
TZID:America/Chicago
X-LIC-LOCATION:America/Chicago
BEGIN:DAYLIGHT
TZOFFSETFROM:-0600
TZOFFSETTO:-0500
TZNAME:CDT
DTSTART:19700308T020000
RRULE:FREQ=YEARLY;BYMONTH=3;BYDAY=2SU
END:DAYLIGHT
BEGIN:STANDARD
TZOFFSETFROM:-0500
TZOFFSETTO:-0600
TZNAME:CST
DTSTART:19701101T020000
RRULE:FREQ=YEARLY;BYMONTH=11;BYDAY=1SU
END:STANDARD
END:VTIMEZONE
BEGIN:VEVENT
UID:brentwood-596510@ygametime.com
DTSTAMP:20260328T193000Z
DTSTART;TZID=America/Chicago:20260328T143000
DURATION:PT0H60M0S
SUMMARY:McCall - Titans  vs Perry - Seahawks
DESCRIPTION:1st-2nd Grade | Flag Football\nBrentwood Family YMCA\n
URL;VALUE=URI:https://ygametime.com/branch/brentwood/sports/2026-spring-flag-football/25618/?utm_medium=calendar&utm_source=team_cal&utm_content=league_url#game-596510
LOCATION:Flagpole Park Field 1A
BEGIN:VALARM
TRIGGER:-P2H
ACTION:DISPLAY
DESCRIPTION:McCall - Titans  vs Perry - Seahawks
END:VALARM
END:VEVENT
BEGIN:VEVENT
UID:brentwood-596513@ygametime.com
DTSTAMP:20260404T193000Z
DTSTART;TZID=America/Chicago:20260404T143000
DURATION:PT0H60M0S
SUMMARY:Perry - Seahawks vs Wilson - Rams
DESCRIPTION:1st-2nd Grade | Flag Football\nBrentwood Family YMCA\n
URL;VALUE=URI:https://ygametime.com/branch/brentwood/sports/2026-spring-flag-football/25618/?utm_medium=calendar&utm_source=team_cal&utm_content=league_url#game-596513
LOCATION:Flagpole Park Field 1A
BEGIN:VALARM
TRIGGER:-P2H
ACTION:DISPLAY
DESCRIPTION:Perry - Seahawks vs Wilson - Rams
END:VALARM
END:VEVENT
BEGIN:VEVENT
UID:brentwood-596515@ygametime.com
DTSTAMP:20260411T193000Z
DTSTART;TZID=America/Chicago:20260411T143000
DURATION:PT0H60M0S
SUMMARY:Gadke - Browns vs Perry - Seahawks
DESCRIPTION:1st-2nd Grade | Flag Football\nBrentwood Family YMCA\n
URL;VALUE=URI:https://ygametime.com/branch/brentwood/sports/2026-spring-flag-football/25618/?utm_medium=calendar&utm_source=team_cal&utm_content=league_url#game-596515
LOCATION:Flagpole Park Field 1A
BEGIN:VALARM
TRIGGER:-P2H
ACTION:DISPLAY
DESCRIPTION:Gadke - Browns vs Perry - Seahawks
END:VALARM
END:VEVENT
BEGIN:VEVENT
UID:brentwood-596521@ygametime.com
DTSTAMP:20260418T193000Z
DTSTART;TZID=America/Chicago:20260418T143000
DURATION:PT0H60M0S
SUMMARY:Perry - Seahawks vs Stone - Chiefs
DESCRIPTION:1st-2nd Grade | Flag Football\nBrentwood Family YMCA\n
URL;VALUE=URI:https://ygametime.com/branch/brentwood/sports/2026-spring-flag-football/25618/?utm_medium=calendar&utm_source=team_cal&utm_content=league_url#game-596521
LOCATION:Flagpole Park Field 1A
BEGIN:VALARM
TRIGGER:-P2H
ACTION:DISPLAY
DESCRIPTION:Perry - Seahawks vs Stone - Chiefs
END:VALARM
END:VEVENT
BEGIN:VEVENT
UID:brentwood-596523@ygametime.com
DTSTAMP:20260425T193000Z
DTSTART;TZID=America/Chicago:20260425T143000
DURATION:PT0H60M0S
SUMMARY:Perry - Seahawks vs Kohli - Eagles
DESCRIPTION:1st-2nd Grade | Flag Football\nBrentwood Family YMCA\n
URL;VALUE=URI:https://ygametime.com/branch/brentwood/sports/2026-spring-flag-football/25618/?utm_medium=calendar&utm_source=team_cal&utm_content=league_url#game-596523
LOCATION:Flagpole Park Field 1A
BEGIN:VALARM
TRIGGER:-P2H
ACTION:DISPLAY
DESCRIPTION:Perry - Seahawks vs Kohli - Eagles
END:VALARM
END:VEVENT
BEGIN:VEVENT
UID:brentwood-596527@ygametime.com
DTSTAMP:20260502T193000Z
DTSTART;TZID=America/Chicago:20260502T143000
DURATION:PT0H60M0S
SUMMARY:Delvizis - Falcons vs Perry - Seahawks
DESCRIPTION:1st-2nd Grade | Flag Football\nBrentwood Family YMCA\n
URL;VALUE=URI:https://ygametime.com/branch/brentwood/sports/2026-spring-flag-football/25618/?utm_medium=calendar&utm_source=team_cal&utm_content=league_url#game-596527
LOCATION:Flagpole Park Field 1A
BEGIN:VALARM
TRIGGER:-P2H
ACTION:DISPLAY
DESCRIPTION:Delvizis - Falcons vs Perry - Seahawks
END:VALARM
END:VEVENT
BEGIN:VEVENT
UID:brentwood-596531@ygametime.com
DTSTAMP:20260509T193000Z
DTSTART;TZID=America/Chicago:20260509T143000
DURATION:PT0H60M0S
SUMMARY:Perry - Seahawks vs Humes/ Wyatt - Bills
DESCRIPTION:1st-2nd Grade | Flag Football\nBrentwood Family YMCA\n
URL;VALUE=URI:https://ygametime.com/branch/brentwood/sports/2026-spring-flag-football/25618/?utm_medium=calendar&utm_source=team_cal&utm_content=league_url#game-596531
LOCATION:Flagpole Park Field 1A
BEGIN:VALARM
TRIGGER:-P2H
ACTION:DISPLAY
DESCRIPTION:Perry - Seahawks vs Humes/ Wyatt - Bills
END:VALARM
END:VEVENT
END:VCALENDAR

