BEGIN:VCALENDAR
VERSION:2.0
PRODID:-//YGAMETIME.com//YGT iCal Creator//EN
METHOD:PUBLISH
X-PUBLISHED-TTL:PT6H
REFRESH-INTERVAL;VALUE=DURATION:PT6H
CALSCALE:GREGORIAN
X-WR-CALNAME:YGAMETIME CALENDAR
BEGIN:VTIMEZONE
TZID:America/Chicago
X-LIC-LOCATION:America/Chicago
BEGIN:DAYLIGHT
TZOFFSETFROM:-0600
TZOFFSETTO:-0500
TZNAME:CDT
DTSTART:19700308T020000
RRULE:FREQ=YEARLY;BYMONTH=3;BYDAY=2SU
END:DAYLIGHT
BEGIN:STANDARD
TZOFFSETFROM:-0500
TZOFFSETTO:-0600
TZNAME:CST
DTSTART:19701101T020000
RRULE:FREQ=YEARLY;BYMONTH=11;BYDAY=1SU
END:STANDARD
END:VTIMEZONE
BEGIN:VEVENT
UID:brentwood-596565@ygametime.com
DTSTAMP:20260328T183000Z
DTSTART;TZID=America/Chicago:20260328T133000
DURATION:PT0H60M0S
SUMMARY:Davis - Titans vs Johnson - Ravens
DESCRIPTION:3rd-4th Grade | Flag Football\nBrentwood Family YMCA\n
URL;VALUE=URI:https://ygametime.com/branch/brentwood/sports/2026-spring-flag-football/25619/?utm_medium=calendar&utm_source=team_cal&utm_content=league_url#game-596565
LOCATION:Flagpole Park Field 2A
BEGIN:VALARM
TRIGGER:-P2H
ACTION:DISPLAY
DESCRIPTION:Davis - Titans vs Johnson - Ravens
END:VALARM
END:VEVENT
BEGIN:VEVENT
UID:brentwood-596574@ygametime.com
DTSTAMP:20260404T193000Z
DTSTART;TZID=America/Chicago:20260404T143000
DURATION:PT0H60M0S
SUMMARY:Johnson - Ravens vs Jacobs - Panthers
DESCRIPTION:3rd-4th Grade | Flag Football\nBrentwood Family YMCA\n
URL;VALUE=URI:https://ygametime.com/branch/brentwood/sports/2026-spring-flag-football/25619/?utm_medium=calendar&utm_source=team_cal&utm_content=league_url#game-596574
LOCATION:Flagpole Park Field 2B
BEGIN:VALARM
TRIGGER:-P2H
ACTION:DISPLAY
DESCRIPTION:Johnson - Ravens vs Jacobs - Panthers
END:VALARM
END:VEVENT
BEGIN:VEVENT
UID:brentwood-596578@ygametime.com
DTSTAMP:20260411T193000Z
DTSTART;TZID=America/Chicago:20260411T143000
DURATION:PT0H60M0S
SUMMARY:Murphree - Bills vs Johnson - Ravens
DESCRIPTION:3rd-4th Grade | Flag Football\nBrentwood Family YMCA\n
URL;VALUE=URI:https://ygametime.com/branch/brentwood/sports/2026-spring-flag-football/25619/?utm_medium=calendar&utm_source=team_cal&utm_content=league_url#game-596578
LOCATION:Flagpole Park Field 2A
BEGIN:VALARM
TRIGGER:-P2H
ACTION:DISPLAY
DESCRIPTION:Murphree - Bills vs Johnson - Ravens
END:VALARM
END:VEVENT
BEGIN:VEVENT
UID:brentwood-596582@ygametime.com
DTSTAMP:20260418T203000Z
DTSTART;TZID=America/Chicago:20260418T153000
DURATION:PT0H60M0S
SUMMARY:Johnson - Ravens vs DeVore - Raiders
DESCRIPTION:3rd-4th Grade | Flag Football\nBrentwood Family YMCA\n
URL;VALUE=URI:https://ygametime.com/branch/brentwood/sports/2026-spring-flag-football/25619/?utm_medium=calendar&utm_source=team_cal&utm_content=league_url#game-596582
LOCATION:Flagpole Park Field 2A
BEGIN:VALARM
TRIGGER:-P2H
ACTION:DISPLAY
DESCRIPTION:Johnson - Ravens vs DeVore - Raiders
END:VALARM
END:VEVENT
BEGIN:VEVENT
UID:brentwood-596586@ygametime.com
DTSTAMP:20260425T203000Z
DTSTART;TZID=America/Chicago:20260425T153000
DURATION:PT0H60M0S
SUMMARY:McKay - Commanders vs Johnson - Ravens
DESCRIPTION:3rd-4th Grade | Flag Football\nBrentwood Family YMCA\n
URL;VALUE=URI:https://ygametime.com/branch/brentwood/sports/2026-spring-flag-football/25619/?utm_medium=calendar&utm_source=team_cal&utm_content=league_url#game-596586
LOCATION:Flagpole Park Field 2A
BEGIN:VALARM
TRIGGER:-P2H
ACTION:DISPLAY
DESCRIPTION:McKay - Commanders vs Johnson - Ravens
END:VALARM
END:VEVENT
BEGIN:VEVENT
UID:brentwood-596590@ygametime.com
DTSTAMP:20260502T213000Z
DTSTART;TZID=America/Chicago:20260502T163000
DURATION:PT0H60M0S
SUMMARY:Johnson - Ravens vs Shuford - Cowboys
DESCRIPTION:3rd-4th Grade | Flag Football\nBrentwood Family YMCA\n
URL;VALUE=URI:https://ygametime.com/branch/brentwood/sports/2026-spring-flag-football/25619/?utm_medium=calendar&utm_source=team_cal&utm_content=league_url#game-596590
LOCATION:Flagpole Park Field 2A
BEGIN:VALARM
TRIGGER:-P2H
ACTION:DISPLAY
DESCRIPTION:Johnson - Ravens vs Shuford - Cowboys
END:VALARM
END:VEVENT
BEGIN:VEVENT
UID:brentwood-596599@ygametime.com
DTSTAMP:20260509T213000Z
DTSTART;TZID=America/Chicago:20260509T163000
DURATION:PT0H60M0S
SUMMARY:Meyer - Packers vs Johnson - Ravens
DESCRIPTION:3rd-4th Grade | Flag Football\nBrentwood Family YMCA\n
URL;VALUE=URI:https://ygametime.com/branch/brentwood/sports/2026-spring-flag-football/25619/?utm_medium=calendar&utm_source=team_cal&utm_content=league_url#game-596599
LOCATION:Flagpole Park Field 2A
BEGIN:VALARM
TRIGGER:-P2H
ACTION:DISPLAY
DESCRIPTION:Meyer - Packers vs Johnson - Ravens
END:VALARM
END:VEVENT
END:VCALENDAR

