BEGIN:VCALENDAR
VERSION:2.0
PRODID:-//YGAMETIME.com//YGT iCal Creator//EN
METHOD:PUBLISH
X-PUBLISHED-TTL:PT6H
REFRESH-INTERVAL;VALUE=DURATION:PT6H
CALSCALE:GREGORIAN
X-WR-CALNAME:YGAMETIME CALENDAR
BEGIN:VTIMEZONE
TZID:America/Chicago
X-LIC-LOCATION:America/Chicago
BEGIN:DAYLIGHT
TZOFFSETFROM:-0600
TZOFFSETTO:-0500
TZNAME:CDT
DTSTART:19700308T020000
RRULE:FREQ=YEARLY;BYMONTH=3;BYDAY=2SU
END:DAYLIGHT
BEGIN:STANDARD
TZOFFSETFROM:-0500
TZOFFSETTO:-0600
TZNAME:CST
DTSTART:19701101T020000
RRULE:FREQ=YEARLY;BYMONTH=11;BYDAY=1SU
END:STANDARD
END:VTIMEZONE
BEGIN:VEVENT
UID:brentwood-596566@ygametime.com
DTSTAMP:20260328T193000Z
DTSTART;TZID=America/Chicago:20260328T143000
DURATION:PT0H60M0S
SUMMARY:Jacobs - Panthers vs Cochran - Seahawks
DESCRIPTION:3rd-4th Grade | Flag Football\nBrentwood Family YMCA\n
URL;VALUE=URI:https://ygametime.com/branch/brentwood/sports/2026-spring-flag-football/25619/?utm_medium=calendar&utm_source=team_cal&utm_content=league_url#game-596566
LOCATION:Flagpole Park Field 2B
BEGIN:VALARM
TRIGGER:-P2H
ACTION:DISPLAY
DESCRIPTION:Jacobs - Panthers vs Cochran - Seahawks
END:VALARM
END:VEVENT
BEGIN:VEVENT
UID:brentwood-596571@ygametime.com
DTSTAMP:20260404T203000Z
DTSTART;TZID=America/Chicago:20260404T153000
DURATION:PT0H60M0S
SUMMARY:Cochran - Seahawks vs DeVore - Raiders
DESCRIPTION:3rd-4th Grade | Flag Football\nBrentwood Family YMCA\n
URL;VALUE=URI:https://ygametime.com/branch/brentwood/sports/2026-spring-flag-football/25619/?utm_medium=calendar&utm_source=team_cal&utm_content=league_url#game-596571
LOCATION:Flagpole Park Field 2A
BEGIN:VALARM
TRIGGER:-P2H
ACTION:DISPLAY
DESCRIPTION:Cochran - Seahawks vs DeVore - Raiders
END:VALARM
END:VEVENT
BEGIN:VEVENT
UID:brentwood-596576@ygametime.com
DTSTAMP:20260411T213000Z
DTSTART;TZID=America/Chicago:20260411T163000
DURATION:PT0H60M0S
SUMMARY:Shuford - Cowboys vs Cochran - Seahawks
DESCRIPTION:3rd-4th Grade | Flag Football\nBrentwood Family YMCA\n
URL;VALUE=URI:https://ygametime.com/branch/brentwood/sports/2026-spring-flag-football/25619/?utm_medium=calendar&utm_source=team_cal&utm_content=league_url#game-596576
LOCATION:Flagpole Park Field 2A
BEGIN:VALARM
TRIGGER:-P2H
ACTION:DISPLAY
DESCRIPTION:Shuford - Cowboys vs Cochran - Seahawks
END:VALARM
END:VEVENT
BEGIN:VEVENT
UID:brentwood-596581@ygametime.com
DTSTAMP:20260418T183000Z
DTSTART;TZID=America/Chicago:20260418T133000
DURATION:PT0H60M0S
SUMMARY:Cochran - Seahawks vs Alexander - Steelers
DESCRIPTION:3rd-4th Grade | Flag Football\nBrentwood Family YMCA\n
URL;VALUE=URI:https://ygametime.com/branch/brentwood/sports/2026-spring-flag-football/25619/?utm_medium=calendar&utm_source=team_cal&utm_content=league_url#game-596581
LOCATION:Flagpole Park Field 2A
BEGIN:VALARM
TRIGGER:-P2H
ACTION:DISPLAY
DESCRIPTION:Cochran - Seahawks vs Alexander - Steelers
END:VALARM
END:VEVENT
BEGIN:VEVENT
UID:brentwood-596585@ygametime.com
DTSTAMP:20260425T213000Z
DTSTART;TZID=America/Chicago:20260425T163000
DURATION:PT0H60M0S
SUMMARY:Davis - Titans vs Cochran - Seahawks
DESCRIPTION:3rd-4th Grade | Flag Football\nBrentwood Family YMCA\n
URL;VALUE=URI:https://ygametime.com/branch/brentwood/sports/2026-spring-flag-football/25619/?utm_medium=calendar&utm_source=team_cal&utm_content=league_url#game-596585
LOCATION:Flagpole Park Field 1B
BEGIN:VALARM
TRIGGER:-P2H
ACTION:DISPLAY
DESCRIPTION:Davis - Titans vs Cochran - Seahawks
END:VALARM
END:VEVENT
BEGIN:VEVENT
UID:brentwood-596593@ygametime.com
DTSTAMP:20260502T193000Z
DTSTART;TZID=America/Chicago:20260502T143000
DURATION:PT0H60M0S
SUMMARY:Cochran - Seahawks vs Murphree - Bills
DESCRIPTION:3rd-4th Grade | Flag Football\nBrentwood Family YMCA\n
URL;VALUE=URI:https://ygametime.com/branch/brentwood/sports/2026-spring-flag-football/25619/?utm_medium=calendar&utm_source=team_cal&utm_content=league_url#game-596593
LOCATION:Flagpole Park Field 2A
BEGIN:VALARM
TRIGGER:-P2H
ACTION:DISPLAY
DESCRIPTION:Cochran - Seahawks vs Murphree - Bills
END:VALARM
END:VEVENT
BEGIN:VEVENT
UID:brentwood-596596@ygametime.com
DTSTAMP:20260509T193000Z
DTSTART;TZID=America/Chicago:20260509T143000
DURATION:PT0H60M0S
SUMMARY:McKay - Commanders vs Cochran - Seahawks
DESCRIPTION:3rd-4th Grade | Flag Football\nBrentwood Family YMCA\n
URL;VALUE=URI:https://ygametime.com/branch/brentwood/sports/2026-spring-flag-football/25619/?utm_medium=calendar&utm_source=team_cal&utm_content=league_url#game-596596
LOCATION:Flagpole Park Field 2B
BEGIN:VALARM
TRIGGER:-P2H
ACTION:DISPLAY
DESCRIPTION:McKay - Commanders vs Cochran - Seahawks
END:VALARM
END:VEVENT
END:VCALENDAR

