BEGIN:VCALENDAR
VERSION:2.0
PRODID:-//YGAMETIME.com//YGT iCal Creator//EN
METHOD:PUBLISH
X-PUBLISHED-TTL:PT6H
REFRESH-INTERVAL;VALUE=DURATION:PT6H
CALSCALE:GREGORIAN
X-WR-CALNAME:YGAMETIME CALENDAR
BEGIN:VTIMEZONE
TZID:America/Chicago
X-LIC-LOCATION:America/Chicago
BEGIN:DAYLIGHT
TZOFFSETFROM:-0600
TZOFFSETTO:-0500
TZNAME:CDT
DTSTART:19700308T020000
RRULE:FREQ=YEARLY;BYMONTH=3;BYDAY=2SU
END:DAYLIGHT
BEGIN:STANDARD
TZOFFSETFROM:-0500
TZOFFSETTO:-0600
TZNAME:CST
DTSTART:19701101T020000
RRULE:FREQ=YEARLY;BYMONTH=11;BYDAY=1SU
END:STANDARD
END:VTIMEZONE
BEGIN:VEVENT
UID:brentwood-596567@ygametime.com
DTSTAMP:20260328T193000Z
DTSTART;TZID=America/Chicago:20260328T143000
DURATION:PT0H60M0S
SUMMARY:Alexander - Steelers vs Murphree - Bills
DESCRIPTION:3rd-4th Grade | Flag Football\nBrentwood Family YMCA\n
URL;VALUE=URI:https://ygametime.com/branch/brentwood/sports/2026-spring-flag-football/25619/?utm_medium=calendar&utm_source=team_cal&utm_content=league_url#game-596567
LOCATION:Flagpole Park Field 2A
BEGIN:VALARM
TRIGGER:-P2H
ACTION:DISPLAY
DESCRIPTION:Alexander - Steelers vs Murphree - Bills
END:VALARM
END:VEVENT
BEGIN:VEVENT
UID:brentwood-596572@ygametime.com
DTSTAMP:20260404T183000Z
DTSTART;TZID=America/Chicago:20260404T133000
DURATION:PT0H60M0S
SUMMARY:McKay - Commanders vs Alexander - Steelers
DESCRIPTION:3rd-4th Grade | Flag Football\nBrentwood Family YMCA\n
URL;VALUE=URI:https://ygametime.com/branch/brentwood/sports/2026-spring-flag-football/25619/?utm_medium=calendar&utm_source=team_cal&utm_content=league_url#game-596572
LOCATION:Flagpole Park Field 2A
BEGIN:VALARM
TRIGGER:-P2H
ACTION:DISPLAY
DESCRIPTION:McKay - Commanders vs Alexander - Steelers
END:VALARM
END:VEVENT
BEGIN:VEVENT
UID:brentwood-596577@ygametime.com
DTSTAMP:20260411T183000Z
DTSTART;TZID=America/Chicago:20260411T133000
DURATION:PT0H60M0S
SUMMARY:Alexander - Steelers vs Meyer - Packers
DESCRIPTION:3rd-4th Grade | Flag Football\nBrentwood Family YMCA\n
URL;VALUE=URI:https://ygametime.com/branch/brentwood/sports/2026-spring-flag-football/25619/?utm_medium=calendar&utm_source=team_cal&utm_content=league_url#game-596577
LOCATION:Flagpole Park Field 2A
BEGIN:VALARM
TRIGGER:-P2H
ACTION:DISPLAY
DESCRIPTION:Alexander - Steelers vs Meyer - Packers
END:VALARM
END:VEVENT
BEGIN:VEVENT
UID:brentwood-596581@ygametime.com
DTSTAMP:20260418T183000Z
DTSTART;TZID=America/Chicago:20260418T133000
DURATION:PT0H60M0S
SUMMARY:Cochran - Seahawks vs Alexander - Steelers
DESCRIPTION:3rd-4th Grade | Flag Football\nBrentwood Family YMCA\n
URL;VALUE=URI:https://ygametime.com/branch/brentwood/sports/2026-spring-flag-football/25619/?utm_medium=calendar&utm_source=team_cal&utm_content=league_url#game-596581
LOCATION:Flagpole Park Field 2A
BEGIN:VALARM
TRIGGER:-P2H
ACTION:DISPLAY
DESCRIPTION:Cochran - Seahawks vs Alexander - Steelers
END:VALARM
END:VEVENT
BEGIN:VEVENT
UID:brentwood-596589@ygametime.com
DTSTAMP:20260425T183000Z
DTSTART;TZID=America/Chicago:20260425T133000
DURATION:PT0H60M0S
SUMMARY:Alexander - Steelers vs Jacobs - Panthers
DESCRIPTION:3rd-4th Grade | Flag Football\nBrentwood Family YMCA\n
URL;VALUE=URI:https://ygametime.com/branch/brentwood/sports/2026-spring-flag-football/25619/?utm_medium=calendar&utm_source=team_cal&utm_content=league_url#game-596589
LOCATION:Flagpole Park Field 2A
BEGIN:VALARM
TRIGGER:-P2H
ACTION:DISPLAY
DESCRIPTION:Alexander - Steelers vs Jacobs - Panthers
END:VALARM
END:VEVENT
BEGIN:VEVENT
UID:brentwood-596592@ygametime.com
DTSTAMP:20260502T183000Z
DTSTART;TZID=America/Chicago:20260502T133000
DURATION:PT0H60M0S
SUMMARY:DeVore - Raiders vs Alexander - Steelers
DESCRIPTION:3rd-4th Grade | Flag Football\nBrentwood Family YMCA\n
URL;VALUE=URI:https://ygametime.com/branch/brentwood/sports/2026-spring-flag-football/25619/?utm_medium=calendar&utm_source=team_cal&utm_content=league_url#game-596592
LOCATION:Flagpole Park Field 2A
BEGIN:VALARM
TRIGGER:-P2H
ACTION:DISPLAY
DESCRIPTION:DeVore - Raiders vs Alexander - Steelers
END:VALARM
END:VEVENT
BEGIN:VEVENT
UID:brentwood-596595@ygametime.com
DTSTAMP:20260509T183000Z
DTSTART;TZID=America/Chicago:20260509T133000
DURATION:PT0H60M0S
SUMMARY:Alexander - Steelers vs Shuford - Cowboys
DESCRIPTION:3rd-4th Grade | Flag Football\nBrentwood Family YMCA\n
URL;VALUE=URI:https://ygametime.com/branch/brentwood/sports/2026-spring-flag-football/25619/?utm_medium=calendar&utm_source=team_cal&utm_content=league_url#game-596595
LOCATION:Flagpole Park Field 2A
BEGIN:VALARM
TRIGGER:-P2H
ACTION:DISPLAY
DESCRIPTION:Alexander - Steelers vs Shuford - Cowboys
END:VALARM
END:VEVENT
END:VCALENDAR

