BEGIN:VCALENDAR
VERSION:2.0
PRODID:-//YGAMETIME.com//YGT iCal Creator//EN
METHOD:PUBLISH
X-PUBLISHED-TTL:PT6H
REFRESH-INTERVAL;VALUE=DURATION:PT6H
CALSCALE:GREGORIAN
X-WR-CALNAME:YGAMETIME CALENDAR
BEGIN:VTIMEZONE
TZID:America/Chicago
X-LIC-LOCATION:America/Chicago
BEGIN:DAYLIGHT
TZOFFSETFROM:-0600
TZOFFSETTO:-0500
TZNAME:CDT
DTSTART:19700308T020000
RRULE:FREQ=YEARLY;BYMONTH=3;BYDAY=2SU
END:DAYLIGHT
BEGIN:STANDARD
TZOFFSETFROM:-0500
TZOFFSETTO:-0600
TZNAME:CST
DTSTART:19701101T020000
RRULE:FREQ=YEARLY;BYMONTH=11;BYDAY=1SU
END:STANDARD
END:VTIMEZONE
BEGIN:VEVENT
UID:brentwood-596565@ygametime.com
DTSTAMP:20260328T183000Z
DTSTART;TZID=America/Chicago:20260328T133000
DURATION:PT0H60M0S
SUMMARY:Davis - Titans vs Johnson - Ravens
DESCRIPTION:3rd-4th Grade | Flag Football\nBrentwood Family YMCA\n
URL;VALUE=URI:https://ygametime.com/branch/brentwood/sports/2026-spring-flag-football/25619/?utm_medium=calendar&utm_source=team_cal&utm_content=league_url#game-596565
LOCATION:Flagpole Park Field 2A
BEGIN:VALARM
TRIGGER:-P2H
ACTION:DISPLAY
DESCRIPTION:Davis - Titans vs Johnson - Ravens
END:VALARM
END:VEVENT
BEGIN:VEVENT
UID:brentwood-596570@ygametime.com
DTSTAMP:20260404T193000Z
DTSTART;TZID=America/Chicago:20260404T143000
DURATION:PT0H60M0S
SUMMARY:Murphree - Bills vs Davis - Titans
DESCRIPTION:3rd-4th Grade | Flag Football\nBrentwood Family YMCA\n
URL;VALUE=URI:https://ygametime.com/branch/brentwood/sports/2026-spring-flag-football/25619/?utm_medium=calendar&utm_source=team_cal&utm_content=league_url#game-596570
LOCATION:Flagpole Park Field 2A
BEGIN:VALARM
TRIGGER:-P2H
ACTION:DISPLAY
DESCRIPTION:Murphree - Bills vs Davis - Titans
END:VALARM
END:VEVENT
BEGIN:VEVENT
UID:brentwood-596575@ygametime.com
DTSTAMP:20260411T193000Z
DTSTART;TZID=America/Chicago:20260411T143000
DURATION:PT0H60M0S
SUMMARY:Davis - Titans vs McKay - Commanders
DESCRIPTION:3rd-4th Grade | Flag Football\nBrentwood Family YMCA\n
URL;VALUE=URI:https://ygametime.com/branch/brentwood/sports/2026-spring-flag-football/25619/?utm_medium=calendar&utm_source=team_cal&utm_content=league_url#game-596575
LOCATION:Flagpole Park Field 2B
BEGIN:VALARM
TRIGGER:-P2H
ACTION:DISPLAY
DESCRIPTION:Davis - Titans vs McKay - Commanders
END:VALARM
END:VEVENT
BEGIN:VEVENT
UID:brentwood-596580@ygametime.com
DTSTAMP:20260418T193000Z
DTSTART;TZID=America/Chicago:20260418T143000
DURATION:PT0H60M0S
SUMMARY:Meyer - Packers vs Davis - Titans
DESCRIPTION:3rd-4th Grade | Flag Football\nBrentwood Family YMCA\n
URL;VALUE=URI:https://ygametime.com/branch/brentwood/sports/2026-spring-flag-football/25619/?utm_medium=calendar&utm_source=team_cal&utm_content=league_url#game-596580
LOCATION:Flagpole Park Field 2B
BEGIN:VALARM
TRIGGER:-P2H
ACTION:DISPLAY
DESCRIPTION:Meyer - Packers vs Davis - Titans
END:VALARM
END:VEVENT
BEGIN:VEVENT
UID:brentwood-596585@ygametime.com
DTSTAMP:20260425T213000Z
DTSTART;TZID=America/Chicago:20260425T163000
DURATION:PT0H60M0S
SUMMARY:Davis - Titans vs Cochran - Seahawks
DESCRIPTION:3rd-4th Grade | Flag Football\nBrentwood Family YMCA\n
URL;VALUE=URI:https://ygametime.com/branch/brentwood/sports/2026-spring-flag-football/25619/?utm_medium=calendar&utm_source=team_cal&utm_content=league_url#game-596585
LOCATION:Flagpole Park Field 1B
BEGIN:VALARM
TRIGGER:-P2H
ACTION:DISPLAY
DESCRIPTION:Davis - Titans vs Cochran - Seahawks
END:VALARM
END:VEVENT
BEGIN:VEVENT
UID:brentwood-596594@ygametime.com
DTSTAMP:20260502T203000Z
DTSTART;TZID=America/Chicago:20260502T153000
DURATION:PT0H60M0S
SUMMARY:Jacobs - Panthers vs Davis - Titans
DESCRIPTION:3rd-4th Grade | Flag Football\nBrentwood Family YMCA\n
URL;VALUE=URI:https://ygametime.com/branch/brentwood/sports/2026-spring-flag-football/25619/?utm_medium=calendar&utm_source=team_cal&utm_content=league_url#game-596594
LOCATION:Flagpole Park Field 2A
BEGIN:VALARM
TRIGGER:-P2H
ACTION:DISPLAY
DESCRIPTION:Jacobs - Panthers vs Davis - Titans
END:VALARM
END:VEVENT
BEGIN:VEVENT
UID:brentwood-596597@ygametime.com
DTSTAMP:20260509T203000Z
DTSTART;TZID=America/Chicago:20260509T153000
DURATION:PT0H60M0S
SUMMARY:Davis - Titans vs DeVore - Raiders
DESCRIPTION:3rd-4th Grade | Flag Football\nBrentwood Family YMCA\n
URL;VALUE=URI:https://ygametime.com/branch/brentwood/sports/2026-spring-flag-football/25619/?utm_medium=calendar&utm_source=team_cal&utm_content=league_url#game-596597
LOCATION:Flagpole Park Field 2A
BEGIN:VALARM
TRIGGER:-P2H
ACTION:DISPLAY
DESCRIPTION:Davis - Titans vs DeVore - Raiders
END:VALARM
END:VEVENT
END:VCALENDAR

