BEGIN:VCALENDAR
VERSION:2.0
PRODID:-//YGAMETIME.com//YGT iCal Creator//EN
METHOD:PUBLISH
X-PUBLISHED-TTL:PT6H
REFRESH-INTERVAL;VALUE=DURATION:PT6H
CALSCALE:GREGORIAN
X-WR-CALNAME:YGAMETIME CALENDAR
BEGIN:VTIMEZONE
TZID:America/Chicago
X-LIC-LOCATION:America/Chicago
BEGIN:DAYLIGHT
TZOFFSETFROM:-0600
TZOFFSETTO:-0500
TZNAME:CDT
DTSTART:19700308T020000
RRULE:FREQ=YEARLY;BYMONTH=3;BYDAY=2SU
END:DAYLIGHT
BEGIN:STANDARD
TZOFFSETFROM:-0500
TZOFFSETTO:-0600
TZNAME:CST
DTSTART:19701101T020000
RRULE:FREQ=YEARLY;BYMONTH=11;BYDAY=1SU
END:STANDARD
END:VTIMEZONE
BEGIN:VEVENT
UID:brentwood-596566@ygametime.com
DTSTAMP:20260328T193000Z
DTSTART;TZID=America/Chicago:20260328T143000
DURATION:PT0H60M0S
SUMMARY:Jacobs - Panthers vs Cochran - Seahawks
DESCRIPTION:3rd-4th Grade | Flag Football\nBrentwood Family YMCA\n
URL;VALUE=URI:https://ygametime.com/branch/brentwood/sports/2026-spring-flag-football/25619/?utm_medium=calendar&utm_source=team_cal&utm_content=league_url#game-596566
LOCATION:Flagpole Park Field 2B
BEGIN:VALARM
TRIGGER:-P2H
ACTION:DISPLAY
DESCRIPTION:Jacobs - Panthers vs Cochran - Seahawks
END:VALARM
END:VEVENT
BEGIN:VEVENT
UID:brentwood-596574@ygametime.com
DTSTAMP:20260404T193000Z
DTSTART;TZID=America/Chicago:20260404T143000
DURATION:PT0H60M0S
SUMMARY:Johnson - Ravens vs Jacobs - Panthers
DESCRIPTION:3rd-4th Grade | Flag Football\nBrentwood Family YMCA\n
URL;VALUE=URI:https://ygametime.com/branch/brentwood/sports/2026-spring-flag-football/25619/?utm_medium=calendar&utm_source=team_cal&utm_content=league_url#game-596574
LOCATION:Flagpole Park Field 2B
BEGIN:VALARM
TRIGGER:-P2H
ACTION:DISPLAY
DESCRIPTION:Johnson - Ravens vs Jacobs - Panthers
END:VALARM
END:VEVENT
BEGIN:VEVENT
UID:brentwood-596579@ygametime.com
DTSTAMP:20260411T203000Z
DTSTART;TZID=America/Chicago:20260411T153000
DURATION:PT0H60M0S
SUMMARY:DeVore - Raiders vs Jacobs - Panthers
DESCRIPTION:3rd-4th Grade | Flag Football\nBrentwood Family YMCA\n
URL;VALUE=URI:https://ygametime.com/branch/brentwood/sports/2026-spring-flag-football/25619/?utm_medium=calendar&utm_source=team_cal&utm_content=league_url#game-596579
LOCATION:Flagpole Park Field 2A
BEGIN:VALARM
TRIGGER:-P2H
ACTION:DISPLAY
DESCRIPTION:DeVore - Raiders vs Jacobs - Panthers
END:VALARM
END:VEVENT
BEGIN:VEVENT
UID:brentwood-596584@ygametime.com
DTSTAMP:20260418T213000Z
DTSTART;TZID=America/Chicago:20260418T163000
DURATION:PT0H60M0S
SUMMARY:Jacobs - Panthers vs Shuford - Cowboys
DESCRIPTION:3rd-4th Grade | Flag Football\nBrentwood Family YMCA\n
URL;VALUE=URI:https://ygametime.com/branch/brentwood/sports/2026-spring-flag-football/25619/?utm_medium=calendar&utm_source=team_cal&utm_content=league_url#game-596584
LOCATION:Flagpole Park Field 2A
BEGIN:VALARM
TRIGGER:-P2H
ACTION:DISPLAY
DESCRIPTION:Jacobs - Panthers vs Shuford - Cowboys
END:VALARM
END:VEVENT
BEGIN:VEVENT
UID:brentwood-596589@ygametime.com
DTSTAMP:20260425T183000Z
DTSTART;TZID=America/Chicago:20260425T133000
DURATION:PT0H60M0S
SUMMARY:Alexander - Steelers vs Jacobs - Panthers
DESCRIPTION:3rd-4th Grade | Flag Football\nBrentwood Family YMCA\n
URL;VALUE=URI:https://ygametime.com/branch/brentwood/sports/2026-spring-flag-football/25619/?utm_medium=calendar&utm_source=team_cal&utm_content=league_url#game-596589
LOCATION:Flagpole Park Field 2A
BEGIN:VALARM
TRIGGER:-P2H
ACTION:DISPLAY
DESCRIPTION:Alexander - Steelers vs Jacobs - Panthers
END:VALARM
END:VEVENT
BEGIN:VEVENT
UID:brentwood-596594@ygametime.com
DTSTAMP:20260502T203000Z
DTSTART;TZID=America/Chicago:20260502T153000
DURATION:PT0H60M0S
SUMMARY:Jacobs - Panthers vs Davis - Titans
DESCRIPTION:3rd-4th Grade | Flag Football\nBrentwood Family YMCA\n
URL;VALUE=URI:https://ygametime.com/branch/brentwood/sports/2026-spring-flag-football/25619/?utm_medium=calendar&utm_source=team_cal&utm_content=league_url#game-596594
LOCATION:Flagpole Park Field 2A
BEGIN:VALARM
TRIGGER:-P2H
ACTION:DISPLAY
DESCRIPTION:Jacobs - Panthers vs Davis - Titans
END:VALARM
END:VEVENT
BEGIN:VEVENT
UID:brentwood-596598@ygametime.com
DTSTAMP:20260509T193000Z
DTSTART;TZID=America/Chicago:20260509T143000
DURATION:PT0H60M0S
SUMMARY:Murphree - Bills vs Jacobs - Panthers
DESCRIPTION:3rd-4th Grade | Flag Football\nBrentwood Family YMCA\n
URL;VALUE=URI:https://ygametime.com/branch/brentwood/sports/2026-spring-flag-football/25619/?utm_medium=calendar&utm_source=team_cal&utm_content=league_url#game-596598
LOCATION:Flagpole Park Field 2A
BEGIN:VALARM
TRIGGER:-P2H
ACTION:DISPLAY
DESCRIPTION:Murphree - Bills vs Jacobs - Panthers
END:VALARM
END:VEVENT
END:VCALENDAR

