BEGIN:VCALENDAR
VERSION:2.0
PRODID:-//YGAMETIME.com//YGT iCal Creator//EN
METHOD:PUBLISH
X-PUBLISHED-TTL:PT6H
REFRESH-INTERVAL;VALUE=DURATION:PT6H
CALSCALE:GREGORIAN
X-WR-CALNAME:YGAMETIME CALENDAR
BEGIN:VTIMEZONE
TZID:America/Chicago
X-LIC-LOCATION:America/Chicago
BEGIN:DAYLIGHT
TZOFFSETFROM:-0600
TZOFFSETTO:-0500
TZNAME:CDT
DTSTART:19700308T020000
RRULE:FREQ=YEARLY;BYMONTH=3;BYDAY=2SU
END:DAYLIGHT
BEGIN:STANDARD
TZOFFSETFROM:-0500
TZOFFSETTO:-0600
TZNAME:CST
DTSTART:19701101T020000
RRULE:FREQ=YEARLY;BYMONTH=11;BYDAY=1SU
END:STANDARD
END:VTIMEZONE
BEGIN:VEVENT
UID:brentwood-596716@ygametime.com
DTSTAMP:20260328T203000Z
DTSTART;TZID=America/Chicago:20260328T153000
DURATION:PT0H60M0S
SUMMARY:Lee - Lions vs Roselle - Cowboys
DESCRIPTION:5th-6th Grade | Flag Football\nBrentwood Family YMCA\n
URL;VALUE=URI:https://ygametime.com/branch/brentwood/sports/2026-spring-flag-football/25620/?utm_medium=calendar&utm_source=team_cal&utm_content=league_url#game-596716
LOCATION:Flagpole Park Field 1B
BEGIN:VALARM
TRIGGER:-P2H
ACTION:DISPLAY
DESCRIPTION:Lee - Lions vs Roselle - Cowboys
END:VALARM
END:VEVENT
BEGIN:VEVENT
UID:brentwood-596721@ygametime.com
DTSTAMP:20260404T193000Z
DTSTART;TZID=America/Chicago:20260404T143000
DURATION:PT0H60M0S
SUMMARY:Roselle - Cowboys vs Salerno - Chargers
DESCRIPTION:5th-6th Grade | Flag Football\nBrentwood Family YMCA\n
URL;VALUE=URI:https://ygametime.com/branch/brentwood/sports/2026-spring-flag-football/25620/?utm_medium=calendar&utm_source=team_cal&utm_content=league_url#game-596721
LOCATION:Flagpole Park Field 1B
BEGIN:VALARM
TRIGGER:-P2H
ACTION:DISPLAY
DESCRIPTION:Roselle - Cowboys vs Salerno - Chargers
END:VALARM
END:VEVENT
BEGIN:VEVENT
UID:brentwood-596723@ygametime.com
DTSTAMP:20260411T203000Z
DTSTART;TZID=America/Chicago:20260411T153000
DURATION:PT0H60M0S
SUMMARY:Dignan - Chiefs vs Roselle - Cowboys
DESCRIPTION:5th-6th Grade | Flag Football\nBrentwood Family YMCA\n
URL;VALUE=URI:https://ygametime.com/branch/brentwood/sports/2026-spring-flag-football/25620/?utm_medium=calendar&utm_source=team_cal&utm_content=league_url#game-596723
LOCATION:Flagpole Park Field 1B
BEGIN:VALARM
TRIGGER:-P2H
ACTION:DISPLAY
DESCRIPTION:Dignan - Chiefs vs Roselle - Cowboys
END:VALARM
END:VEVENT
BEGIN:VEVENT
UID:brentwood-596725@ygametime.com
DTSTAMP:20260418T203000Z
DTSTART;TZID=America/Chicago:20260418T153000
DURATION:PT0H60M0S
SUMMARY:Roselle - Cowboys vs Rompala - Steelers
DESCRIPTION:5th-6th Grade | Flag Football\nBrentwood Family YMCA\n
URL;VALUE=URI:https://ygametime.com/branch/brentwood/sports/2026-spring-flag-football/25620/?utm_medium=calendar&utm_source=team_cal&utm_content=league_url#game-596725
LOCATION:Flagpole Park Field 2B
BEGIN:VALARM
TRIGGER:-P2H
ACTION:DISPLAY
DESCRIPTION:Roselle - Cowboys vs Rompala - Steelers
END:VALARM
END:VEVENT
BEGIN:VEVENT
UID:brentwood-596730@ygametime.com
DTSTAMP:20260425T203000Z
DTSTART;TZID=America/Chicago:20260425T153000
DURATION:PT0H60M0S
SUMMARY:Alling - Rams vs Roselle - Cowboys
DESCRIPTION:5th-6th Grade | Flag Football\nBrentwood Family YMCA\n
URL;VALUE=URI:https://ygametime.com/branch/brentwood/sports/2026-spring-flag-football/25620/?utm_medium=calendar&utm_source=team_cal&utm_content=league_url#game-596730
LOCATION:Flagpole Park Field 1B
BEGIN:VALARM
TRIGGER:-P2H
ACTION:DISPLAY
DESCRIPTION:Alling - Rams vs Roselle - Cowboys
END:VALARM
END:VEVENT
BEGIN:VEVENT
UID:brentwood-596732@ygametime.com
DTSTAMP:20260502T203000Z
DTSTART;TZID=America/Chicago:20260502T153000
DURATION:PT0H60M0S
SUMMARY:Lee - Lions vs Roselle - Cowboys
DESCRIPTION:5th-6th Grade | Flag Football\nBrentwood Family YMCA\n
URL;VALUE=URI:https://ygametime.com/branch/brentwood/sports/2026-spring-flag-football/25620/?utm_medium=calendar&utm_source=team_cal&utm_content=league_url#game-596732
LOCATION:Flagpole Park Field 1B
BEGIN:VALARM
TRIGGER:-P2H
ACTION:DISPLAY
DESCRIPTION:Lee - Lions vs Roselle - Cowboys
END:VALARM
END:VEVENT
BEGIN:VEVENT
UID:brentwood-596734@ygametime.com
DTSTAMP:20260509T193000Z
DTSTART;TZID=America/Chicago:20260509T143000
DURATION:PT0H60M0S
SUMMARY:Roselle - Cowboys vs Salerno - Chargers
DESCRIPTION:5th-6th Grade | Flag Football\nBrentwood Family YMCA\n
URL;VALUE=URI:https://ygametime.com/branch/brentwood/sports/2026-spring-flag-football/25620/?utm_medium=calendar&utm_source=team_cal&utm_content=league_url#game-596734
LOCATION:Flagpole Park Field 1B
BEGIN:VALARM
TRIGGER:-P2H
ACTION:DISPLAY
DESCRIPTION:Roselle - Cowboys vs Salerno - Chargers
END:VALARM
END:VEVENT
END:VCALENDAR

