BEGIN:VCALENDAR
VERSION:2.0
PRODID:-//YGAMETIME.com//YGT iCal Creator//EN
METHOD:PUBLISH
X-PUBLISHED-TTL:PT6H
REFRESH-INTERVAL;VALUE=DURATION:PT6H
CALSCALE:GREGORIAN
X-WR-CALNAME:YGAMETIME CALENDAR
BEGIN:VTIMEZONE
TZID:America/Chicago
X-LIC-LOCATION:America/Chicago
BEGIN:DAYLIGHT
TZOFFSETFROM:-0600
TZOFFSETTO:-0500
TZNAME:CDT
DTSTART:19700308T020000
RRULE:FREQ=YEARLY;BYMONTH=3;BYDAY=2SU
END:DAYLIGHT
BEGIN:STANDARD
TZOFFSETFROM:-0500
TZOFFSETTO:-0600
TZNAME:CST
DTSTART:19701101T020000
RRULE:FREQ=YEARLY;BYMONTH=11;BYDAY=1SU
END:STANDARD
END:VTIMEZONE
BEGIN:VEVENT
UID:brentwood-596718@ygametime.com
DTSTAMP:20260328T203000Z
DTSTART;TZID=America/Chicago:20260328T153000
DURATION:PT0H60M0S
SUMMARY:Rompala - Steelers vs Dignan - Chiefs
DESCRIPTION:5th-6th Grade | Flag Football\nBrentwood Family YMCA\n
URL;VALUE=URI:https://ygametime.com/branch/brentwood/sports/2026-spring-flag-football/25620/?utm_medium=calendar&utm_source=team_cal&utm_content=league_url#game-596718
LOCATION:Flagpole Park Field 2B
BEGIN:VALARM
TRIGGER:-P2H
ACTION:DISPLAY
DESCRIPTION:Rompala - Steelers vs Dignan - Chiefs
END:VALARM
END:VEVENT
BEGIN:VEVENT
UID:brentwood-596720@ygametime.com
DTSTAMP:20260404T203000Z
DTSTART;TZID=America/Chicago:20260404T153000
DURATION:PT0H60M0S
SUMMARY:Alling - Rams vs Rompala - Steelers
DESCRIPTION:5th-6th Grade | Flag Football\nBrentwood Family YMCA\n
URL;VALUE=URI:https://ygametime.com/branch/brentwood/sports/2026-spring-flag-football/25620/?utm_medium=calendar&utm_source=team_cal&utm_content=league_url#game-596720
LOCATION:Flagpole Park Field 2B
BEGIN:VALARM
TRIGGER:-P2H
ACTION:DISPLAY
DESCRIPTION:Alling - Rams vs Rompala - Steelers
END:VALARM
END:VEVENT
BEGIN:VEVENT
UID:brentwood-596724@ygametime.com
DTSTAMP:20260411T193000Z
DTSTART;TZID=America/Chicago:20260411T143000
DURATION:PT0H60M0S
SUMMARY:Rompala - Steelers vs Salerno - Chargers
DESCRIPTION:5th-6th Grade | Flag Football\nBrentwood Family YMCA\n
URL;VALUE=URI:https://ygametime.com/branch/brentwood/sports/2026-spring-flag-football/25620/?utm_medium=calendar&utm_source=team_cal&utm_content=league_url#game-596724
LOCATION:Flagpole Park Field 1B
BEGIN:VALARM
TRIGGER:-P2H
ACTION:DISPLAY
DESCRIPTION:Rompala - Steelers vs Salerno - Chargers
END:VALARM
END:VEVENT
BEGIN:VEVENT
UID:brentwood-596725@ygametime.com
DTSTAMP:20260418T203000Z
DTSTART;TZID=America/Chicago:20260418T153000
DURATION:PT0H60M0S
SUMMARY:Roselle - Cowboys vs Rompala - Steelers
DESCRIPTION:5th-6th Grade | Flag Football\nBrentwood Family YMCA\n
URL;VALUE=URI:https://ygametime.com/branch/brentwood/sports/2026-spring-flag-football/25620/?utm_medium=calendar&utm_source=team_cal&utm_content=league_url#game-596725
LOCATION:Flagpole Park Field 2B
BEGIN:VALARM
TRIGGER:-P2H
ACTION:DISPLAY
DESCRIPTION:Roselle - Cowboys vs Rompala - Steelers
END:VALARM
END:VEVENT
BEGIN:VEVENT
UID:brentwood-596728@ygametime.com
DTSTAMP:20260425T193000Z
DTSTART;TZID=America/Chicago:20260425T143000
DURATION:PT0H60M0S
SUMMARY:Lee - Lions vs Rompala - Steelers
DESCRIPTION:5th-6th Grade | Flag Football\nBrentwood Family YMCA\n
URL;VALUE=URI:https://ygametime.com/branch/brentwood/sports/2026-spring-flag-football/25620/?utm_medium=calendar&utm_source=team_cal&utm_content=league_url#game-596728
LOCATION:Flagpole Park Field 1B
BEGIN:VALARM
TRIGGER:-P2H
ACTION:DISPLAY
DESCRIPTION:Lee - Lions vs Rompala - Steelers
END:VALARM
END:VEVENT
BEGIN:VEVENT
UID:brentwood-596731@ygametime.com
DTSTAMP:20260502T203000Z
DTSTART;TZID=America/Chicago:20260502T153000
DURATION:PT0H60M0S
SUMMARY:Rompala - Steelers vs Dignan - Chiefs
DESCRIPTION:5th-6th Grade | Flag Football\nBrentwood Family YMCA\n
URL;VALUE=URI:https://ygametime.com/branch/brentwood/sports/2026-spring-flag-football/25620/?utm_medium=calendar&utm_source=team_cal&utm_content=league_url#game-596731
LOCATION:Flagpole Park Field 2B
BEGIN:VALARM
TRIGGER:-P2H
ACTION:DISPLAY
DESCRIPTION:Rompala - Steelers vs Dignan - Chiefs
END:VALARM
END:VEVENT
BEGIN:VEVENT
UID:brentwood-596736@ygametime.com
DTSTAMP:20260509T203000Z
DTSTART;TZID=America/Chicago:20260509T153000
DURATION:PT0H60M0S
SUMMARY:Alling - Rams vs Rompala - Steelers
DESCRIPTION:5th-6th Grade | Flag Football\nBrentwood Family YMCA\n
URL;VALUE=URI:https://ygametime.com/branch/brentwood/sports/2026-spring-flag-football/25620/?utm_medium=calendar&utm_source=team_cal&utm_content=league_url#game-596736
LOCATION:Flagpole Park Field 2B
BEGIN:VALARM
TRIGGER:-P2H
ACTION:DISPLAY
DESCRIPTION:Alling - Rams vs Rompala - Steelers
END:VALARM
END:VEVENT
END:VCALENDAR

