BEGIN:VCALENDAR
VERSION:2.0
PRODID:-//YGAMETIME.com//YGT iCal Creator//EN
METHOD:PUBLISH
X-PUBLISHED-TTL:PT6H
REFRESH-INTERVAL;VALUE=DURATION:PT6H
CALSCALE:GREGORIAN
X-WR-CALNAME:YGAMETIME CALENDAR
BEGIN:VTIMEZONE
TZID:America/Chicago
X-LIC-LOCATION:America/Chicago
BEGIN:DAYLIGHT
TZOFFSETFROM:-0600
TZOFFSETTO:-0500
TZNAME:CDT
DTSTART:19700308T020000
RRULE:FREQ=YEARLY;BYMONTH=3;BYDAY=2SU
END:DAYLIGHT
BEGIN:STANDARD
TZOFFSETFROM:-0500
TZOFFSETTO:-0600
TZNAME:CST
DTSTART:19701101T020000
RRULE:FREQ=YEARLY;BYMONTH=11;BYDAY=1SU
END:STANDARD
END:VTIMEZONE
BEGIN:VEVENT
UID:brentwood-596440@ygametime.com
DTSTAMP:20260328T183000Z
DTSTART;TZID=America/Chicago:20260328T133000
DURATION:PT0H60M0S
SUMMARY:Salerno - Chargers vs Bonner/Bilardello - Dolphins
DESCRIPTION:7th-8th Grade | Flag Football\nBrentwood Family YMCA\n
URL;VALUE=URI:https://ygametime.com/branch/brentwood/sports/2026-spring-flag-football/25621/?utm_medium=calendar&utm_source=team_cal&utm_content=league_url#game-596440
LOCATION:Flagpole Park Field 1B
BEGIN:VALARM
TRIGGER:-P2H
ACTION:DISPLAY
DESCRIPTION:Salerno - Chargers vs Bonner/Bilardello - Dolphins
END:VALARM
END:VEVENT
BEGIN:VEVENT
UID:brentwood-596448@ygametime.com
DTSTAMP:20260404T183000Z
DTSTART;TZID=America/Chicago:20260404T133000
DURATION:PT0H60M0S
SUMMARY:Bonner/Bilardello - Dolphins vs Stephens - Bears
DESCRIPTION:7th-8th Grade | Flag Football\nBrentwood Family YMCA\n
URL;VALUE=URI:https://ygametime.com/branch/brentwood/sports/2026-spring-flag-football/25621/?utm_medium=calendar&utm_source=team_cal&utm_content=league_url#game-596448
LOCATION:Flagpole Park Field 1B
BEGIN:VALARM
TRIGGER:-P2H
ACTION:DISPLAY
DESCRIPTION:Bonner/Bilardello - Dolphins vs Stephens - Bears
END:VALARM
END:VEVENT
BEGIN:VEVENT
UID:brentwood-596449@ygametime.com
DTSTAMP:20260411T183000Z
DTSTART;TZID=America/Chicago:20260411T133000
DURATION:PT0H60M0S
SUMMARY:Sklenka - 49ers vs Bonner/Bilardello - Dolphins
DESCRIPTION:7th-8th Grade | Flag Football\nBrentwood Family YMCA\n
URL;VALUE=URI:https://ygametime.com/branch/brentwood/sports/2026-spring-flag-football/25621/?utm_medium=calendar&utm_source=team_cal&utm_content=league_url#game-596449
LOCATION:Flagpole Park Field 1B
BEGIN:VALARM
TRIGGER:-P2H
ACTION:DISPLAY
DESCRIPTION:Sklenka - 49ers vs Bonner/Bilardello - Dolphins
END:VALARM
END:VEVENT
BEGIN:VEVENT
UID:brentwood-596450@ygametime.com
DTSTAMP:20260418T143000Z
DTSTART;TZID=America/Chicago:20260418T093000
DURATION:PT0H60M0S
SUMMARY:Bonner/Bilardello - Dolphins vs Bailey - Steelers
DESCRIPTION:7th-8th Grade | Flag Football\nBrentwood Family YMCA\n
URL;VALUE=URI:https://ygametime.com/branch/brentwood/sports/2026-spring-flag-football/25621/?utm_medium=calendar&utm_source=team_cal&utm_content=league_url#game-596450
LOCATION:Lasko Football Field 2
BEGIN:VALARM
TRIGGER:-P2H
ACTION:DISPLAY
DESCRIPTION:Bonner/Bilardello - Dolphins vs Bailey - Steelers
END:VALARM
END:VEVENT
BEGIN:VEVENT
UID:brentwood-596451@ygametime.com
DTSTAMP:20260425T143000Z
DTSTART;TZID=America/Chicago:20260425T093000
DURATION:PT0H60M0S
SUMMARY:Bonner/Bilardello - Dolphins vs Poteete - Bills
DESCRIPTION:7th-8th Grade | Flag Football\nBrentwood Family YMCA\n
URL;VALUE=URI:https://ygametime.com/branch/brentwood/sports/2026-spring-flag-football/25621/?utm_medium=calendar&utm_source=team_cal&utm_content=league_url#game-596451
LOCATION:Lasko Football Field 1
BEGIN:VALARM
TRIGGER:-P2H
ACTION:DISPLAY
DESCRIPTION:Bonner/Bilardello - Dolphins vs Poteete - Bills
END:VALARM
END:VEVENT
BEGIN:VEVENT
UID:brentwood-596452@ygametime.com
DTSTAMP:20260502T153000Z
DTSTART;TZID=America/Chicago:20260502T103000
DURATION:PT0H60M0S
SUMMARY:Bonner/Bilardello - Dolphins vs C. Cox - Saints
DESCRIPTION:7th-8th Grade | Flag Football\nBrentwood Family YMCA\n
URL;VALUE=URI:https://ygametime.com/branch/brentwood/sports/2026-spring-flag-football/25621/?utm_medium=calendar&utm_source=team_cal&utm_content=league_url#game-596452
LOCATION:Lasko Football Field 2
BEGIN:VALARM
TRIGGER:-P2H
ACTION:DISPLAY
DESCRIPTION:Bonner/Bilardello - Dolphins vs C. Cox - Saints
END:VALARM
END:VEVENT
BEGIN:VEVENT
UID:brentwood-596446@ygametime.com
DTSTAMP:20260509T183000Z
DTSTART;TZID=America/Chicago:20260509T133000
DURATION:PT0H60M0S
SUMMARY:Salerno - Chargers vs Bonner/Bilardello - Dolphins
DESCRIPTION:7th-8th Grade | Flag Football\nBrentwood Family YMCA\n
URL;VALUE=URI:https://ygametime.com/branch/brentwood/sports/2026-spring-flag-football/25621/?utm_medium=calendar&utm_source=team_cal&utm_content=league_url#game-596446
LOCATION:Flagpole Park Field 1B
BEGIN:VALARM
TRIGGER:-P2H
ACTION:DISPLAY
DESCRIPTION:Salerno - Chargers vs Bonner/Bilardello - Dolphins
END:VALARM
END:VEVENT
END:VCALENDAR

