BEGIN:VCALENDAR
VERSION:2.0
PRODID:-//YGAMETIME.com//YGT iCal Creator//EN
METHOD:PUBLISH
X-PUBLISHED-TTL:PT6H
REFRESH-INTERVAL;VALUE=DURATION:PT6H
CALSCALE:GREGORIAN
X-WR-CALNAME:YGAMETIME CALENDAR
BEGIN:VTIMEZONE
TZID:America/Chicago
X-LIC-LOCATION:America/Chicago
BEGIN:DAYLIGHT
TZOFFSETFROM:-0600
TZOFFSETTO:-0500
TZNAME:CDT
DTSTART:19700308T020000
RRULE:FREQ=YEARLY;BYMONTH=3;BYDAY=2SU
END:DAYLIGHT
BEGIN:STANDARD
TZOFFSETFROM:-0500
TZOFFSETTO:-0600
TZNAME:CST
DTSTART:19701101T020000
RRULE:FREQ=YEARLY;BYMONTH=11;BYDAY=1SU
END:STANDARD
END:VTIMEZONE
BEGIN:VEVENT
UID:brentwood-596792@ygametime.com
DTSTAMP:20260328T130000Z
DTSTART;TZID=America/Chicago:20260328T080000
DURATION:PT0H75M0S
SUMMARY:Edwards vs Hart
DESCRIPTION:Girls 2014-15 | Soccer\nBrentwood Family YMCA\n
URL;VALUE=URI:https://ygametime.com/branch/brentwood/sports/2026-spring-soccer/25719/?utm_medium=calendar&utm_source=team_cal&utm_content=league_url#game-596792
LOCATION:Crockett Park Field 9B
BEGIN:VALARM
TRIGGER:-P2H
ACTION:DISPLAY
DESCRIPTION:Edwards vs Hart
END:VALARM
END:VEVENT
BEGIN:VEVENT
UID:brentwood-596799@ygametime.com
DTSTAMP:20260404T164500Z
DTSTART;TZID=America/Chicago:20260404T114500
DURATION:PT0H75M0S
SUMMARY:Hart vs Kucharski/Lamson
DESCRIPTION:Girls 2014-15 | Soccer\nBrentwood Family YMCA\n
URL;VALUE=URI:https://ygametime.com/branch/brentwood/sports/2026-spring-soccer/25719/?utm_medium=calendar&utm_source=team_cal&utm_content=league_url#game-596799
LOCATION:Crockett Park Field 9B
BEGIN:VALARM
TRIGGER:-P2H
ACTION:DISPLAY
DESCRIPTION:Hart vs Kucharski/Lamson
END:VALARM
END:VEVENT
BEGIN:VEVENT
UID:brentwood-596802@ygametime.com
DTSTAMP:20260411T153000Z
DTSTART;TZID=America/Chicago:20260411T103000
DURATION:PT0H75M0S
SUMMARY:Pappas vs Hart
DESCRIPTION:Girls 2014-15 | Soccer\nBrentwood Family YMCA\n
URL;VALUE=URI:https://ygametime.com/branch/brentwood/sports/2026-spring-soccer/25719/?utm_medium=calendar&utm_source=team_cal&utm_content=league_url#game-596802
LOCATION:Crockett Park Field 9B
BEGIN:VALARM
TRIGGER:-P2H
ACTION:DISPLAY
DESCRIPTION:Pappas vs Hart
END:VALARM
END:VEVENT
BEGIN:VEVENT
UID:brentwood-602869@ygametime.com
DTSTAMP:20260418T153000Z
DTSTART;TZID=America/Chicago:20260418T103000
DURATION:PT0H75M0S
SUMMARY:Edwards vs Hart
DESCRIPTION:Girls 2014-15 | Soccer\nBrentwood Family YMCA\n
URL;VALUE=URI:https://ygametime.com/branch/brentwood/sports/2026-spring-soccer/25719/?utm_medium=calendar&utm_source=team_cal&utm_content=league_url#game-602869
LOCATION:Crockett Park Field 9B
BEGIN:VALARM
TRIGGER:-P2H
ACTION:DISPLAY
DESCRIPTION:Edwards vs Hart
END:VALARM
END:VEVENT
BEGIN:VEVENT
UID:brentwood-602876@ygametime.com
DTSTAMP:20260425T164500Z
DTSTART;TZID=America/Chicago:20260425T114500
DURATION:PT0H75M0S
SUMMARY:Hart vs Kucharski/Lamson
DESCRIPTION:Girls 2014-15 | Soccer\nBrentwood Family YMCA\n
URL;VALUE=URI:https://ygametime.com/branch/brentwood/sports/2026-spring-soccer/25719/?utm_medium=calendar&utm_source=team_cal&utm_content=league_url#game-602876
LOCATION:Crockett Park Field 9B
BEGIN:VALARM
TRIGGER:-P2H
ACTION:DISPLAY
DESCRIPTION:Hart vs Kucharski/Lamson
END:VALARM
END:VEVENT
BEGIN:VEVENT
UID:brentwood-602881@ygametime.com
DTSTAMP:20260509T130000Z
DTSTART;TZID=America/Chicago:20260509T080000
DURATION:PT0H75M0S
SUMMARY:Kasinger/Lavender vs Hart
DESCRIPTION:Girls 2014-15 | Soccer\nBrentwood Family YMCA\n
URL;VALUE=URI:https://ygametime.com/branch/brentwood/sports/2026-spring-soccer/25719/?utm_medium=calendar&utm_source=team_cal&utm_content=league_url#game-602881
LOCATION:Crockett Park Field 9B
BEGIN:VALARM
TRIGGER:-P2H
ACTION:DISPLAY
DESCRIPTION:Kasinger/Lavender vs Hart
END:VALARM
END:VEVENT
BEGIN:VEVENT
UID:brentwood-602879@ygametime.com
DTSTAMP:20260516T153000Z
DTSTART;TZID=America/Chicago:20260516T103000
DURATION:PT0H75M0S
SUMMARY:Pappas vs Hart
DESCRIPTION:Girls 2014-15 | Soccer\nBrentwood Family YMCA\n
URL;VALUE=URI:https://ygametime.com/branch/brentwood/sports/2026-spring-soccer/25719/?utm_medium=calendar&utm_source=team_cal&utm_content=league_url#game-602879
LOCATION:Crockett Park Field 9B
BEGIN:VALARM
TRIGGER:-P2H
ACTION:DISPLAY
DESCRIPTION:Pappas vs Hart
END:VALARM
END:VEVENT
END:VCALENDAR

