BEGIN:VCALENDAR
VERSION:2.0
PRODID:-//YGAMETIME.com//YGT iCal Creator//EN
METHOD:PUBLISH
X-PUBLISHED-TTL:PT6H
REFRESH-INTERVAL;VALUE=DURATION:PT6H
CALSCALE:GREGORIAN
X-WR-CALNAME:YGAMETIME CALENDAR
BEGIN:VTIMEZONE
TZID:America/Chicago
X-LIC-LOCATION:America/Chicago
BEGIN:DAYLIGHT
TZOFFSETFROM:-0600
TZOFFSETTO:-0500
TZNAME:CDT
DTSTART:19700308T020000
RRULE:FREQ=YEARLY;BYMONTH=3;BYDAY=2SU
END:DAYLIGHT
BEGIN:STANDARD
TZOFFSETFROM:-0500
TZOFFSETTO:-0600
TZNAME:CST
DTSTART:19701101T020000
RRULE:FREQ=YEARLY;BYMONTH=11;BYDAY=1SU
END:STANDARD
END:VTIMEZONE
BEGIN:VEVENT
UID:brentwood-596795@ygametime.com
DTSTAMP:20260328T164500Z
DTSTART;TZID=America/Chicago:20260328T114500
DURATION:PT0H75M0S
SUMMARY:Watson vs Cobb
DESCRIPTION:Girls 2014-15 | Soccer\nBrentwood Family YMCA\n
URL;VALUE=URI:https://ygametime.com/branch/brentwood/sports/2026-spring-soccer/25719/?utm_medium=calendar&utm_source=team_cal&utm_content=league_url#game-596795
LOCATION:Crockett Park Field 9B
BEGIN:VALARM
TRIGGER:-P2H
ACTION:DISPLAY
DESCRIPTION:Watson vs Cobb
END:VALARM
END:VEVENT
BEGIN:VEVENT
UID:brentwood-596798@ygametime.com
DTSTAMP:20260404T153000Z
DTSTART;TZID=America/Chicago:20260404T103000
DURATION:PT0H75M0S
SUMMARY:Cobb vs Corle
DESCRIPTION:Girls 2014-15 | Soccer\nBrentwood Family YMCA\n
URL;VALUE=URI:https://ygametime.com/branch/brentwood/sports/2026-spring-soccer/25719/?utm_medium=calendar&utm_source=team_cal&utm_content=league_url#game-596798
LOCATION:Crockett Park Field 9B
BEGIN:VALARM
TRIGGER:-P2H
ACTION:DISPLAY
DESCRIPTION:Cobb vs Corle
END:VALARM
END:VEVENT
BEGIN:VEVENT
UID:brentwood-596800@ygametime.com
DTSTAMP:20260411T130000Z
DTSTART;TZID=America/Chicago:20260411T080000
DURATION:PT0H75M0S
SUMMARY:Edwards vs Cobb
DESCRIPTION:Girls 2014-15 | Soccer\nBrentwood Family YMCA\n
URL;VALUE=URI:https://ygametime.com/branch/brentwood/sports/2026-spring-soccer/25719/?utm_medium=calendar&utm_source=team_cal&utm_content=league_url#game-596800
LOCATION:Crockett Park Field 9B
BEGIN:VALARM
TRIGGER:-P2H
ACTION:DISPLAY
DESCRIPTION:Edwards vs Cobb
END:VALARM
END:VEVENT
BEGIN:VEVENT
UID:brentwood-602872@ygametime.com
DTSTAMP:20260418T164500Z
DTSTART;TZID=America/Chicago:20260418T114500
DURATION:PT0H75M0S
SUMMARY:Watson vs Cobb
DESCRIPTION:Girls 2014-15 | Soccer\nBrentwood Family YMCA\n
URL;VALUE=URI:https://ygametime.com/branch/brentwood/sports/2026-spring-soccer/25719/?utm_medium=calendar&utm_source=team_cal&utm_content=league_url#game-602872
LOCATION:Crockett Park Field 9B
BEGIN:VALARM
TRIGGER:-P2H
ACTION:DISPLAY
DESCRIPTION:Watson vs Cobb
END:VALARM
END:VEVENT
BEGIN:VEVENT
UID:brentwood-602875@ygametime.com
DTSTAMP:20260425T153000Z
DTSTART;TZID=America/Chicago:20260425T103000
DURATION:PT0H75M0S
SUMMARY:Watson vs Cobb
DESCRIPTION:Girls 2014-15 | Soccer\nBrentwood Family YMCA\n
URL;VALUE=URI:https://ygametime.com/branch/brentwood/sports/2026-spring-soccer/25719/?utm_medium=calendar&utm_source=team_cal&utm_content=league_url#game-602875
LOCATION:Crockett Park Field 9B
BEGIN:VALARM
TRIGGER:-P2H
ACTION:DISPLAY
DESCRIPTION:Watson vs Cobb
END:VALARM
END:VEVENT
BEGIN:VEVENT
UID:brentwood-602883@ygametime.com
DTSTAMP:20260509T153000Z
DTSTART;TZID=America/Chicago:20260509T103000
DURATION:PT0H75M0S
SUMMARY:Cobb vs Pappas
DESCRIPTION:Girls 2014-15 | Soccer\nBrentwood Family YMCA\n
URL;VALUE=URI:https://ygametime.com/branch/brentwood/sports/2026-spring-soccer/25719/?utm_medium=calendar&utm_source=team_cal&utm_content=league_url#game-602883
LOCATION:Crockett Park Field 9B
BEGIN:VALARM
TRIGGER:-P2H
ACTION:DISPLAY
DESCRIPTION:Cobb vs Pappas
END:VALARM
END:VEVENT
BEGIN:VEVENT
UID:brentwood-602880@ygametime.com
DTSTAMP:20260516T164500Z
DTSTART;TZID=America/Chicago:20260516T114500
DURATION:PT0H75M0S
SUMMARY:Cobb vs Kucharski/Lamson
DESCRIPTION:Girls 2014-15 | Soccer\nBrentwood Family YMCA\n
URL;VALUE=URI:https://ygametime.com/branch/brentwood/sports/2026-spring-soccer/25719/?utm_medium=calendar&utm_source=team_cal&utm_content=league_url#game-602880
LOCATION:Crockett Park Field 9B
BEGIN:VALARM
TRIGGER:-P2H
ACTION:DISPLAY
DESCRIPTION:Cobb vs Kucharski/Lamson
END:VALARM
END:VEVENT
END:VCALENDAR

