BEGIN:VCALENDAR
VERSION:2.0
PRODID:-//YGAMETIME.com//YGT iCal Creator//EN
METHOD:PUBLISH
X-PUBLISHED-TTL:PT6H
REFRESH-INTERVAL;VALUE=DURATION:PT6H
CALSCALE:GREGORIAN
X-WR-CALNAME:YGAMETIME CALENDAR
BEGIN:VTIMEZONE
TZID:America/Chicago
X-LIC-LOCATION:America/Chicago
BEGIN:DAYLIGHT
TZOFFSETFROM:-0600
TZOFFSETTO:-0500
TZNAME:CDT
DTSTART:19700308T020000
RRULE:FREQ=YEARLY;BYMONTH=3;BYDAY=2SU
END:DAYLIGHT
BEGIN:STANDARD
TZOFFSETFROM:-0500
TZOFFSETTO:-0600
TZNAME:CST
DTSTART:19701101T020000
RRULE:FREQ=YEARLY;BYMONTH=11;BYDAY=1SU
END:STANDARD
END:VTIMEZONE
BEGIN:VEVENT
UID:brentwood-596861@ygametime.com
DTSTAMP:20260328T153000Z
DTSTART;TZID=America/Chicago:20260328T103000
DURATION:PT0H75M0S
SUMMARY:Gordon vs McNamara
DESCRIPTION:Girls 2016-17 | Soccer\nBrentwood Family YMCA\n
URL;VALUE=URI:https://ygametime.com/branch/brentwood/sports/2026-spring-soccer/25718/?utm_medium=calendar&utm_source=team_cal&utm_content=league_url#game-596861
LOCATION:Crockett Park Field 10B
BEGIN:VALARM
TRIGGER:-P2H
ACTION:DISPLAY
DESCRIPTION:Gordon vs McNamara
END:VALARM
END:VEVENT
BEGIN:VEVENT
UID:brentwood-596872@ygametime.com
DTSTAMP:20260404T141500Z
DTSTART;TZID=America/Chicago:20260404T091500
DURATION:PT0H75M0S
SUMMARY:McNamara vs Barret
DESCRIPTION:Girls 2016-17 | Soccer\nBrentwood Family YMCA\n
URL;VALUE=URI:https://ygametime.com/branch/brentwood/sports/2026-spring-soccer/25718/?utm_medium=calendar&utm_source=team_cal&utm_content=league_url#game-596872
LOCATION:Crockett Park Field 10B
BEGIN:VALARM
TRIGGER:-P2H
ACTION:DISPLAY
DESCRIPTION:McNamara vs Barret
END:VALARM
END:VEVENT
BEGIN:VEVENT
UID:brentwood-596879@ygametime.com
DTSTAMP:20260411T153000Z
DTSTART;TZID=America/Chicago:20260411T103000
DURATION:PT0H75M0S
SUMMARY:McNamara vs Mings/Morgan
DESCRIPTION:Girls 2016-17 | Soccer\nBrentwood Family YMCA\n
URL;VALUE=URI:https://ygametime.com/branch/brentwood/sports/2026-spring-soccer/25718/?utm_medium=calendar&utm_source=team_cal&utm_content=league_url#game-596879
LOCATION:Crockett Park Field 10B
BEGIN:VALARM
TRIGGER:-P2H
ACTION:DISPLAY
DESCRIPTION:McNamara vs Mings/Morgan
END:VALARM
END:VEVENT
BEGIN:VEVENT
UID:brentwood-602909@ygametime.com
DTSTAMP:20260418T130000Z
DTSTART;TZID=America/Chicago:20260418T080000
DURATION:PT0H75M0S
SUMMARY:Gordon vs McNamara
DESCRIPTION:Girls 2016-17 | Soccer\nBrentwood Family YMCA\n
URL;VALUE=URI:https://ygametime.com/branch/brentwood/sports/2026-spring-soccer/25718/?utm_medium=calendar&utm_source=team_cal&utm_content=league_url#game-602909
LOCATION:Crockett Park Field 10A
BEGIN:VALARM
TRIGGER:-P2H
ACTION:DISPLAY
DESCRIPTION:Gordon vs McNamara
END:VALARM
END:VEVENT
BEGIN:VEVENT
UID:brentwood-602920@ygametime.com
DTSTAMP:20260425T141500Z
DTSTART;TZID=America/Chicago:20260425T091500
DURATION:PT0H75M0S
SUMMARY:McNamara vs Barret
DESCRIPTION:Girls 2016-17 | Soccer\nBrentwood Family YMCA\n
URL;VALUE=URI:https://ygametime.com/branch/brentwood/sports/2026-spring-soccer/25718/?utm_medium=calendar&utm_source=team_cal&utm_content=league_url#game-602920
LOCATION:Crockett Park Field 10B
BEGIN:VALARM
TRIGGER:-P2H
ACTION:DISPLAY
DESCRIPTION:McNamara vs Barret
END:VALARM
END:VEVENT
BEGIN:VEVENT
UID:brentwood-602930@ygametime.com
DTSTAMP:20260509T141500Z
DTSTART;TZID=America/Chicago:20260509T091500
DURATION:PT0H75M0S
SUMMARY:McNamara vs Martin
DESCRIPTION:Girls 2016-17 | Soccer\nBrentwood Family YMCA\n
URL;VALUE=URI:https://ygametime.com/branch/brentwood/sports/2026-spring-soccer/25718/?utm_medium=calendar&utm_source=team_cal&utm_content=league_url#game-602930
LOCATION:Crockett Park Field 10A
BEGIN:VALARM
TRIGGER:-P2H
ACTION:DISPLAY
DESCRIPTION:McNamara vs Martin
END:VALARM
END:VEVENT
BEGIN:VEVENT
UID:brentwood-602925@ygametime.com
DTSTAMP:20260516T141500Z
DTSTART;TZID=America/Chicago:20260516T091500
DURATION:PT0H75M0S
SUMMARY:Scobey/Patin/Cook vs McNamara
DESCRIPTION:Girls 2016-17 | Soccer\nBrentwood Family YMCA\n
URL;VALUE=URI:https://ygametime.com/branch/brentwood/sports/2026-spring-soccer/25718/?utm_medium=calendar&utm_source=team_cal&utm_content=league_url#game-602925
LOCATION:Crockett Park Field 10A
BEGIN:VALARM
TRIGGER:-P2H
ACTION:DISPLAY
DESCRIPTION:Scobey/Patin/Cook vs McNamara
END:VALARM
END:VEVENT
BEGIN:VEVENT
UID:brentwood-596877@ygametime.com
DTSTAMP:20260516T164500Z
DTSTART;TZID=America/Chicago:20260516T114500
DURATION:PT0H75M0S
SUMMARY:McNutt/Beeler vs McNamara
DESCRIPTION:Girls 2016-17 | Soccer\nBrentwood Family YMCA\n
URL;VALUE=URI:https://ygametime.com/branch/brentwood/sports/2026-spring-soccer/25718/?utm_medium=calendar&utm_source=team_cal&utm_content=league_url#game-596877
LOCATION:Crockett Park Field 10A
BEGIN:VALARM
TRIGGER:-P2H
ACTION:DISPLAY
DESCRIPTION:McNutt/Beeler vs McNamara
END:VALARM
END:VEVENT
END:VCALENDAR

