BEGIN:VCALENDAR
VERSION:2.0
PRODID:-//YGAMETIME.com//YGT iCal Creator//EN
METHOD:PUBLISH
X-PUBLISHED-TTL:PT6H
REFRESH-INTERVAL;VALUE=DURATION:PT6H
CALSCALE:GREGORIAN
X-WR-CALNAME:YGAMETIME CALENDAR
BEGIN:VTIMEZONE
TZID:America/Chicago
X-LIC-LOCATION:America/Chicago
BEGIN:DAYLIGHT
TZOFFSETFROM:-0600
TZOFFSETTO:-0500
TZNAME:CDT
DTSTART:19700308T020000
RRULE:FREQ=YEARLY;BYMONTH=3;BYDAY=2SU
END:DAYLIGHT
BEGIN:STANDARD
TZOFFSETFROM:-0500
TZOFFSETTO:-0600
TZNAME:CST
DTSTART:19701101T020000
RRULE:FREQ=YEARLY;BYMONTH=11;BYDAY=1SU
END:STANDARD
END:VTIMEZONE
BEGIN:VEVENT
UID:brentwood-596866@ygametime.com
DTSTAMP:20260328T153000Z
DTSTART;TZID=America/Chicago:20260328T103000
DURATION:PT0H75M0S
SUMMARY:Davis vs Blocker/Pyle/Jezek
DESCRIPTION:Girls 2016-17 | Soccer\nBrentwood Family YMCA\n
URL;VALUE=URI:https://ygametime.com/branch/brentwood/sports/2026-spring-soccer/25718/?utm_medium=calendar&utm_source=team_cal&utm_content=league_url#game-596866
LOCATION:Crockett Park Field 10A
BEGIN:VALARM
TRIGGER:-P2H
ACTION:DISPLAY
DESCRIPTION:Davis vs Blocker/Pyle/Jezek
END:VALARM
END:VEVENT
BEGIN:VEVENT
UID:brentwood-596870@ygametime.com
DTSTAMP:20260404T153000Z
DTSTART;TZID=America/Chicago:20260404T103000
DURATION:PT0H75M0S
SUMMARY:Blocker/Pyle/Jezek vs Burton 2
DESCRIPTION:Girls 2016-17 | Soccer\nBrentwood Family YMCA\n
URL;VALUE=URI:https://ygametime.com/branch/brentwood/sports/2026-spring-soccer/25718/?utm_medium=calendar&utm_source=team_cal&utm_content=league_url#game-596870
LOCATION:Crockett Park Field 10B
BEGIN:VALARM
TRIGGER:-P2H
ACTION:DISPLAY
DESCRIPTION:Blocker/Pyle/Jezek vs Burton 2
END:VALARM
END:VEVENT
BEGIN:VEVENT
UID:brentwood-596880@ygametime.com
DTSTAMP:20260404T164500Z
DTSTART;TZID=America/Chicago:20260404T114500
DURATION:PT0H75M0S
SUMMARY:Blocker/Pyle/Jezek vs McNutt/Beeler
DESCRIPTION:Girls 2016-17 | Soccer\nBrentwood Family YMCA\n
URL;VALUE=URI:https://ygametime.com/branch/brentwood/sports/2026-spring-soccer/25718/?utm_medium=calendar&utm_source=team_cal&utm_content=league_url#game-596880
LOCATION:Crockett Park Field 10B
BEGIN:VALARM
TRIGGER:-P2H
ACTION:DISPLAY
DESCRIPTION:Blocker/Pyle/Jezek vs McNutt/Beeler
END:VALARM
END:VEVENT
BEGIN:VEVENT
UID:brentwood-602914@ygametime.com
DTSTAMP:20260418T153000Z
DTSTART;TZID=America/Chicago:20260418T103000
DURATION:PT0H75M0S
SUMMARY:Burton 2 vs Blocker/Pyle/Jezek
DESCRIPTION:Girls 2016-17 | Soccer\nBrentwood Family YMCA\n
URL;VALUE=URI:https://ygametime.com/branch/brentwood/sports/2026-spring-soccer/25718/?utm_medium=calendar&utm_source=team_cal&utm_content=league_url#game-602914
LOCATION:Crockett Park Field 10A
BEGIN:VALARM
TRIGGER:-P2H
ACTION:DISPLAY
DESCRIPTION:Burton 2 vs Blocker/Pyle/Jezek
END:VALARM
END:VEVENT
BEGIN:VEVENT
UID:brentwood-602919@ygametime.com
DTSTAMP:20260425T153000Z
DTSTART;TZID=America/Chicago:20260425T103000
DURATION:PT0H75M0S
SUMMARY:Blocker/Pyle/Jezek vs Mings/Morgan
DESCRIPTION:Girls 2016-17 | Soccer\nBrentwood Family YMCA\n
URL;VALUE=URI:https://ygametime.com/branch/brentwood/sports/2026-spring-soccer/25718/?utm_medium=calendar&utm_source=team_cal&utm_content=league_url#game-602919
LOCATION:Crockett Park Field 10B
BEGIN:VALARM
TRIGGER:-P2H
ACTION:DISPLAY
DESCRIPTION:Blocker/Pyle/Jezek vs Mings/Morgan
END:VALARM
END:VEVENT
BEGIN:VEVENT
UID:brentwood-602929@ygametime.com
DTSTAMP:20260509T153000Z
DTSTART;TZID=America/Chicago:20260509T103000
DURATION:PT0H75M0S
SUMMARY:Blocker/Pyle/Jezek vs Davis
DESCRIPTION:Girls 2016-17 | Soccer\nBrentwood Family YMCA\n
URL;VALUE=URI:https://ygametime.com/branch/brentwood/sports/2026-spring-soccer/25718/?utm_medium=calendar&utm_source=team_cal&utm_content=league_url#game-602929
LOCATION:Crockett Park Field 10A
BEGIN:VALARM
TRIGGER:-P2H
ACTION:DISPLAY
DESCRIPTION:Blocker/Pyle/Jezek vs Davis
END:VALARM
END:VEVENT
BEGIN:VEVENT
UID:brentwood-602934@ygametime.com
DTSTAMP:20260509T164500Z
DTSTART;TZID=America/Chicago:20260509T114500
DURATION:PT0H75M0S
SUMMARY:Blocker/Pyle/Jezek vs Hummel/Stark
DESCRIPTION:Girls 2016-17 | Soccer\nBrentwood Family YMCA\n
URL;VALUE=URI:https://ygametime.com/branch/brentwood/sports/2026-spring-soccer/25718/?utm_medium=calendar&utm_source=team_cal&utm_content=league_url#game-602934
LOCATION:Crockett Park Field 10B
BEGIN:VALARM
TRIGGER:-P2H
ACTION:DISPLAY
DESCRIPTION:Blocker/Pyle/Jezek vs Hummel/Stark
END:VALARM
END:VEVENT
BEGIN:VEVENT
UID:brentwood-602924@ygametime.com
DTSTAMP:20260516T153000Z
DTSTART;TZID=America/Chicago:20260516T103000
DURATION:PT0H75M0S
SUMMARY:Davis vs Blocker/Pyle/Jezek
DESCRIPTION:Girls 2016-17 | Soccer\nBrentwood Family YMCA\n
URL;VALUE=URI:https://ygametime.com/branch/brentwood/sports/2026-spring-soccer/25718/?utm_medium=calendar&utm_source=team_cal&utm_content=league_url#game-602924
LOCATION:Crockett Park Field 10A
BEGIN:VALARM
TRIGGER:-P2H
ACTION:DISPLAY
DESCRIPTION:Davis vs Blocker/Pyle/Jezek
END:VALARM
END:VEVENT
END:VCALENDAR

