BEGIN:VCALENDAR
VERSION:2.0
PRODID:-//YGAMETIME.com//YGT iCal Creator//EN
METHOD:PUBLISH
X-PUBLISHED-TTL:PT6H
REFRESH-INTERVAL;VALUE=DURATION:PT6H
CALSCALE:GREGORIAN
X-WR-CALNAME:YGAMETIME CALENDAR
BEGIN:VTIMEZONE
TZID:America/Chicago
X-LIC-LOCATION:America/Chicago
BEGIN:DAYLIGHT
TZOFFSETFROM:-0600
TZOFFSETTO:-0500
TZNAME:CDT
DTSTART:19700308T020000
RRULE:FREQ=YEARLY;BYMONTH=3;BYDAY=2SU
END:DAYLIGHT
BEGIN:STANDARD
TZOFFSETFROM:-0500
TZOFFSETTO:-0600
TZNAME:CST
DTSTART:19701101T020000
RRULE:FREQ=YEARLY;BYMONTH=11;BYDAY=1SU
END:STANDARD
END:VTIMEZONE
BEGIN:VEVENT
UID:brentwood-596871@ygametime.com
DTSTAMP:20260404T153000Z
DTSTART;TZID=America/Chicago:20260404T103000
DURATION:PT0H75M0S
SUMMARY:Hummel/Stark vs Mings/Morgan
DESCRIPTION:Girls 2016-17 | Soccer\nBrentwood Family YMCA\n
URL;VALUE=URI:https://ygametime.com/branch/brentwood/sports/2026-spring-soccer/25718/?utm_medium=calendar&utm_source=team_cal&utm_content=league_url#game-596871
LOCATION:Crockett Park Field 10A
BEGIN:VALARM
TRIGGER:-P2H
ACTION:DISPLAY
DESCRIPTION:Hummel/Stark vs Mings/Morgan
END:VALARM
END:VEVENT
BEGIN:VEVENT
UID:brentwood-596876@ygametime.com
DTSTAMP:20260411T141500Z
DTSTART;TZID=America/Chicago:20260411T091500
DURATION:PT0H75M0S
SUMMARY:Mings/Morgan vs Gillis
DESCRIPTION:Girls 2016-17 | Soccer\nBrentwood Family YMCA\n
URL;VALUE=URI:https://ygametime.com/branch/brentwood/sports/2026-spring-soccer/25718/?utm_medium=calendar&utm_source=team_cal&utm_content=league_url#game-596876
LOCATION:Crockett Park Field 10A
BEGIN:VALARM
TRIGGER:-P2H
ACTION:DISPLAY
DESCRIPTION:Mings/Morgan vs Gillis
END:VALARM
END:VEVENT
BEGIN:VEVENT
UID:brentwood-596879@ygametime.com
DTSTAMP:20260411T153000Z
DTSTART;TZID=America/Chicago:20260411T103000
DURATION:PT0H75M0S
SUMMARY:McNamara vs Mings/Morgan
DESCRIPTION:Girls 2016-17 | Soccer\nBrentwood Family YMCA\n
URL;VALUE=URI:https://ygametime.com/branch/brentwood/sports/2026-spring-soccer/25718/?utm_medium=calendar&utm_source=team_cal&utm_content=league_url#game-596879
LOCATION:Crockett Park Field 10B
BEGIN:VALARM
TRIGGER:-P2H
ACTION:DISPLAY
DESCRIPTION:McNamara vs Mings/Morgan
END:VALARM
END:VEVENT
BEGIN:VEVENT
UID:brentwood-602911@ygametime.com
DTSTAMP:20260418T141500Z
DTSTART;TZID=America/Chicago:20260418T091500
DURATION:PT0H75M0S
SUMMARY:McNutt/Beeler vs Mings/Morgan
DESCRIPTION:Girls 2016-17 | Soccer\nBrentwood Family YMCA\n
URL;VALUE=URI:https://ygametime.com/branch/brentwood/sports/2026-spring-soccer/25718/?utm_medium=calendar&utm_source=team_cal&utm_content=league_url#game-602911
LOCATION:Crockett Park Field 10A
BEGIN:VALARM
TRIGGER:-P2H
ACTION:DISPLAY
DESCRIPTION:McNutt/Beeler vs Mings/Morgan
END:VALARM
END:VEVENT
BEGIN:VEVENT
UID:brentwood-602919@ygametime.com
DTSTAMP:20260425T153000Z
DTSTART;TZID=America/Chicago:20260425T103000
DURATION:PT0H75M0S
SUMMARY:Blocker/Pyle/Jezek vs Mings/Morgan
DESCRIPTION:Girls 2016-17 | Soccer\nBrentwood Family YMCA\n
URL;VALUE=URI:https://ygametime.com/branch/brentwood/sports/2026-spring-soccer/25718/?utm_medium=calendar&utm_source=team_cal&utm_content=league_url#game-602919
LOCATION:Crockett Park Field 10B
BEGIN:VALARM
TRIGGER:-P2H
ACTION:DISPLAY
DESCRIPTION:Blocker/Pyle/Jezek vs Mings/Morgan
END:VALARM
END:VEVENT
BEGIN:VEVENT
UID:brentwood-602927@ygametime.com
DTSTAMP:20260509T153000Z
DTSTART;TZID=America/Chicago:20260509T103000
DURATION:PT0H75M0S
SUMMARY:Scobey/Patin/Cook vs Mings/Morgan
DESCRIPTION:Girls 2016-17 | Soccer\nBrentwood Family YMCA\n
URL;VALUE=URI:https://ygametime.com/branch/brentwood/sports/2026-spring-soccer/25718/?utm_medium=calendar&utm_source=team_cal&utm_content=league_url#game-602927
LOCATION:Crockett Park Field 10B
BEGIN:VALARM
TRIGGER:-P2H
ACTION:DISPLAY
DESCRIPTION:Scobey/Patin/Cook vs Mings/Morgan
END:VALARM
END:VEVENT
BEGIN:VEVENT
UID:brentwood-602922@ygametime.com
DTSTAMP:20260516T130000Z
DTSTART;TZID=America/Chicago:20260516T080000
DURATION:PT0H75M0S
SUMMARY:Burton 2 vs Mings/Morgan
DESCRIPTION:Girls 2016-17 | Soccer\nBrentwood Family YMCA\n
URL;VALUE=URI:https://ygametime.com/branch/brentwood/sports/2026-spring-soccer/25718/?utm_medium=calendar&utm_source=team_cal&utm_content=league_url#game-602922
LOCATION:Crockett Park Field 10B
BEGIN:VALARM
TRIGGER:-P2H
ACTION:DISPLAY
DESCRIPTION:Burton 2 vs Mings/Morgan
END:VALARM
END:VEVENT
END:VCALENDAR

