BEGIN:VCALENDAR
VERSION:2.0
PRODID:-//YGAMETIME.com//YGT iCal Creator//EN
METHOD:PUBLISH
X-PUBLISHED-TTL:PT6H
REFRESH-INTERVAL;VALUE=DURATION:PT6H
CALSCALE:GREGORIAN
X-WR-CALNAME:YGAMETIME CALENDAR
BEGIN:VTIMEZONE
TZID:America/Chicago
X-LIC-LOCATION:America/Chicago
BEGIN:DAYLIGHT
TZOFFSETFROM:-0600
TZOFFSETTO:-0500
TZNAME:CDT
DTSTART:19700308T020000
RRULE:FREQ=YEARLY;BYMONTH=3;BYDAY=2SU
END:DAYLIGHT
BEGIN:STANDARD
TZOFFSETFROM:-0500
TZOFFSETTO:-0600
TZNAME:CST
DTSTART:19701101T020000
RRULE:FREQ=YEARLY;BYMONTH=11;BYDAY=1SU
END:STANDARD
END:VTIMEZONE
BEGIN:VEVENT
UID:brentwood-596861@ygametime.com
DTSTAMP:20260328T153000Z
DTSTART;TZID=America/Chicago:20260328T103000
DURATION:PT0H75M0S
SUMMARY:Gordon vs McNamara
DESCRIPTION:Girls 2016-17 | Soccer\nBrentwood Family YMCA\n
URL;VALUE=URI:https://ygametime.com/branch/brentwood/sports/2026-spring-soccer/25718/?utm_medium=calendar&utm_source=team_cal&utm_content=league_url#game-596861
LOCATION:Crockett Park Field 10B
BEGIN:VALARM
TRIGGER:-P2H
ACTION:DISPLAY
DESCRIPTION:Gordon vs McNamara
END:VALARM
END:VEVENT
BEGIN:VEVENT
UID:brentwood-596867@ygametime.com
DTSTAMP:20260404T130000Z
DTSTART;TZID=America/Chicago:20260404T080000
DURATION:PT0H75M0S
SUMMARY:Gillis vs Gordon
DESCRIPTION:Girls 2016-17 | Soccer\nBrentwood Family YMCA\n
URL;VALUE=URI:https://ygametime.com/branch/brentwood/sports/2026-spring-soccer/25718/?utm_medium=calendar&utm_source=team_cal&utm_content=league_url#game-596867
LOCATION:Crockett Park Field 10A
BEGIN:VALARM
TRIGGER:-P2H
ACTION:DISPLAY
DESCRIPTION:Gillis vs Gordon
END:VALARM
END:VEVENT
BEGIN:VEVENT
UID:brentwood-596873@ygametime.com
DTSTAMP:20260411T130000Z
DTSTART;TZID=America/Chicago:20260411T080000
DURATION:PT0H75M0S
SUMMARY:Gordon vs Burton 1
DESCRIPTION:Girls 2016-17 | Soccer\nBrentwood Family YMCA\n
URL;VALUE=URI:https://ygametime.com/branch/brentwood/sports/2026-spring-soccer/25718/?utm_medium=calendar&utm_source=team_cal&utm_content=league_url#game-596873
LOCATION:Crockett Park Field 10A
BEGIN:VALARM
TRIGGER:-P2H
ACTION:DISPLAY
DESCRIPTION:Gordon vs Burton 1
END:VALARM
END:VEVENT
BEGIN:VEVENT
UID:brentwood-602909@ygametime.com
DTSTAMP:20260418T130000Z
DTSTART;TZID=America/Chicago:20260418T080000
DURATION:PT0H75M0S
SUMMARY:Gordon vs McNamara
DESCRIPTION:Girls 2016-17 | Soccer\nBrentwood Family YMCA\n
URL;VALUE=URI:https://ygametime.com/branch/brentwood/sports/2026-spring-soccer/25718/?utm_medium=calendar&utm_source=team_cal&utm_content=league_url#game-602909
LOCATION:Crockett Park Field 10A
BEGIN:VALARM
TRIGGER:-P2H
ACTION:DISPLAY
DESCRIPTION:Gordon vs McNamara
END:VALARM
END:VEVENT
BEGIN:VEVENT
UID:brentwood-602912@ygametime.com
DTSTAMP:20260418T153000Z
DTSTART;TZID=America/Chicago:20260418T103000
DURATION:PT0H75M0S
SUMMARY:Martin vs Gordon
DESCRIPTION:Girls 2016-17 | Soccer\nBrentwood Family YMCA\n
URL;VALUE=URI:https://ygametime.com/branch/brentwood/sports/2026-spring-soccer/25718/?utm_medium=calendar&utm_source=team_cal&utm_content=league_url#game-602912
LOCATION:Crockett Park Field 10B
BEGIN:VALARM
TRIGGER:-P2H
ACTION:DISPLAY
DESCRIPTION:Martin vs Gordon
END:VALARM
END:VEVENT
BEGIN:VEVENT
UID:brentwood-602915@ygametime.com
DTSTAMP:20260425T130000Z
DTSTART;TZID=America/Chicago:20260425T080000
DURATION:PT0H75M0S
SUMMARY:Burton 2 vs Gordon
DESCRIPTION:Girls 2016-17 | Soccer\nBrentwood Family YMCA\n
URL;VALUE=URI:https://ygametime.com/branch/brentwood/sports/2026-spring-soccer/25718/?utm_medium=calendar&utm_source=team_cal&utm_content=league_url#game-602915
LOCATION:Crockett Park Field 10A
BEGIN:VALARM
TRIGGER:-P2H
ACTION:DISPLAY
DESCRIPTION:Burton 2 vs Gordon
END:VALARM
END:VEVENT
BEGIN:VEVENT
UID:brentwood-602921@ygametime.com
DTSTAMP:20260516T130000Z
DTSTART;TZID=America/Chicago:20260516T080000
DURATION:PT0H75M0S
SUMMARY:Gordon vs Burton 1
DESCRIPTION:Girls 2016-17 | Soccer\nBrentwood Family YMCA\n
URL;VALUE=URI:https://ygametime.com/branch/brentwood/sports/2026-spring-soccer/25718/?utm_medium=calendar&utm_source=team_cal&utm_content=league_url#game-602921
LOCATION:Crockett Park Field 10A
BEGIN:VALARM
TRIGGER:-P2H
ACTION:DISPLAY
DESCRIPTION:Gordon vs Burton 1
END:VALARM
END:VEVENT
END:VCALENDAR

