BEGIN:VCALENDAR
VERSION:2.0
PRODID:-//YGAMETIME.com//YGT iCal Creator//EN
METHOD:PUBLISH
X-PUBLISHED-TTL:PT6H
REFRESH-INTERVAL;VALUE=DURATION:PT6H
CALSCALE:GREGORIAN
X-WR-CALNAME:YGAMETIME CALENDAR
BEGIN:VTIMEZONE
TZID:America/Chicago
X-LIC-LOCATION:America/Chicago
BEGIN:DAYLIGHT
TZOFFSETFROM:-0600
TZOFFSETTO:-0500
TZNAME:CDT
DTSTART:19700308T020000
RRULE:FREQ=YEARLY;BYMONTH=3;BYDAY=2SU
END:DAYLIGHT
BEGIN:STANDARD
TZOFFSETFROM:-0500
TZOFFSETTO:-0600
TZNAME:CST
DTSTART:19701101T020000
RRULE:FREQ=YEARLY;BYMONTH=11;BYDAY=1SU
END:STANDARD
END:VTIMEZONE
BEGIN:VEVENT
UID:brentwood-596863@ygametime.com
DTSTAMP:20260328T141500Z
DTSTART;TZID=America/Chicago:20260328T091500
DURATION:PT0H75M0S
SUMMARY:McNutt/Beeler vs Gillis
DESCRIPTION:Girls 2016-17 | Soccer\nBrentwood Family YMCA\n
URL;VALUE=URI:https://ygametime.com/branch/brentwood/sports/2026-spring-soccer/25718/?utm_medium=calendar&utm_source=team_cal&utm_content=league_url#game-596863
LOCATION:Crockett Park Field 10A
BEGIN:VALARM
TRIGGER:-P2H
ACTION:DISPLAY
DESCRIPTION:McNutt/Beeler vs Gillis
END:VALARM
END:VEVENT
BEGIN:VEVENT
UID:brentwood-596867@ygametime.com
DTSTAMP:20260404T130000Z
DTSTART;TZID=America/Chicago:20260404T080000
DURATION:PT0H75M0S
SUMMARY:Gillis vs Gordon
DESCRIPTION:Girls 2016-17 | Soccer\nBrentwood Family YMCA\n
URL;VALUE=URI:https://ygametime.com/branch/brentwood/sports/2026-spring-soccer/25718/?utm_medium=calendar&utm_source=team_cal&utm_content=league_url#game-596867
LOCATION:Crockett Park Field 10A
BEGIN:VALARM
TRIGGER:-P2H
ACTION:DISPLAY
DESCRIPTION:Gillis vs Gordon
END:VALARM
END:VEVENT
BEGIN:VEVENT
UID:brentwood-596876@ygametime.com
DTSTAMP:20260411T141500Z
DTSTART;TZID=America/Chicago:20260411T091500
DURATION:PT0H75M0S
SUMMARY:Mings/Morgan vs Gillis
DESCRIPTION:Girls 2016-17 | Soccer\nBrentwood Family YMCA\n
URL;VALUE=URI:https://ygametime.com/branch/brentwood/sports/2026-spring-soccer/25718/?utm_medium=calendar&utm_source=team_cal&utm_content=league_url#game-596876
LOCATION:Crockett Park Field 10A
BEGIN:VALARM
TRIGGER:-P2H
ACTION:DISPLAY
DESCRIPTION:Mings/Morgan vs Gillis
END:VALARM
END:VEVENT
BEGIN:VEVENT
UID:brentwood-602918@ygametime.com
DTSTAMP:20260425T141500Z
DTSTART;TZID=America/Chicago:20260425T091500
DURATION:PT0H75M0S
SUMMARY:Hummel/Stark vs Gillis
DESCRIPTION:Girls 2016-17 | Soccer\nBrentwood Family YMCA\n
URL;VALUE=URI:https://ygametime.com/branch/brentwood/sports/2026-spring-soccer/25718/?utm_medium=calendar&utm_source=team_cal&utm_content=league_url#game-602918
LOCATION:Crockett Park Field 10A
BEGIN:VALARM
TRIGGER:-P2H
ACTION:DISPLAY
DESCRIPTION:Hummel/Stark vs Gillis
END:VALARM
END:VEVENT
BEGIN:VEVENT
UID:brentwood-602935@ygametime.com
DTSTAMP:20260425T164500Z
DTSTART;TZID=America/Chicago:20260425T114500
DURATION:PT0H75M0S
SUMMARY:Gillis vs Barret
DESCRIPTION:Girls 2016-17 | Soccer\nBrentwood Family YMCA\n
URL;VALUE=URI:https://ygametime.com/branch/brentwood/sports/2026-spring-soccer/25718/?utm_medium=calendar&utm_source=team_cal&utm_content=league_url#game-602935
LOCATION:Crockett Park Field 10A
BEGIN:VALARM
TRIGGER:-P2H
ACTION:DISPLAY
DESCRIPTION:Gillis vs Barret
END:VALARM
END:VEVENT
BEGIN:VEVENT
UID:brentwood-602931@ygametime.com
DTSTAMP:20260509T130000Z
DTSTART;TZID=America/Chicago:20260509T080000
DURATION:PT0H75M0S
SUMMARY:Burton 1 vs Gillis
DESCRIPTION:Girls 2016-17 | Soccer\nBrentwood Family YMCA\n
URL;VALUE=URI:https://ygametime.com/branch/brentwood/sports/2026-spring-soccer/25718/?utm_medium=calendar&utm_source=team_cal&utm_content=league_url#game-602931
LOCATION:Crockett Park Field 10A
BEGIN:VALARM
TRIGGER:-P2H
ACTION:DISPLAY
DESCRIPTION:Burton 1 vs Gillis
END:VALARM
END:VEVENT
BEGIN:VEVENT
UID:brentwood-602923@ygametime.com
DTSTAMP:20260516T153000Z
DTSTART;TZID=America/Chicago:20260516T103000
DURATION:PT0H75M0S
SUMMARY:Gillis vs Hummel/Stark
DESCRIPTION:Girls 2016-17 | Soccer\nBrentwood Family YMCA\n
URL;VALUE=URI:https://ygametime.com/branch/brentwood/sports/2026-spring-soccer/25718/?utm_medium=calendar&utm_source=team_cal&utm_content=league_url#game-602923
LOCATION:Crockett Park Field 10B
BEGIN:VALARM
TRIGGER:-P2H
ACTION:DISPLAY
DESCRIPTION:Gillis vs Hummel/Stark
END:VALARM
END:VEVENT
END:VCALENDAR

