BEGIN:VCALENDAR
VERSION:2.0
PRODID:-//YGAMETIME.com//YGT iCal Creator//EN
METHOD:PUBLISH
X-PUBLISHED-TTL:PT6H
REFRESH-INTERVAL;VALUE=DURATION:PT6H
CALSCALE:GREGORIAN
X-WR-CALNAME:YGAMETIME CALENDAR
BEGIN:VTIMEZONE
TZID:America/Chicago
X-LIC-LOCATION:America/Chicago
BEGIN:DAYLIGHT
TZOFFSETFROM:-0600
TZOFFSETTO:-0500
TZNAME:CDT
DTSTART:19700308T020000
RRULE:FREQ=YEARLY;BYMONTH=3;BYDAY=2SU
END:DAYLIGHT
BEGIN:STANDARD
TZOFFSETFROM:-0500
TZOFFSETTO:-0600
TZNAME:CST
DTSTART:19701101T020000
RRULE:FREQ=YEARLY;BYMONTH=11;BYDAY=1SU
END:STANDARD
END:VTIMEZONE
BEGIN:VEVENT
UID:brentwood-597307@ygametime.com
DTSTAMP:20260328T153000Z
DTSTART;TZID=America/Chicago:20260328T103000
DURATION:PT0H75M0S
SUMMARY:McGarvey vs Murray
DESCRIPTION:Girls 2018 | Soccer\nBrentwood Family YMCA\n
URL;VALUE=URI:https://ygametime.com/branch/brentwood/sports/2026-spring-soccer/25717/?utm_medium=calendar&utm_source=team_cal&utm_content=league_url#game-597307
LOCATION:Crockett Park Field 7A
BEGIN:VALARM
TRIGGER:-P2H
ACTION:DISPLAY
DESCRIPTION:McGarvey vs Murray
END:VALARM
END:VEVENT
BEGIN:VEVENT
UID:brentwood-597287@ygametime.com
DTSTAMP:20260404T153000Z
DTSTART;TZID=America/Chicago:20260404T103000
DURATION:PT0H75M0S
SUMMARY:McGarvey vs Murray
DESCRIPTION:Girls 2018 | Soccer\nBrentwood Family YMCA\n
URL;VALUE=URI:https://ygametime.com/branch/brentwood/sports/2026-spring-soccer/25717/?utm_medium=calendar&utm_source=team_cal&utm_content=league_url#game-597287
LOCATION:Crockett Park Field 7A
BEGIN:VALARM
TRIGGER:-P2H
ACTION:DISPLAY
DESCRIPTION:McGarvey vs Murray
END:VALARM
END:VEVENT
BEGIN:VEVENT
UID:brentwood-597285@ygametime.com
DTSTAMP:20260411T180000Z
DTSTART;TZID=America/Chicago:20260411T130000
DURATION:PT0H75M0S
SUMMARY:Murray vs Smith
DESCRIPTION:Girls 2018 | Soccer\nBrentwood Family YMCA\n
URL;VALUE=URI:https://ygametime.com/branch/brentwood/sports/2026-spring-soccer/25717/?utm_medium=calendar&utm_source=team_cal&utm_content=league_url#game-597285
LOCATION:Crockett Park Field 8A
BEGIN:VALARM
TRIGGER:-P2H
ACTION:DISPLAY
DESCRIPTION:Murray vs Smith
END:VALARM
END:VEVENT
BEGIN:VEVENT
UID:brentwood-597293@ygametime.com
DTSTAMP:20260418T153000Z
DTSTART;TZID=America/Chicago:20260418T103000
DURATION:PT0H75M0S
SUMMARY:Stewart vs Murray
DESCRIPTION:Girls 2018 | Soccer\nBrentwood Family YMCA\n
URL;VALUE=URI:https://ygametime.com/branch/brentwood/sports/2026-spring-soccer/25717/?utm_medium=calendar&utm_source=team_cal&utm_content=league_url#game-597293
LOCATION:Crockett Park Field 7A
BEGIN:VALARM
TRIGGER:-P2H
ACTION:DISPLAY
DESCRIPTION:Stewart vs Murray
END:VALARM
END:VEVENT
BEGIN:VEVENT
UID:brentwood-597289@ygametime.com
DTSTAMP:20260425T141500Z
DTSTART;TZID=America/Chicago:20260425T091500
DURATION:PT0H75M0S
SUMMARY:Murray vs Pinto
DESCRIPTION:Girls 2018 | Soccer\nBrentwood Family YMCA\n
URL;VALUE=URI:https://ygametime.com/branch/brentwood/sports/2026-spring-soccer/25717/?utm_medium=calendar&utm_source=team_cal&utm_content=league_url#game-597289
LOCATION:Crockett Park Field 7A
BEGIN:VALARM
TRIGGER:-P2H
ACTION:DISPLAY
DESCRIPTION:Murray vs Pinto
END:VALARM
END:VEVENT
BEGIN:VEVENT
UID:brentwood-597302@ygametime.com
DTSTAMP:20260509T153000Z
DTSTART;TZID=America/Chicago:20260509T103000
DURATION:PT0H75M0S
SUMMARY:Murray vs Williams
DESCRIPTION:Girls 2018 | Soccer\nBrentwood Family YMCA\n
URL;VALUE=URI:https://ygametime.com/branch/brentwood/sports/2026-spring-soccer/25717/?utm_medium=calendar&utm_source=team_cal&utm_content=league_url#game-597302
LOCATION:Crockett Park Field 7A
BEGIN:VALARM
TRIGGER:-P2H
ACTION:DISPLAY
DESCRIPTION:Murray vs Williams
END:VALARM
END:VEVENT
BEGIN:VEVENT
UID:brentwood-597305@ygametime.com
DTSTAMP:20260509T180000Z
DTSTART;TZID=America/Chicago:20260509T130000
DURATION:PT0H75M0S
SUMMARY:Murray vs Smith
DESCRIPTION:Girls 2018 | Soccer\nBrentwood Family YMCA\n
URL;VALUE=URI:https://ygametime.com/branch/brentwood/sports/2026-spring-soccer/25717/?utm_medium=calendar&utm_source=team_cal&utm_content=league_url#game-597305
LOCATION:Crockett Park Field 8A
BEGIN:VALARM
TRIGGER:-P2H
ACTION:DISPLAY
DESCRIPTION:Murray vs Smith
END:VALARM
END:VEVENT
BEGIN:VEVENT
UID:brentwood-597299@ygametime.com
DTSTAMP:20260516T153000Z
DTSTART;TZID=America/Chicago:20260516T103000
DURATION:PT0H75M0S
SUMMARY:Winters vs Murray
DESCRIPTION:Girls 2018 | Soccer\nBrentwood Family YMCA\n
URL;VALUE=URI:https://ygametime.com/branch/brentwood/sports/2026-spring-soccer/25717/?utm_medium=calendar&utm_source=team_cal&utm_content=league_url#game-597299
LOCATION:Crockett Park Field 7A
BEGIN:VALARM
TRIGGER:-P2H
ACTION:DISPLAY
DESCRIPTION:Winters vs Murray
END:VALARM
END:VEVENT
END:VCALENDAR

