BEGIN:VCALENDAR
VERSION:2.0
PRODID:-//YGAMETIME.com//YGT iCal Creator//EN
METHOD:PUBLISH
X-PUBLISHED-TTL:PT6H
REFRESH-INTERVAL;VALUE=DURATION:PT6H
CALSCALE:GREGORIAN
X-WR-CALNAME:YGAMETIME CALENDAR
BEGIN:VTIMEZONE
TZID:America/Chicago
X-LIC-LOCATION:America/Chicago
BEGIN:DAYLIGHT
TZOFFSETFROM:-0600
TZOFFSETTO:-0500
TZNAME:CDT
DTSTART:19700308T020000
RRULE:FREQ=YEARLY;BYMONTH=3;BYDAY=2SU
END:DAYLIGHT
BEGIN:STANDARD
TZOFFSETFROM:-0500
TZOFFSETTO:-0600
TZNAME:CST
DTSTART:19701101T020000
RRULE:FREQ=YEARLY;BYMONTH=11;BYDAY=1SU
END:STANDARD
END:VTIMEZONE
BEGIN:VEVENT
UID:brentwood-597296@ygametime.com
DTSTAMP:20260328T180000Z
DTSTART;TZID=America/Chicago:20260328T130000
DURATION:PT0H75M0S
SUMMARY:Williams vs Stewart
DESCRIPTION:Girls 2018 | Soccer\nBrentwood Family YMCA\n
URL;VALUE=URI:https://ygametime.com/branch/brentwood/sports/2026-spring-soccer/25717/?utm_medium=calendar&utm_source=team_cal&utm_content=league_url#game-597296
LOCATION:Crockett Park Field 8A
BEGIN:VALARM
TRIGGER:-P2H
ACTION:DISPLAY
DESCRIPTION:Williams vs Stewart
END:VALARM
END:VEVENT
BEGIN:VEVENT
UID:brentwood-597286@ygametime.com
DTSTAMP:20260404T141500Z
DTSTART;TZID=America/Chicago:20260404T091500
DURATION:PT0H75M0S
SUMMARY:Smith vs Williams
DESCRIPTION:Girls 2018 | Soccer\nBrentwood Family YMCA\n
URL;VALUE=URI:https://ygametime.com/branch/brentwood/sports/2026-spring-soccer/25717/?utm_medium=calendar&utm_source=team_cal&utm_content=league_url#game-597286
LOCATION:Crockett Park Field 7A
BEGIN:VALARM
TRIGGER:-P2H
ACTION:DISPLAY
DESCRIPTION:Smith vs Williams
END:VALARM
END:VEVENT
BEGIN:VEVENT
UID:brentwood-597283@ygametime.com
DTSTAMP:20260411T141500Z
DTSTART;TZID=America/Chicago:20260411T091500
DURATION:PT0H75M0S
SUMMARY:Williams vs Winters
DESCRIPTION:Girls 2018 | Soccer\nBrentwood Family YMCA\n
URL;VALUE=URI:https://ygametime.com/branch/brentwood/sports/2026-spring-soccer/25717/?utm_medium=calendar&utm_source=team_cal&utm_content=league_url#game-597283
LOCATION:Crockett Park Field 7A
BEGIN:VALARM
TRIGGER:-P2H
ACTION:DISPLAY
DESCRIPTION:Williams vs Winters
END:VALARM
END:VEVENT
BEGIN:VEVENT
UID:brentwood-597294@ygametime.com
DTSTAMP:20260418T180000Z
DTSTART;TZID=America/Chicago:20260418T130000
DURATION:PT0H75M0S
SUMMARY:Pinto vs Williams
DESCRIPTION:Girls 2018 | Soccer\nBrentwood Family YMCA\n
URL;VALUE=URI:https://ygametime.com/branch/brentwood/sports/2026-spring-soccer/25717/?utm_medium=calendar&utm_source=team_cal&utm_content=league_url#game-597294
LOCATION:Crockett Park Field 8A
BEGIN:VALARM
TRIGGER:-P2H
ACTION:DISPLAY
DESCRIPTION:Pinto vs Williams
END:VALARM
END:VEVENT
BEGIN:VEVENT
UID:brentwood-597291@ygametime.com
DTSTAMP:20260425T180000Z
DTSTART;TZID=America/Chicago:20260425T130000
DURATION:PT0H75M0S
SUMMARY:Williams vs McGarvey
DESCRIPTION:Girls 2018 | Soccer\nBrentwood Family YMCA\n
URL;VALUE=URI:https://ygametime.com/branch/brentwood/sports/2026-spring-soccer/25717/?utm_medium=calendar&utm_source=team_cal&utm_content=league_url#game-597291
LOCATION:Crockett Park Field 8A
BEGIN:VALARM
TRIGGER:-P2H
ACTION:DISPLAY
DESCRIPTION:Williams vs McGarvey
END:VALARM
END:VEVENT
BEGIN:VEVENT
UID:brentwood-597302@ygametime.com
DTSTAMP:20260509T153000Z
DTSTART;TZID=America/Chicago:20260509T103000
DURATION:PT0H75M0S
SUMMARY:Murray vs Williams
DESCRIPTION:Girls 2018 | Soccer\nBrentwood Family YMCA\n
URL;VALUE=URI:https://ygametime.com/branch/brentwood/sports/2026-spring-soccer/25717/?utm_medium=calendar&utm_source=team_cal&utm_content=league_url#game-597302
LOCATION:Crockett Park Field 7A
BEGIN:VALARM
TRIGGER:-P2H
ACTION:DISPLAY
DESCRIPTION:Murray vs Williams
END:VALARM
END:VEVENT
BEGIN:VEVENT
UID:brentwood-597306@ygametime.com
DTSTAMP:20260516T180000Z
DTSTART;TZID=America/Chicago:20260516T130000
DURATION:PT0H75M0S
SUMMARY:Williams vs Winters
DESCRIPTION:Girls 2018 | Soccer\nBrentwood Family YMCA\n
URL;VALUE=URI:https://ygametime.com/branch/brentwood/sports/2026-spring-soccer/25717/?utm_medium=calendar&utm_source=team_cal&utm_content=league_url#game-597306
LOCATION:Crockett Park Field 8B
BEGIN:VALARM
TRIGGER:-P2H
ACTION:DISPLAY
DESCRIPTION:Williams vs Winters
END:VALARM
END:VEVENT
END:VCALENDAR

