BEGIN:VCALENDAR
VERSION:2.0
PRODID:-//YGAMETIME.com//YGT iCal Creator//EN
METHOD:PUBLISH
X-PUBLISHED-TTL:PT6H
REFRESH-INTERVAL;VALUE=DURATION:PT6H
CALSCALE:GREGORIAN
X-WR-CALNAME:YGAMETIME CALENDAR
BEGIN:VTIMEZONE
TZID:America/Chicago
X-LIC-LOCATION:America/Chicago
BEGIN:DAYLIGHT
TZOFFSETFROM:-0600
TZOFFSETTO:-0500
TZNAME:CDT
DTSTART:19700308T020000
RRULE:FREQ=YEARLY;BYMONTH=3;BYDAY=2SU
END:DAYLIGHT
BEGIN:STANDARD
TZOFFSETFROM:-0500
TZOFFSETTO:-0600
TZNAME:CST
DTSTART:19701101T020000
RRULE:FREQ=YEARLY;BYMONTH=11;BYDAY=1SU
END:STANDARD
END:VTIMEZONE
BEGIN:VEVENT
UID:brentwood-597296@ygametime.com
DTSTAMP:20260328T180000Z
DTSTART;TZID=America/Chicago:20260328T130000
DURATION:PT0H75M0S
SUMMARY:Williams vs Stewart
DESCRIPTION:Girls 2018 | Soccer\nBrentwood Family YMCA\n
URL;VALUE=URI:https://ygametime.com/branch/brentwood/sports/2026-spring-soccer/25717/?utm_medium=calendar&utm_source=team_cal&utm_content=league_url#game-597296
LOCATION:Crockett Park Field 8A
BEGIN:VALARM
TRIGGER:-P2H
ACTION:DISPLAY
DESCRIPTION:Williams vs Stewart
END:VALARM
END:VEVENT
BEGIN:VEVENT
UID:brentwood-597288@ygametime.com
DTSTAMP:20260404T180000Z
DTSTART;TZID=America/Chicago:20260404T130000
DURATION:PT0H75M0S
SUMMARY:Winters vs Stewart
DESCRIPTION:Girls 2018 | Soccer\nBrentwood Family YMCA\n
URL;VALUE=URI:https://ygametime.com/branch/brentwood/sports/2026-spring-soccer/25717/?utm_medium=calendar&utm_source=team_cal&utm_content=league_url#game-597288
LOCATION:Crockett Park Field 8A
BEGIN:VALARM
TRIGGER:-P2H
ACTION:DISPLAY
DESCRIPTION:Winters vs Stewart
END:VALARM
END:VEVENT
BEGIN:VEVENT
UID:brentwood-597284@ygametime.com
DTSTAMP:20260411T153000Z
DTSTART;TZID=America/Chicago:20260411T103000
DURATION:PT0H75M0S
SUMMARY:Stewart vs Pinto
DESCRIPTION:Girls 2018 | Soccer\nBrentwood Family YMCA\n
URL;VALUE=URI:https://ygametime.com/branch/brentwood/sports/2026-spring-soccer/25717/?utm_medium=calendar&utm_source=team_cal&utm_content=league_url#game-597284
LOCATION:Crockett Park Field 7A
BEGIN:VALARM
TRIGGER:-P2H
ACTION:DISPLAY
DESCRIPTION:Stewart vs Pinto
END:VALARM
END:VEVENT
BEGIN:VEVENT
UID:brentwood-597293@ygametime.com
DTSTAMP:20260418T153000Z
DTSTART;TZID=America/Chicago:20260418T103000
DURATION:PT0H75M0S
SUMMARY:Stewart vs Murray
DESCRIPTION:Girls 2018 | Soccer\nBrentwood Family YMCA\n
URL;VALUE=URI:https://ygametime.com/branch/brentwood/sports/2026-spring-soccer/25717/?utm_medium=calendar&utm_source=team_cal&utm_content=league_url#game-597293
LOCATION:Crockett Park Field 7A
BEGIN:VALARM
TRIGGER:-P2H
ACTION:DISPLAY
DESCRIPTION:Stewart vs Murray
END:VALARM
END:VEVENT
BEGIN:VEVENT
UID:brentwood-597304@ygametime.com
DTSTAMP:20260425T180000Z
DTSTART;TZID=America/Chicago:20260425T130000
DURATION:PT0H75M0S
SUMMARY:Stewart vs Pinto
DESCRIPTION:Girls 2018 | Soccer\nBrentwood Family YMCA\n
URL;VALUE=URI:https://ygametime.com/branch/brentwood/sports/2026-spring-soccer/25717/?utm_medium=calendar&utm_source=team_cal&utm_content=league_url#game-597304
LOCATION:Crockett Park Field 8B
BEGIN:VALARM
TRIGGER:-P2H
ACTION:DISPLAY
DESCRIPTION:Stewart vs Pinto
END:VALARM
END:VEVENT
BEGIN:VEVENT
UID:brentwood-597303@ygametime.com
DTSTAMP:20260509T180000Z
DTSTART;TZID=America/Chicago:20260509T130000
DURATION:PT0H75M0S
SUMMARY:McGarvey vs Stewart
DESCRIPTION:Girls 2018 | Soccer\nBrentwood Family YMCA\n
URL;VALUE=URI:https://ygametime.com/branch/brentwood/sports/2026-spring-soccer/25717/?utm_medium=calendar&utm_source=team_cal&utm_content=league_url#game-597303
LOCATION:Crockett Park Field 8B
BEGIN:VALARM
TRIGGER:-P2H
ACTION:DISPLAY
DESCRIPTION:McGarvey vs Stewart
END:VALARM
END:VEVENT
BEGIN:VEVENT
UID:brentwood-597298@ygametime.com
DTSTAMP:20260516T141500Z
DTSTART;TZID=America/Chicago:20260516T091500
DURATION:PT0H75M0S
SUMMARY:Stewart vs Smith
DESCRIPTION:Girls 2018 | Soccer\nBrentwood Family YMCA\n
URL;VALUE=URI:https://ygametime.com/branch/brentwood/sports/2026-spring-soccer/25717/?utm_medium=calendar&utm_source=team_cal&utm_content=league_url#game-597298
LOCATION:Crockett Park Field 7A
BEGIN:VALARM
TRIGGER:-P2H
ACTION:DISPLAY
DESCRIPTION:Stewart vs Smith
END:VALARM
END:VEVENT
END:VCALENDAR

