BEGIN:VCALENDAR
VERSION:2.0
PRODID:-//YGAMETIME.com//YGT iCal Creator//EN
METHOD:PUBLISH
X-PUBLISHED-TTL:PT6H
REFRESH-INTERVAL;VALUE=DURATION:PT6H
CALSCALE:GREGORIAN
X-WR-CALNAME:YGAMETIME CALENDAR
BEGIN:VTIMEZONE
TZID:America/Chicago
X-LIC-LOCATION:America/Chicago
BEGIN:DAYLIGHT
TZOFFSETFROM:-0600
TZOFFSETTO:-0500
TZNAME:CDT
DTSTART:19700308T020000
RRULE:FREQ=YEARLY;BYMONTH=3;BYDAY=2SU
END:DAYLIGHT
BEGIN:STANDARD
TZOFFSETFROM:-0500
TZOFFSETTO:-0600
TZNAME:CST
DTSTART:19701101T020000
RRULE:FREQ=YEARLY;BYMONTH=11;BYDAY=1SU
END:STANDARD
END:VTIMEZONE
BEGIN:VEVENT
UID:brentwood-599737@ygametime.com
DTSTAMP:20260328T141500Z
DTSTART;TZID=America/Chicago:20260328T091500
DURATION:PT0H75M0S
SUMMARY:Holcomb vs Bufalino/Winters
DESCRIPTION:Girls 2019 | Soccer\nBrentwood Family YMCA\n
URL;VALUE=URI:https://ygametime.com/branch/brentwood/sports/2026-spring-soccer/25716/?utm_medium=calendar&utm_source=team_cal&utm_content=league_url#game-599737
LOCATION:Crockett Park Field 7B
BEGIN:VALARM
TRIGGER:-P2H
ACTION:DISPLAY
DESCRIPTION:Holcomb vs Bufalino/Winters
END:VALARM
END:VEVENT
BEGIN:VEVENT
UID:brentwood-599742@ygametime.com
DTSTAMP:20260404T153000Z
DTSTART;TZID=America/Chicago:20260404T103000
DURATION:PT0H75M0S
SUMMARY:Bufalino/Winters vs Davis/Wood
DESCRIPTION:Girls 2019 | Soccer\nBrentwood Family YMCA\n
URL;VALUE=URI:https://ygametime.com/branch/brentwood/sports/2026-spring-soccer/25716/?utm_medium=calendar&utm_source=team_cal&utm_content=league_url#game-599742
LOCATION:Crockett Park Field 7B
BEGIN:VALARM
TRIGGER:-P2H
ACTION:DISPLAY
DESCRIPTION:Bufalino/Winters vs Davis/Wood
END:VALARM
END:VEVENT
BEGIN:VEVENT
UID:brentwood-599751@ygametime.com
DTSTAMP:20260411T164500Z
DTSTART;TZID=America/Chicago:20260411T114500
DURATION:PT0H75M0S
SUMMARY:Bufalino/Winters vs Buzzeli
DESCRIPTION:Girls 2019 | Soccer\nBrentwood Family YMCA\n
URL;VALUE=URI:https://ygametime.com/branch/brentwood/sports/2026-spring-soccer/25716/?utm_medium=calendar&utm_source=team_cal&utm_content=league_url#game-599751
LOCATION:Crockett Park Field 7B
BEGIN:VALARM
TRIGGER:-P2H
ACTION:DISPLAY
DESCRIPTION:Bufalino/Winters vs Buzzeli
END:VALARM
END:VEVENT
BEGIN:VEVENT
UID:brentwood-599744@ygametime.com
DTSTAMP:20260425T153000Z
DTSTART;TZID=America/Chicago:20260425T103000
DURATION:PT0H75M0S
SUMMARY:Dougherty/Clift vs Bufalino/Winters
DESCRIPTION:Girls 2019 | Soccer\nBrentwood Family YMCA\n
URL;VALUE=URI:https://ygametime.com/branch/brentwood/sports/2026-spring-soccer/25716/?utm_medium=calendar&utm_source=team_cal&utm_content=league_url#game-599744
LOCATION:Crockett Park Field 7B
BEGIN:VALARM
TRIGGER:-P2H
ACTION:DISPLAY
DESCRIPTION:Dougherty/Clift vs Bufalino/Winters
END:VALARM
END:VEVENT
BEGIN:VEVENT
UID:brentwood-599760@ygametime.com
DTSTAMP:20260509T141500Z
DTSTART;TZID=America/Chicago:20260509T091500
DURATION:PT0H75M0S
SUMMARY:Holcomb vs Bufalino/Winters
DESCRIPTION:Girls 2019 | Soccer\nBrentwood Family YMCA\n
URL;VALUE=URI:https://ygametime.com/branch/brentwood/sports/2026-spring-soccer/25716/?utm_medium=calendar&utm_source=team_cal&utm_content=league_url#game-599760
LOCATION:Crockett Park Field 7B
BEGIN:VALARM
TRIGGER:-P2H
ACTION:DISPLAY
DESCRIPTION:Holcomb vs Bufalino/Winters
END:VALARM
END:VEVENT
BEGIN:VEVENT
UID:brentwood-599753@ygametime.com
DTSTAMP:20260509T153000Z
DTSTART;TZID=America/Chicago:20260509T103000
DURATION:PT0H75M0S
SUMMARY:Bufalino/Winters vs Cayford/Scherer
DESCRIPTION:Girls 2019 | Soccer\nBrentwood Family YMCA\n
URL;VALUE=URI:https://ygametime.com/branch/brentwood/sports/2026-spring-soccer/25716/?utm_medium=calendar&utm_source=team_cal&utm_content=league_url#game-599753
LOCATION:Crockett Park Field 7B
BEGIN:VALARM
TRIGGER:-P2H
ACTION:DISPLAY
DESCRIPTION:Bufalino/Winters vs Cayford/Scherer
END:VALARM
END:VEVENT
BEGIN:VEVENT
UID:brentwood-599755@ygametime.com
DTSTAMP:20260516T153000Z
DTSTART;TZID=America/Chicago:20260516T103000
DURATION:PT0H75M0S
SUMMARY:Rose/Lifsey vs Bufalino/Winters
DESCRIPTION:Girls 2019 | Soccer\nBrentwood Family YMCA\n
URL;VALUE=URI:https://ygametime.com/branch/brentwood/sports/2026-spring-soccer/25716/?utm_medium=calendar&utm_source=team_cal&utm_content=league_url#game-599755
LOCATION:Crockett Park Field 7B
BEGIN:VALARM
TRIGGER:-P2H
ACTION:DISPLAY
DESCRIPTION:Rose/Lifsey vs Bufalino/Winters
END:VALARM
END:VEVENT
END:VCALENDAR

