BEGIN:VCALENDAR
VERSION:2.0
PRODID:-//YGAMETIME.com//YGT iCal Creator//EN
METHOD:PUBLISH
X-PUBLISHED-TTL:PT6H
REFRESH-INTERVAL;VALUE=DURATION:PT6H
CALSCALE:GREGORIAN
X-WR-CALNAME:YGAMETIME CALENDAR
BEGIN:VTIMEZONE
TZID:America/Chicago
X-LIC-LOCATION:America/Chicago
BEGIN:DAYLIGHT
TZOFFSETFROM:-0600
TZOFFSETTO:-0500
TZNAME:CDT
DTSTART:19700308T020000
RRULE:FREQ=YEARLY;BYMONTH=3;BYDAY=2SU
END:DAYLIGHT
BEGIN:STANDARD
TZOFFSETFROM:-0500
TZOFFSETTO:-0600
TZNAME:CST
DTSTART:19701101T020000
RRULE:FREQ=YEARLY;BYMONTH=11;BYDAY=1SU
END:STANDARD
END:VTIMEZONE
BEGIN:VEVENT
UID:brentwood-599739@ygametime.com
DTSTAMP:20260328T153000Z
DTSTART;TZID=America/Chicago:20260328T103000
DURATION:PT0H75M0S
SUMMARY:Cayford/Scherer vs Dougherty/Clift
DESCRIPTION:Girls 2019 | Soccer\nBrentwood Family YMCA\n
URL;VALUE=URI:https://ygametime.com/branch/brentwood/sports/2026-spring-soccer/25716/?utm_medium=calendar&utm_source=team_cal&utm_content=league_url#game-599739
LOCATION:Crockett Park Field 7B
BEGIN:VALARM
TRIGGER:-P2H
ACTION:DISPLAY
DESCRIPTION:Cayford/Scherer vs Dougherty/Clift
END:VALARM
END:VEVENT
BEGIN:VEVENT
UID:brentwood-599761@ygametime.com
DTSTAMP:20260328T164500Z
DTSTART;TZID=America/Chicago:20260328T114500
DURATION:PT0H75M0S
SUMMARY:Buzzeli vs Cayford/Scherer
DESCRIPTION:Girls 2019 | Soccer\nBrentwood Family YMCA\n
URL;VALUE=URI:https://ygametime.com/branch/brentwood/sports/2026-spring-soccer/25716/?utm_medium=calendar&utm_source=team_cal&utm_content=league_url#game-599761
LOCATION:Crockett Park Field 7B
BEGIN:VALARM
TRIGGER:-P2H
ACTION:DISPLAY
DESCRIPTION:Buzzeli vs Cayford/Scherer
END:VALARM
END:VEVENT
BEGIN:VEVENT
UID:brentwood-599741@ygametime.com
DTSTAMP:20260404T164500Z
DTSTART;TZID=America/Chicago:20260404T114500
DURATION:PT0H75M0S
SUMMARY:Buzzeli vs Cayford/Scherer
DESCRIPTION:Girls 2019 | Soccer\nBrentwood Family YMCA\n
URL;VALUE=URI:https://ygametime.com/branch/brentwood/sports/2026-spring-soccer/25716/?utm_medium=calendar&utm_source=team_cal&utm_content=league_url#game-599741
LOCATION:Crockett Park Field 7B
BEGIN:VALARM
TRIGGER:-P2H
ACTION:DISPLAY
DESCRIPTION:Buzzeli vs Cayford/Scherer
END:VALARM
END:VEVENT
BEGIN:VEVENT
UID:brentwood-599747@ygametime.com
DTSTAMP:20260418T153000Z
DTSTART;TZID=America/Chicago:20260418T103000
DURATION:PT0H75M0S
SUMMARY:Davis/Wood vs Cayford/Scherer
DESCRIPTION:Girls 2019 | Soccer\nBrentwood Family YMCA\n
URL;VALUE=URI:https://ygametime.com/branch/brentwood/sports/2026-spring-soccer/25716/?utm_medium=calendar&utm_source=team_cal&utm_content=league_url#game-599747
LOCATION:Crockett Park Field 7B
BEGIN:VALARM
TRIGGER:-P2H
ACTION:DISPLAY
DESCRIPTION:Davis/Wood vs Cayford/Scherer
END:VALARM
END:VEVENT
BEGIN:VEVENT
UID:brentwood-599743@ygametime.com
DTSTAMP:20260425T141500Z
DTSTART;TZID=America/Chicago:20260425T091500
DURATION:PT0H75M0S
SUMMARY:Cayford/Scherer vs Rose/Lifsey
DESCRIPTION:Girls 2019 | Soccer\nBrentwood Family YMCA\n
URL;VALUE=URI:https://ygametime.com/branch/brentwood/sports/2026-spring-soccer/25716/?utm_medium=calendar&utm_source=team_cal&utm_content=league_url#game-599743
LOCATION:Crockett Park Field 7B
BEGIN:VALARM
TRIGGER:-P2H
ACTION:DISPLAY
DESCRIPTION:Cayford/Scherer vs Rose/Lifsey
END:VALARM
END:VEVENT
BEGIN:VEVENT
UID:brentwood-599753@ygametime.com
DTSTAMP:20260509T153000Z
DTSTART;TZID=America/Chicago:20260509T103000
DURATION:PT0H75M0S
SUMMARY:Bufalino/Winters vs Cayford/Scherer
DESCRIPTION:Girls 2019 | Soccer\nBrentwood Family YMCA\n
URL;VALUE=URI:https://ygametime.com/branch/brentwood/sports/2026-spring-soccer/25716/?utm_medium=calendar&utm_source=team_cal&utm_content=league_url#game-599753
LOCATION:Crockett Park Field 7B
BEGIN:VALARM
TRIGGER:-P2H
ACTION:DISPLAY
DESCRIPTION:Bufalino/Winters vs Cayford/Scherer
END:VALARM
END:VEVENT
BEGIN:VEVENT
UID:brentwood-599759@ygametime.com
DTSTAMP:20260516T130000Z
DTSTART;TZID=America/Chicago:20260516T080000
DURATION:PT0H75M0S
SUMMARY:Cayford/Scherer vs Dougherty/Clift
DESCRIPTION:Girls 2019 | Soccer\nBrentwood Family YMCA\n
URL;VALUE=URI:https://ygametime.com/branch/brentwood/sports/2026-spring-soccer/25716/?utm_medium=calendar&utm_source=team_cal&utm_content=league_url#game-599759
LOCATION:Crockett Park Field 7B
BEGIN:VALARM
TRIGGER:-P2H
ACTION:DISPLAY
DESCRIPTION:Cayford/Scherer vs Dougherty/Clift
END:VALARM
END:VEVENT
BEGIN:VEVENT
UID:brentwood-599756@ygametime.com
DTSTAMP:20260516T164500Z
DTSTART;TZID=America/Chicago:20260516T114500
DURATION:PT0H75M0S
SUMMARY:Cayford/Scherer vs Holcomb
DESCRIPTION:Girls 2019 | Soccer\nBrentwood Family YMCA\n
URL;VALUE=URI:https://ygametime.com/branch/brentwood/sports/2026-spring-soccer/25716/?utm_medium=calendar&utm_source=team_cal&utm_content=league_url#game-599756
LOCATION:Crockett Park Field 7B
BEGIN:VALARM
TRIGGER:-P2H
ACTION:DISPLAY
DESCRIPTION:Cayford/Scherer vs Holcomb
END:VALARM
END:VEVENT
END:VCALENDAR

