BEGIN:VCALENDAR
VERSION:2.0
PRODID:-//YGAMETIME.com//YGT iCal Creator//EN
METHOD:PUBLISH
X-PUBLISHED-TTL:PT6H
REFRESH-INTERVAL;VALUE=DURATION:PT6H
CALSCALE:GREGORIAN
X-WR-CALNAME:YGAMETIME CALENDAR
BEGIN:VTIMEZONE
TZID:America/Chicago
X-LIC-LOCATION:America/Chicago
BEGIN:DAYLIGHT
TZOFFSETFROM:-0600
TZOFFSETTO:-0500
TZNAME:CDT
DTSTART:19700308T020000
RRULE:FREQ=YEARLY;BYMONTH=3;BYDAY=2SU
END:DAYLIGHT
BEGIN:STANDARD
TZOFFSETFROM:-0500
TZOFFSETTO:-0600
TZNAME:CST
DTSTART:19701101T020000
RRULE:FREQ=YEARLY;BYMONTH=11;BYDAY=1SU
END:STANDARD
END:VTIMEZONE
BEGIN:VEVENT
UID:brentwood-599738@ygametime.com
DTSTAMP:20260328T130000Z
DTSTART;TZID=America/Chicago:20260328T080000
DURATION:PT0H75M0S
SUMMARY:Davis/Wood vs Rose/Lifsey
DESCRIPTION:Girls 2019 | Soccer\nBrentwood Family YMCA\n
URL;VALUE=URI:https://ygametime.com/branch/brentwood/sports/2026-spring-soccer/25716/?utm_medium=calendar&utm_source=team_cal&utm_content=league_url#game-599738
LOCATION:Crockett Park Field 7B
BEGIN:VALARM
TRIGGER:-P2H
ACTION:DISPLAY
DESCRIPTION:Davis/Wood vs Rose/Lifsey
END:VALARM
END:VEVENT
BEGIN:VEVENT
UID:brentwood-599742@ygametime.com
DTSTAMP:20260404T153000Z
DTSTART;TZID=America/Chicago:20260404T103000
DURATION:PT0H75M0S
SUMMARY:Bufalino/Winters vs Davis/Wood
DESCRIPTION:Girls 2019 | Soccer\nBrentwood Family YMCA\n
URL;VALUE=URI:https://ygametime.com/branch/brentwood/sports/2026-spring-soccer/25716/?utm_medium=calendar&utm_source=team_cal&utm_content=league_url#game-599742
LOCATION:Crockett Park Field 7B
BEGIN:VALARM
TRIGGER:-P2H
ACTION:DISPLAY
DESCRIPTION:Bufalino/Winters vs Davis/Wood
END:VALARM
END:VEVENT
BEGIN:VEVENT
UID:brentwood-599750@ygametime.com
DTSTAMP:20260411T141500Z
DTSTART;TZID=America/Chicago:20260411T091500
DURATION:PT0H75M0S
SUMMARY:Holcomb vs Davis/Wood
DESCRIPTION:Girls 2019 | Soccer\nBrentwood Family YMCA\n
URL;VALUE=URI:https://ygametime.com/branch/brentwood/sports/2026-spring-soccer/25716/?utm_medium=calendar&utm_source=team_cal&utm_content=league_url#game-599750
LOCATION:Crockett Park Field 7B
BEGIN:VALARM
TRIGGER:-P2H
ACTION:DISPLAY
DESCRIPTION:Holcomb vs Davis/Wood
END:VALARM
END:VEVENT
BEGIN:VEVENT
UID:brentwood-599747@ygametime.com
DTSTAMP:20260418T153000Z
DTSTART;TZID=America/Chicago:20260418T103000
DURATION:PT0H75M0S
SUMMARY:Davis/Wood vs Cayford/Scherer
DESCRIPTION:Girls 2019 | Soccer\nBrentwood Family YMCA\n
URL;VALUE=URI:https://ygametime.com/branch/brentwood/sports/2026-spring-soccer/25716/?utm_medium=calendar&utm_source=team_cal&utm_content=league_url#game-599747
LOCATION:Crockett Park Field 7B
BEGIN:VALARM
TRIGGER:-P2H
ACTION:DISPLAY
DESCRIPTION:Davis/Wood vs Cayford/Scherer
END:VALARM
END:VEVENT
BEGIN:VEVENT
UID:brentwood-599758@ygametime.com
DTSTAMP:20260425T130000Z
DTSTART;TZID=America/Chicago:20260425T080000
DURATION:PT0H75M0S
SUMMARY:Davis/Wood vs Rose/Lifsey
DESCRIPTION:Girls 2019 | Soccer\nBrentwood Family YMCA\n
URL;VALUE=URI:https://ygametime.com/branch/brentwood/sports/2026-spring-soccer/25716/?utm_medium=calendar&utm_source=team_cal&utm_content=league_url#game-599758
LOCATION:Crockett Park Field 7B
BEGIN:VALARM
TRIGGER:-P2H
ACTION:DISPLAY
DESCRIPTION:Davis/Wood vs Rose/Lifsey
END:VALARM
END:VEVENT
BEGIN:VEVENT
UID:brentwood-599752@ygametime.com
DTSTAMP:20260509T130000Z
DTSTART;TZID=America/Chicago:20260509T080000
DURATION:PT0H75M0S
SUMMARY:Davis/Wood vs Dougherty/Clift
DESCRIPTION:Girls 2019 | Soccer\nBrentwood Family YMCA\n
URL;VALUE=URI:https://ygametime.com/branch/brentwood/sports/2026-spring-soccer/25716/?utm_medium=calendar&utm_source=team_cal&utm_content=league_url#game-599752
LOCATION:Crockett Park Field 7B
BEGIN:VALARM
TRIGGER:-P2H
ACTION:DISPLAY
DESCRIPTION:Davis/Wood vs Dougherty/Clift
END:VALARM
END:VEVENT
BEGIN:VEVENT
UID:brentwood-599757@ygametime.com
DTSTAMP:20260516T141500Z
DTSTART;TZID=America/Chicago:20260516T091500
DURATION:PT0H75M0S
SUMMARY:Buzzeli vs Davis/Wood
DESCRIPTION:Girls 2019 | Soccer\nBrentwood Family YMCA\n
URL;VALUE=URI:https://ygametime.com/branch/brentwood/sports/2026-spring-soccer/25716/?utm_medium=calendar&utm_source=team_cal&utm_content=league_url#game-599757
LOCATION:Crockett Park Field 7B
BEGIN:VALARM
TRIGGER:-P2H
ACTION:DISPLAY
DESCRIPTION:Buzzeli vs Davis/Wood
END:VALARM
END:VEVENT
END:VCALENDAR

