BEGIN:VCALENDAR
VERSION:2.0
PRODID:-//YGAMETIME.com//YGT iCal Creator//EN
METHOD:PUBLISH
X-PUBLISHED-TTL:PT6H
REFRESH-INTERVAL;VALUE=DURATION:PT6H
CALSCALE:GREGORIAN
X-WR-CALNAME:YGAMETIME CALENDAR
BEGIN:VTIMEZONE
TZID:America/Chicago
X-LIC-LOCATION:America/Chicago
BEGIN:DAYLIGHT
TZOFFSETFROM:-0600
TZOFFSETTO:-0500
TZNAME:CDT
DTSTART:19700308T020000
RRULE:FREQ=YEARLY;BYMONTH=3;BYDAY=2SU
END:DAYLIGHT
BEGIN:STANDARD
TZOFFSETFROM:-0500
TZOFFSETTO:-0600
TZNAME:CST
DTSTART:19701101T020000
RRULE:FREQ=YEARLY;BYMONTH=11;BYDAY=1SU
END:STANDARD
END:VTIMEZONE
BEGIN:VEVENT
UID:brentwood-597206@ygametime.com
DTSTAMP:20260328T160000Z
DTSTART;TZID=America/Chicago:20260328T110000
DURATION:PT0H60M0S
SUMMARY:Bellenfant/Morgano vs Barnes/Wilhelm
DESCRIPTION:Girls 2020 | Soccer\nBrentwood Family YMCA\n
URL;VALUE=URI:https://ygametime.com/branch/brentwood/sports/2026-spring-soccer/25715/?utm_medium=calendar&utm_source=team_cal&utm_content=league_url#game-597206
LOCATION:Brentwood Family YMCA Field 3
BEGIN:VALARM
TRIGGER:-P2H
ACTION:DISPLAY
DESCRIPTION:Bellenfant/Morgano vs Barnes/Wilhelm
END:VALARM
END:VEVENT
BEGIN:VEVENT
UID:brentwood-597215@ygametime.com
DTSTAMP:20260404T180000Z
DTSTART;TZID=America/Chicago:20260404T130000
DURATION:PT0H60M0S
SUMMARY:Barnes/Wilhelm vs Burke/Jacobs
DESCRIPTION:Girls 2020 | Soccer\nBrentwood Family YMCA\n
URL;VALUE=URI:https://ygametime.com/branch/brentwood/sports/2026-spring-soccer/25715/?utm_medium=calendar&utm_source=team_cal&utm_content=league_url#game-597215
LOCATION:Brentwood Family YMCA Field 3
BEGIN:VALARM
TRIGGER:-P2H
ACTION:DISPLAY
DESCRIPTION:Barnes/Wilhelm vs Burke/Jacobs
END:VALARM
END:VEVENT
BEGIN:VEVENT
UID:brentwood-597219@ygametime.com
DTSTAMP:20260411T170000Z
DTSTART;TZID=America/Chicago:20260411T120000
DURATION:PT0H60M0S
SUMMARY:Bergmeyer/Pisano vs Barnes/Wilhelm
DESCRIPTION:Girls 2020 | Soccer\nBrentwood Family YMCA\n
URL;VALUE=URI:https://ygametime.com/branch/brentwood/sports/2026-spring-soccer/25715/?utm_medium=calendar&utm_source=team_cal&utm_content=league_url#game-597219
LOCATION:Brentwood Family YMCA Field 4
BEGIN:VALARM
TRIGGER:-P2H
ACTION:DISPLAY
DESCRIPTION:Bergmeyer/Pisano vs Barnes/Wilhelm
END:VALARM
END:VEVENT
BEGIN:VEVENT
UID:brentwood-597227@ygametime.com
DTSTAMP:20260425T160000Z
DTSTART;TZID=America/Chicago:20260425T110000
DURATION:PT0H60M0S
SUMMARY:Sylva/Long/Besselsen vs Barnes/Wilhelm
DESCRIPTION:Girls 2020 | Soccer\nBrentwood Family YMCA\n
URL;VALUE=URI:https://ygametime.com/branch/brentwood/sports/2026-spring-soccer/25715/?utm_medium=calendar&utm_source=team_cal&utm_content=league_url#game-597227
LOCATION:Brentwood Family YMCA Field 4
BEGIN:VALARM
TRIGGER:-P2H
ACTION:DISPLAY
DESCRIPTION:Sylva/Long/Besselsen vs Barnes/Wilhelm
END:VALARM
END:VEVENT
BEGIN:VEVENT
UID:brentwood-597231@ygametime.com
DTSTAMP:20260502T160000Z
DTSTART;TZID=America/Chicago:20260502T110000
DURATION:PT0H60M0S
SUMMARY:Barnes/Wilhelm vs Guest/Haertzen
DESCRIPTION:Girls 2020 | Soccer\nBrentwood Family YMCA\n
URL;VALUE=URI:https://ygametime.com/branch/brentwood/sports/2026-spring-soccer/25715/?utm_medium=calendar&utm_source=team_cal&utm_content=league_url#game-597231
LOCATION:Brentwood Family YMCA Field 3
BEGIN:VALARM
TRIGGER:-P2H
ACTION:DISPLAY
DESCRIPTION:Barnes/Wilhelm vs Guest/Haertzen
END:VALARM
END:VEVENT
BEGIN:VEVENT
UID:brentwood-597240@ygametime.com
DTSTAMP:20260509T180000Z
DTSTART;TZID=America/Chicago:20260509T130000
DURATION:PT0H60M0S
SUMMARY:Taylor vs Barnes/Wilhelm
DESCRIPTION:Girls 2020 | Soccer\nBrentwood Family YMCA\n
URL;VALUE=URI:https://ygametime.com/branch/brentwood/sports/2026-spring-soccer/25715/?utm_medium=calendar&utm_source=team_cal&utm_content=league_url#game-597240
LOCATION:Brentwood Family YMCA Field 3
BEGIN:VALARM
TRIGGER:-P2H
ACTION:DISPLAY
DESCRIPTION:Taylor vs Barnes/Wilhelm
END:VALARM
END:VEVENT
BEGIN:VEVENT
UID:brentwood-597223@ygametime.com
DTSTAMP:20260516T170000Z
DTSTART;TZID=America/Chicago:20260516T120000
DURATION:PT0H60M0S
SUMMARY:Barnes/Wilhelm vs Carter
DESCRIPTION:Girls 2020 | Soccer\nBrentwood Family YMCA\n
URL;VALUE=URI:https://ygametime.com/branch/brentwood/sports/2026-spring-soccer/25715/?utm_medium=calendar&utm_source=team_cal&utm_content=league_url#game-597223
LOCATION:Brentwood Family YMCA Field 3
BEGIN:VALARM
TRIGGER:-P2H
ACTION:DISPLAY
DESCRIPTION:Barnes/Wilhelm vs Carter
END:VALARM
END:VEVENT
END:VCALENDAR

