BEGIN:VCALENDAR
VERSION:2.0
PRODID:-//YGAMETIME.com//YGT iCal Creator//EN
METHOD:PUBLISH
X-PUBLISHED-TTL:PT6H
REFRESH-INTERVAL;VALUE=DURATION:PT6H
CALSCALE:GREGORIAN
X-WR-CALNAME:YGAMETIME CALENDAR
BEGIN:VTIMEZONE
TZID:America/Chicago
X-LIC-LOCATION:America/Chicago
BEGIN:DAYLIGHT
TZOFFSETFROM:-0600
TZOFFSETTO:-0500
TZNAME:CDT
DTSTART:19700308T020000
RRULE:FREQ=YEARLY;BYMONTH=3;BYDAY=2SU
END:DAYLIGHT
BEGIN:STANDARD
TZOFFSETFROM:-0500
TZOFFSETTO:-0600
TZNAME:CST
DTSTART:19701101T020000
RRULE:FREQ=YEARLY;BYMONTH=11;BYDAY=1SU
END:STANDARD
END:VTIMEZONE
BEGIN:VEVENT
UID:brentwood-597208@ygametime.com
DTSTAMP:20260328T170000Z
DTSTART;TZID=America/Chicago:20260328T120000
DURATION:PT0H60M0S
SUMMARY:Wadlington/Trombitas vs Bergmeyer/Pisano
DESCRIPTION:Girls 2020 | Soccer\nBrentwood Family YMCA\n
URL;VALUE=URI:https://ygametime.com/branch/brentwood/sports/2026-spring-soccer/25715/?utm_medium=calendar&utm_source=team_cal&utm_content=league_url#game-597208
LOCATION:Brentwood Family YMCA Field 3
BEGIN:VALARM
TRIGGER:-P2H
ACTION:DISPLAY
DESCRIPTION:Wadlington/Trombitas vs Bergmeyer/Pisano
END:VALARM
END:VEVENT
BEGIN:VEVENT
UID:brentwood-597213@ygametime.com
DTSTAMP:20260404T170000Z
DTSTART;TZID=America/Chicago:20260404T120000
DURATION:PT0H60M0S
SUMMARY:Sylva/Long/Besselsen vs Wadlington/Trombitas
DESCRIPTION:Girls 2020 | Soccer\nBrentwood Family YMCA\n
URL;VALUE=URI:https://ygametime.com/branch/brentwood/sports/2026-spring-soccer/25715/?utm_medium=calendar&utm_source=team_cal&utm_content=league_url#game-597213
LOCATION:Brentwood Family YMCA Field 3
BEGIN:VALARM
TRIGGER:-P2H
ACTION:DISPLAY
DESCRIPTION:Sylva/Long/Besselsen vs Wadlington/Trombitas
END:VALARM
END:VEVENT
BEGIN:VEVENT
UID:brentwood-597218@ygametime.com
DTSTAMP:20260411T170000Z
DTSTART;TZID=America/Chicago:20260411T120000
DURATION:PT0H60M0S
SUMMARY:Wadlington/Trombitas vs Taylor
DESCRIPTION:Girls 2020 | Soccer\nBrentwood Family YMCA\n
URL;VALUE=URI:https://ygametime.com/branch/brentwood/sports/2026-spring-soccer/25715/?utm_medium=calendar&utm_source=team_cal&utm_content=league_url#game-597218
LOCATION:Brentwood Family YMCA Field 3
BEGIN:VALARM
TRIGGER:-P2H
ACTION:DISPLAY
DESCRIPTION:Wadlington/Trombitas vs Taylor
END:VALARM
END:VEVENT
BEGIN:VEVENT
UID:brentwood-597230@ygametime.com
DTSTAMP:20260425T180000Z
DTSTART;TZID=America/Chicago:20260425T130000
DURATION:PT0H60M0S
SUMMARY:Wadlington/Trombitas vs Burke/Jacobs
DESCRIPTION:Girls 2020 | Soccer\nBrentwood Family YMCA\n
URL;VALUE=URI:https://ygametime.com/branch/brentwood/sports/2026-spring-soccer/25715/?utm_medium=calendar&utm_source=team_cal&utm_content=league_url#game-597230
LOCATION:Brentwood Family YMCA Field 3
BEGIN:VALARM
TRIGGER:-P2H
ACTION:DISPLAY
DESCRIPTION:Wadlington/Trombitas vs Burke/Jacobs
END:VALARM
END:VEVENT
BEGIN:VEVENT
UID:brentwood-597233@ygametime.com
DTSTAMP:20260502T170000Z
DTSTART;TZID=America/Chicago:20260502T120000
DURATION:PT0H60M0S
SUMMARY:Carter vs Wadlington/Trombitas
DESCRIPTION:Girls 2020 | Soccer\nBrentwood Family YMCA\n
URL;VALUE=URI:https://ygametime.com/branch/brentwood/sports/2026-spring-soccer/25715/?utm_medium=calendar&utm_source=team_cal&utm_content=league_url#game-597233
LOCATION:Brentwood Family YMCA Field 3
BEGIN:VALARM
TRIGGER:-P2H
ACTION:DISPLAY
DESCRIPTION:Carter vs Wadlington/Trombitas
END:VALARM
END:VEVENT
BEGIN:VEVENT
UID:brentwood-597236@ygametime.com
DTSTAMP:20260509T160000Z
DTSTART;TZID=America/Chicago:20260509T110000
DURATION:PT0H60M0S
SUMMARY:Wadlington/Trombitas vs Guest/Haertzen
DESCRIPTION:Girls 2020 | Soccer\nBrentwood Family YMCA\n
URL;VALUE=URI:https://ygametime.com/branch/brentwood/sports/2026-spring-soccer/25715/?utm_medium=calendar&utm_source=team_cal&utm_content=league_url#game-597236
LOCATION:Brentwood Family YMCA Field 3
BEGIN:VALARM
TRIGGER:-P2H
ACTION:DISPLAY
DESCRIPTION:Wadlington/Trombitas vs Guest/Haertzen
END:VALARM
END:VEVENT
BEGIN:VEVENT
UID:brentwood-597222@ygametime.com
DTSTAMP:20260516T160000Z
DTSTART;TZID=America/Chicago:20260516T110000
DURATION:PT0H60M0S
SUMMARY:Kauffman vs Wadlington/Trombitas
DESCRIPTION:Girls 2020 | Soccer\nBrentwood Family YMCA\n
URL;VALUE=URI:https://ygametime.com/branch/brentwood/sports/2026-spring-soccer/25715/?utm_medium=calendar&utm_source=team_cal&utm_content=league_url#game-597222
LOCATION:Brentwood Family YMCA Field 4
BEGIN:VALARM
TRIGGER:-P2H
ACTION:DISPLAY
DESCRIPTION:Kauffman vs Wadlington/Trombitas
END:VALARM
END:VEVENT
END:VCALENDAR

