BEGIN:VCALENDAR
VERSION:2.0
PRODID:-//YGAMETIME.com//YGT iCal Creator//EN
METHOD:PUBLISH
X-PUBLISHED-TTL:PT6H
REFRESH-INTERVAL;VALUE=DURATION:PT6H
CALSCALE:GREGORIAN
X-WR-CALNAME:YGAMETIME CALENDAR
BEGIN:VTIMEZONE
TZID:America/Chicago
X-LIC-LOCATION:America/Chicago
BEGIN:DAYLIGHT
TZOFFSETFROM:-0600
TZOFFSETTO:-0500
TZNAME:CDT
DTSTART:19700308T020000
RRULE:FREQ=YEARLY;BYMONTH=3;BYDAY=2SU
END:DAYLIGHT
BEGIN:STANDARD
TZOFFSETFROM:-0500
TZOFFSETTO:-0600
TZNAME:CST
DTSTART:19701101T020000
RRULE:FREQ=YEARLY;BYMONTH=11;BYDAY=1SU
END:STANDARD
END:VTIMEZONE
BEGIN:VEVENT
UID:brentwood-597206@ygametime.com
DTSTAMP:20260328T160000Z
DTSTART;TZID=America/Chicago:20260328T110000
DURATION:PT0H60M0S
SUMMARY:Bellenfant/Morgano vs Barnes/Wilhelm
DESCRIPTION:Girls 2020 | Soccer\nBrentwood Family YMCA\n
URL;VALUE=URI:https://ygametime.com/branch/brentwood/sports/2026-spring-soccer/25715/?utm_medium=calendar&utm_source=team_cal&utm_content=league_url#game-597206
LOCATION:Brentwood Family YMCA Field 3
BEGIN:VALARM
TRIGGER:-P2H
ACTION:DISPLAY
DESCRIPTION:Bellenfant/Morgano vs Barnes/Wilhelm
END:VALARM
END:VEVENT
BEGIN:VEVENT
UID:brentwood-597211@ygametime.com
DTSTAMP:20260404T160000Z
DTSTART;TZID=America/Chicago:20260404T110000
DURATION:PT0H60M0S
SUMMARY:Bergmeyer/Pisano vs Bellenfant/Morgano
DESCRIPTION:Girls 2020 | Soccer\nBrentwood Family YMCA\n
URL;VALUE=URI:https://ygametime.com/branch/brentwood/sports/2026-spring-soccer/25715/?utm_medium=calendar&utm_source=team_cal&utm_content=league_url#game-597211
LOCATION:Brentwood Family YMCA Field 3
BEGIN:VALARM
TRIGGER:-P2H
ACTION:DISPLAY
DESCRIPTION:Bergmeyer/Pisano vs Bellenfant/Morgano
END:VALARM
END:VEVENT
BEGIN:VEVENT
UID:brentwood-597216@ygametime.com
DTSTAMP:20260411T160000Z
DTSTART;TZID=America/Chicago:20260411T110000
DURATION:PT0H60M0S
SUMMARY:Bellenfant/Morgano vs Sylva/Long/Besselsen
DESCRIPTION:Girls 2020 | Soccer\nBrentwood Family YMCA\n
URL;VALUE=URI:https://ygametime.com/branch/brentwood/sports/2026-spring-soccer/25715/?utm_medium=calendar&utm_source=team_cal&utm_content=league_url#game-597216
LOCATION:Brentwood Family YMCA Field 3
BEGIN:VALARM
TRIGGER:-P2H
ACTION:DISPLAY
DESCRIPTION:Bellenfant/Morgano vs Sylva/Long/Besselsen
END:VALARM
END:VEVENT
BEGIN:VEVENT
UID:brentwood-597226@ygametime.com
DTSTAMP:20260425T160000Z
DTSTART;TZID=America/Chicago:20260425T110000
DURATION:PT0H60M0S
SUMMARY:Bellenfant/Morgano vs Kauffman
DESCRIPTION:Girls 2020 | Soccer\nBrentwood Family YMCA\n
URL;VALUE=URI:https://ygametime.com/branch/brentwood/sports/2026-spring-soccer/25715/?utm_medium=calendar&utm_source=team_cal&utm_content=league_url#game-597226
LOCATION:Brentwood Family YMCA Field 3
BEGIN:VALARM
TRIGGER:-P2H
ACTION:DISPLAY
DESCRIPTION:Bellenfant/Morgano vs Kauffman
END:VALARM
END:VEVENT
BEGIN:VEVENT
UID:brentwood-597235@ygametime.com
DTSTAMP:20260502T180000Z
DTSTART;TZID=America/Chicago:20260502T130000
DURATION:PT0H60M0S
SUMMARY:Burke/Jacobs vs Bellenfant/Morgano
DESCRIPTION:Girls 2020 | Soccer\nBrentwood Family YMCA\n
URL;VALUE=URI:https://ygametime.com/branch/brentwood/sports/2026-spring-soccer/25715/?utm_medium=calendar&utm_source=team_cal&utm_content=league_url#game-597235
LOCATION:Brentwood Family YMCA Field 3
BEGIN:VALARM
TRIGGER:-P2H
ACTION:DISPLAY
DESCRIPTION:Burke/Jacobs vs Bellenfant/Morgano
END:VALARM
END:VEVENT
BEGIN:VEVENT
UID:brentwood-597238@ygametime.com
DTSTAMP:20260509T170000Z
DTSTART;TZID=America/Chicago:20260509T120000
DURATION:PT0H60M0S
SUMMARY:Bellenfant/Morgano vs Carter
DESCRIPTION:Girls 2020 | Soccer\nBrentwood Family YMCA\n
URL;VALUE=URI:https://ygametime.com/branch/brentwood/sports/2026-spring-soccer/25715/?utm_medium=calendar&utm_source=team_cal&utm_content=league_url#game-597238
LOCATION:Brentwood Family YMCA Field 3
BEGIN:VALARM
TRIGGER:-P2H
ACTION:DISPLAY
DESCRIPTION:Bellenfant/Morgano vs Carter
END:VALARM
END:VEVENT
BEGIN:VEVENT
UID:brentwood-597221@ygametime.com
DTSTAMP:20260516T160000Z
DTSTART;TZID=America/Chicago:20260516T110000
DURATION:PT0H60M0S
SUMMARY:Taylor vs Bellenfant/Morgano
DESCRIPTION:Girls 2020 | Soccer\nBrentwood Family YMCA\n
URL;VALUE=URI:https://ygametime.com/branch/brentwood/sports/2026-spring-soccer/25715/?utm_medium=calendar&utm_source=team_cal&utm_content=league_url#game-597221
LOCATION:Brentwood Family YMCA Field 3
BEGIN:VALARM
TRIGGER:-P2H
ACTION:DISPLAY
DESCRIPTION:Taylor vs Bellenfant/Morgano
END:VALARM
END:VEVENT
END:VCALENDAR

