BEGIN:VCALENDAR
VERSION:2.0
PRODID:-//YGAMETIME.com//YGT iCal Creator//EN
METHOD:PUBLISH
X-PUBLISHED-TTL:PT6H
REFRESH-INTERVAL;VALUE=DURATION:PT6H
CALSCALE:GREGORIAN
X-WR-CALNAME:YGAMETIME CALENDAR
BEGIN:VTIMEZONE
TZID:America/Chicago
X-LIC-LOCATION:America/Chicago
BEGIN:DAYLIGHT
TZOFFSETFROM:-0600
TZOFFSETTO:-0500
TZNAME:CDT
DTSTART:19700308T020000
RRULE:FREQ=YEARLY;BYMONTH=3;BYDAY=2SU
END:DAYLIGHT
BEGIN:STANDARD
TZOFFSETFROM:-0500
TZOFFSETTO:-0600
TZNAME:CST
DTSTART:19701101T020000
RRULE:FREQ=YEARLY;BYMONTH=11;BYDAY=1SU
END:STANDARD
END:VTIMEZONE
BEGIN:VEVENT
UID:brentwood-597207@ygametime.com
DTSTAMP:20260328T160000Z
DTSTART;TZID=America/Chicago:20260328T110000
DURATION:PT0H60M0S
SUMMARY:Burke/Jacobs vs Kauffman
DESCRIPTION:Girls 2020 | Soccer\nBrentwood Family YMCA\n
URL;VALUE=URI:https://ygametime.com/branch/brentwood/sports/2026-spring-soccer/25715/?utm_medium=calendar&utm_source=team_cal&utm_content=league_url#game-597207
LOCATION:Brentwood Family YMCA Field 4
BEGIN:VALARM
TRIGGER:-P2H
ACTION:DISPLAY
DESCRIPTION:Burke/Jacobs vs Kauffman
END:VALARM
END:VEVENT
BEGIN:VEVENT
UID:brentwood-597215@ygametime.com
DTSTAMP:20260404T180000Z
DTSTART;TZID=America/Chicago:20260404T130000
DURATION:PT0H60M0S
SUMMARY:Barnes/Wilhelm vs Burke/Jacobs
DESCRIPTION:Girls 2020 | Soccer\nBrentwood Family YMCA\n
URL;VALUE=URI:https://ygametime.com/branch/brentwood/sports/2026-spring-soccer/25715/?utm_medium=calendar&utm_source=team_cal&utm_content=league_url#game-597215
LOCATION:Brentwood Family YMCA Field 3
BEGIN:VALARM
TRIGGER:-P2H
ACTION:DISPLAY
DESCRIPTION:Barnes/Wilhelm vs Burke/Jacobs
END:VALARM
END:VEVENT
BEGIN:VEVENT
UID:brentwood-597220@ygametime.com
DTSTAMP:20260411T180000Z
DTSTART;TZID=America/Chicago:20260411T130000
DURATION:PT0H60M0S
SUMMARY:Carter vs Burke/Jacobs
DESCRIPTION:Girls 2020 | Soccer\nBrentwood Family YMCA\n
URL;VALUE=URI:https://ygametime.com/branch/brentwood/sports/2026-spring-soccer/25715/?utm_medium=calendar&utm_source=team_cal&utm_content=league_url#game-597220
LOCATION:Brentwood Family YMCA Field 3
BEGIN:VALARM
TRIGGER:-P2H
ACTION:DISPLAY
DESCRIPTION:Carter vs Burke/Jacobs
END:VALARM
END:VEVENT
BEGIN:VEVENT
UID:brentwood-597230@ygametime.com
DTSTAMP:20260425T180000Z
DTSTART;TZID=America/Chicago:20260425T130000
DURATION:PT0H60M0S
SUMMARY:Wadlington/Trombitas vs Burke/Jacobs
DESCRIPTION:Girls 2020 | Soccer\nBrentwood Family YMCA\n
URL;VALUE=URI:https://ygametime.com/branch/brentwood/sports/2026-spring-soccer/25715/?utm_medium=calendar&utm_source=team_cal&utm_content=league_url#game-597230
LOCATION:Brentwood Family YMCA Field 3
BEGIN:VALARM
TRIGGER:-P2H
ACTION:DISPLAY
DESCRIPTION:Wadlington/Trombitas vs Burke/Jacobs
END:VALARM
END:VEVENT
BEGIN:VEVENT
UID:brentwood-597235@ygametime.com
DTSTAMP:20260502T180000Z
DTSTART;TZID=America/Chicago:20260502T130000
DURATION:PT0H60M0S
SUMMARY:Burke/Jacobs vs Bellenfant/Morgano
DESCRIPTION:Girls 2020 | Soccer\nBrentwood Family YMCA\n
URL;VALUE=URI:https://ygametime.com/branch/brentwood/sports/2026-spring-soccer/25715/?utm_medium=calendar&utm_source=team_cal&utm_content=league_url#game-597235
LOCATION:Brentwood Family YMCA Field 3
BEGIN:VALARM
TRIGGER:-P2H
ACTION:DISPLAY
DESCRIPTION:Burke/Jacobs vs Bellenfant/Morgano
END:VALARM
END:VEVENT
BEGIN:VEVENT
UID:brentwood-597239@ygametime.com
DTSTAMP:20260509T170000Z
DTSTART;TZID=America/Chicago:20260509T120000
DURATION:PT0H60M0S
SUMMARY:Bergmeyer/Pisano vs Burke/Jacobs
DESCRIPTION:Girls 2020 | Soccer\nBrentwood Family YMCA\n
URL;VALUE=URI:https://ygametime.com/branch/brentwood/sports/2026-spring-soccer/25715/?utm_medium=calendar&utm_source=team_cal&utm_content=league_url#game-597239
LOCATION:Brentwood Family YMCA Field 4
BEGIN:VALARM
TRIGGER:-P2H
ACTION:DISPLAY
DESCRIPTION:Bergmeyer/Pisano vs Burke/Jacobs
END:VALARM
END:VEVENT
BEGIN:VEVENT
UID:brentwood-597225@ygametime.com
DTSTAMP:20260516T180000Z
DTSTART;TZID=America/Chicago:20260516T130000
DURATION:PT0H60M0S
SUMMARY:Burke/Jacobs vs Guest/Haertzen
DESCRIPTION:Girls 2020 | Soccer\nBrentwood Family YMCA\n
URL;VALUE=URI:https://ygametime.com/branch/brentwood/sports/2026-spring-soccer/25715/?utm_medium=calendar&utm_source=team_cal&utm_content=league_url#game-597225
LOCATION:Brentwood Family YMCA Field 3
BEGIN:VALARM
TRIGGER:-P2H
ACTION:DISPLAY
DESCRIPTION:Burke/Jacobs vs Guest/Haertzen
END:VALARM
END:VEVENT
END:VCALENDAR

