BEGIN:VCALENDAR
VERSION:2.0
PRODID:-//YGAMETIME.com//YGT iCal Creator//EN
METHOD:PUBLISH
X-PUBLISHED-TTL:PT6H
REFRESH-INTERVAL;VALUE=DURATION:PT6H
CALSCALE:GREGORIAN
X-WR-CALNAME:YGAMETIME CALENDAR
BEGIN:VTIMEZONE
TZID:America/Chicago
X-LIC-LOCATION:America/Chicago
BEGIN:DAYLIGHT
TZOFFSETFROM:-0600
TZOFFSETTO:-0500
TZNAME:CDT
DTSTART:19700308T020000
RRULE:FREQ=YEARLY;BYMONTH=3;BYDAY=2SU
END:DAYLIGHT
BEGIN:STANDARD
TZOFFSETFROM:-0500
TZOFFSETTO:-0600
TZNAME:CST
DTSTART:19701101T020000
RRULE:FREQ=YEARLY;BYMONTH=11;BYDAY=1SU
END:STANDARD
END:VTIMEZONE
BEGIN:VEVENT
UID:brentwood-597208@ygametime.com
DTSTAMP:20260328T170000Z
DTSTART;TZID=America/Chicago:20260328T120000
DURATION:PT0H60M0S
SUMMARY:Wadlington/Trombitas vs Bergmeyer/Pisano
DESCRIPTION:Girls 2020 | Soccer\nBrentwood Family YMCA\n
URL;VALUE=URI:https://ygametime.com/branch/brentwood/sports/2026-spring-soccer/25715/?utm_medium=calendar&utm_source=team_cal&utm_content=league_url#game-597208
LOCATION:Brentwood Family YMCA Field 3
BEGIN:VALARM
TRIGGER:-P2H
ACTION:DISPLAY
DESCRIPTION:Wadlington/Trombitas vs Bergmeyer/Pisano
END:VALARM
END:VEVENT
BEGIN:VEVENT
UID:brentwood-597211@ygametime.com
DTSTAMP:20260404T160000Z
DTSTART;TZID=America/Chicago:20260404T110000
DURATION:PT0H60M0S
SUMMARY:Bergmeyer/Pisano vs Bellenfant/Morgano
DESCRIPTION:Girls 2020 | Soccer\nBrentwood Family YMCA\n
URL;VALUE=URI:https://ygametime.com/branch/brentwood/sports/2026-spring-soccer/25715/?utm_medium=calendar&utm_source=team_cal&utm_content=league_url#game-597211
LOCATION:Brentwood Family YMCA Field 3
BEGIN:VALARM
TRIGGER:-P2H
ACTION:DISPLAY
DESCRIPTION:Bergmeyer/Pisano vs Bellenfant/Morgano
END:VALARM
END:VEVENT
BEGIN:VEVENT
UID:brentwood-597219@ygametime.com
DTSTAMP:20260411T170000Z
DTSTART;TZID=America/Chicago:20260411T120000
DURATION:PT0H60M0S
SUMMARY:Bergmeyer/Pisano vs Barnes/Wilhelm
DESCRIPTION:Girls 2020 | Soccer\nBrentwood Family YMCA\n
URL;VALUE=URI:https://ygametime.com/branch/brentwood/sports/2026-spring-soccer/25715/?utm_medium=calendar&utm_source=team_cal&utm_content=league_url#game-597219
LOCATION:Brentwood Family YMCA Field 4
BEGIN:VALARM
TRIGGER:-P2H
ACTION:DISPLAY
DESCRIPTION:Bergmeyer/Pisano vs Barnes/Wilhelm
END:VALARM
END:VEVENT
BEGIN:VEVENT
UID:brentwood-597229@ygametime.com
DTSTAMP:20260425T170000Z
DTSTART;TZID=America/Chicago:20260425T120000
DURATION:PT0H60M0S
SUMMARY:Bergmeyer/Pisano vs Taylor
DESCRIPTION:Girls 2020 | Soccer\nBrentwood Family YMCA\n
URL;VALUE=URI:https://ygametime.com/branch/brentwood/sports/2026-spring-soccer/25715/?utm_medium=calendar&utm_source=team_cal&utm_content=league_url#game-597229
LOCATION:Brentwood Family YMCA Field 4
BEGIN:VALARM
TRIGGER:-P2H
ACTION:DISPLAY
DESCRIPTION:Bergmeyer/Pisano vs Taylor
END:VALARM
END:VEVENT
BEGIN:VEVENT
UID:brentwood-597234@ygametime.com
DTSTAMP:20260502T170000Z
DTSTART;TZID=America/Chicago:20260502T120000
DURATION:PT0H60M0S
SUMMARY:Kauffman vs Bergmeyer/Pisano
DESCRIPTION:Girls 2020 | Soccer\nBrentwood Family YMCA\n
URL;VALUE=URI:https://ygametime.com/branch/brentwood/sports/2026-spring-soccer/25715/?utm_medium=calendar&utm_source=team_cal&utm_content=league_url#game-597234
LOCATION:Brentwood Family YMCA Field 4
BEGIN:VALARM
TRIGGER:-P2H
ACTION:DISPLAY
DESCRIPTION:Kauffman vs Bergmeyer/Pisano
END:VALARM
END:VEVENT
BEGIN:VEVENT
UID:brentwood-597239@ygametime.com
DTSTAMP:20260509T170000Z
DTSTART;TZID=America/Chicago:20260509T120000
DURATION:PT0H60M0S
SUMMARY:Bergmeyer/Pisano vs Burke/Jacobs
DESCRIPTION:Girls 2020 | Soccer\nBrentwood Family YMCA\n
URL;VALUE=URI:https://ygametime.com/branch/brentwood/sports/2026-spring-soccer/25715/?utm_medium=calendar&utm_source=team_cal&utm_content=league_url#game-597239
LOCATION:Brentwood Family YMCA Field 4
BEGIN:VALARM
TRIGGER:-P2H
ACTION:DISPLAY
DESCRIPTION:Bergmeyer/Pisano vs Burke/Jacobs
END:VALARM
END:VEVENT
BEGIN:VEVENT
UID:brentwood-597224@ygametime.com
DTSTAMP:20260516T170000Z
DTSTART;TZID=America/Chicago:20260516T120000
DURATION:PT0H60M0S
SUMMARY:Sylva/Long/Besselsen vs Bergmeyer/Pisano
DESCRIPTION:Girls 2020 | Soccer\nBrentwood Family YMCA\n
URL;VALUE=URI:https://ygametime.com/branch/brentwood/sports/2026-spring-soccer/25715/?utm_medium=calendar&utm_source=team_cal&utm_content=league_url#game-597224
LOCATION:Brentwood Family YMCA Field 4
BEGIN:VALARM
TRIGGER:-P2H
ACTION:DISPLAY
DESCRIPTION:Sylva/Long/Besselsen vs Bergmeyer/Pisano
END:VALARM
END:VEVENT
END:VCALENDAR

