BEGIN:VCALENDAR
VERSION:2.0
PRODID:-//YGAMETIME.com//YGT iCal Creator//EN
METHOD:PUBLISH
X-PUBLISHED-TTL:PT6H
REFRESH-INTERVAL;VALUE=DURATION:PT6H
CALSCALE:GREGORIAN
X-WR-CALNAME:YGAMETIME CALENDAR
BEGIN:VTIMEZONE
TZID:America/Chicago
X-LIC-LOCATION:America/Chicago
BEGIN:DAYLIGHT
TZOFFSETFROM:-0600
TZOFFSETTO:-0500
TZNAME:CDT
DTSTART:19700308T020000
RRULE:FREQ=YEARLY;BYMONTH=3;BYDAY=2SU
END:DAYLIGHT
BEGIN:STANDARD
TZOFFSETFROM:-0500
TZOFFSETTO:-0600
TZNAME:CST
DTSTART:19701101T020000
RRULE:FREQ=YEARLY;BYMONTH=11;BYDAY=1SU
END:STANDARD
END:VTIMEZONE
BEGIN:VEVENT
UID:brentwood-597246@ygametime.com
DTSTAMP:20260328T150000Z
DTSTART;TZID=America/Chicago:20260328T100000
DURATION:PT0H60M0S
SUMMARY:Tallant vs Painter/Martin/Carbine
DESCRIPTION:Girls 2021-22 | Soccer\nBrentwood Family YMCA\n
URL;VALUE=URI:https://ygametime.com/branch/brentwood/sports/2026-spring-soccer/25714/?utm_medium=calendar&utm_source=team_cal&utm_content=league_url#game-597246
LOCATION:Brentwood Family YMCA Field 4
BEGIN:VALARM
TRIGGER:-P2H
ACTION:DISPLAY
DESCRIPTION:Tallant vs Painter/Martin/Carbine
END:VALARM
END:VEVENT
BEGIN:VEVENT
UID:brentwood-597251@ygametime.com
DTSTAMP:20260404T150000Z
DTSTART;TZID=America/Chicago:20260404T100000
DURATION:PT0H60M0S
SUMMARY:Painter/Martin/Carbine vs Smith/Staley
DESCRIPTION:Girls 2021-22 | Soccer\nBrentwood Family YMCA\n
URL;VALUE=URI:https://ygametime.com/branch/brentwood/sports/2026-spring-soccer/25714/?utm_medium=calendar&utm_source=team_cal&utm_content=league_url#game-597251
LOCATION:Brentwood Family YMCA Field 3
BEGIN:VALARM
TRIGGER:-P2H
ACTION:DISPLAY
DESCRIPTION:Painter/Martin/Carbine vs Smith/Staley
END:VALARM
END:VEVENT
BEGIN:VEVENT
UID:brentwood-597255@ygametime.com
DTSTAMP:20260411T140000Z
DTSTART;TZID=America/Chicago:20260411T090000
DURATION:PT0H60M0S
SUMMARY:Bellenfant/Konves vs Painter/Martin/Carbine
DESCRIPTION:Girls 2021-22 | Soccer\nBrentwood Family YMCA\n
URL;VALUE=URI:https://ygametime.com/branch/brentwood/sports/2026-spring-soccer/25714/?utm_medium=calendar&utm_source=team_cal&utm_content=league_url#game-597255
LOCATION:Brentwood Family YMCA Field 3
BEGIN:VALARM
TRIGGER:-P2H
ACTION:DISPLAY
DESCRIPTION:Bellenfant/Konves vs Painter/Martin/Carbine
END:VALARM
END:VEVENT
BEGIN:VEVENT
UID:brentwood-597269@ygametime.com
DTSTAMP:20260425T150000Z
DTSTART;TZID=America/Chicago:20260425T100000
DURATION:PT0H60M0S
SUMMARY:Sabin vs Painter/Martin/Carbine
DESCRIPTION:Girls 2021-22 | Soccer\nBrentwood Family YMCA\n
URL;VALUE=URI:https://ygametime.com/branch/brentwood/sports/2026-spring-soccer/25714/?utm_medium=calendar&utm_source=team_cal&utm_content=league_url#game-597269
LOCATION:Brentwood Family YMCA Field 3
BEGIN:VALARM
TRIGGER:-P2H
ACTION:DISPLAY
DESCRIPTION:Sabin vs Painter/Martin/Carbine
END:VALARM
END:VEVENT
BEGIN:VEVENT
UID:brentwood-597273@ygametime.com
DTSTAMP:20260502T140000Z
DTSTART;TZID=America/Chicago:20260502T090000
DURATION:PT0H60M0S
SUMMARY:Painter/Martin/Carbine vs Hetzer
DESCRIPTION:Girls 2021-22 | Soccer\nBrentwood Family YMCA\n
URL;VALUE=URI:https://ygametime.com/branch/brentwood/sports/2026-spring-soccer/25714/?utm_medium=calendar&utm_source=team_cal&utm_content=league_url#game-597273
LOCATION:Brentwood Family YMCA Field 3
BEGIN:VALARM
TRIGGER:-P2H
ACTION:DISPLAY
DESCRIPTION:Painter/Martin/Carbine vs Hetzer
END:VALARM
END:VEVENT
BEGIN:VEVENT
UID:brentwood-597277@ygametime.com
DTSTAMP:20260509T130000Z
DTSTART;TZID=America/Chicago:20260509T080000
DURATION:PT0H60M0S
SUMMARY:Painter/Martin/Carbine vs Bergmeyer
DESCRIPTION:Girls 2021-22 | Soccer\nBrentwood Family YMCA\n
URL;VALUE=URI:https://ygametime.com/branch/brentwood/sports/2026-spring-soccer/25714/?utm_medium=calendar&utm_source=team_cal&utm_content=league_url#game-597277
LOCATION:Brentwood Family YMCA Field 3
BEGIN:VALARM
TRIGGER:-P2H
ACTION:DISPLAY
DESCRIPTION:Painter/Martin/Carbine vs Bergmeyer
END:VALARM
END:VEVENT
BEGIN:VEVENT
UID:brentwood-597259@ygametime.com
DTSTAMP:20260516T130000Z
DTSTART;TZID=America/Chicago:20260516T080000
DURATION:PT0H60M0S
SUMMARY:Painter/Martin/Carbine vs Cooper
DESCRIPTION:Girls 2021-22 | Soccer\nBrentwood Family YMCA\n
URL;VALUE=URI:https://ygametime.com/branch/brentwood/sports/2026-spring-soccer/25714/?utm_medium=calendar&utm_source=team_cal&utm_content=league_url#game-597259
LOCATION:Brentwood Family YMCA Field 3
BEGIN:VALARM
TRIGGER:-P2H
ACTION:DISPLAY
DESCRIPTION:Painter/Martin/Carbine vs Cooper
END:VALARM
END:VEVENT
END:VCALENDAR

