BEGIN:VCALENDAR
VERSION:2.0
PRODID:-//YGAMETIME.com//YGT iCal Creator//EN
METHOD:PUBLISH
X-PUBLISHED-TTL:PT6H
REFRESH-INTERVAL;VALUE=DURATION:PT6H
CALSCALE:GREGORIAN
X-WR-CALNAME:YGAMETIME CALENDAR
BEGIN:VTIMEZONE
TZID:America/Chicago
X-LIC-LOCATION:America/Chicago
BEGIN:DAYLIGHT
TZOFFSETFROM:-0600
TZOFFSETTO:-0500
TZNAME:CDT
DTSTART:19700308T020000
RRULE:FREQ=YEARLY;BYMONTH=3;BYDAY=2SU
END:DAYLIGHT
BEGIN:STANDARD
TZOFFSETFROM:-0500
TZOFFSETTO:-0600
TZNAME:CST
DTSTART:19701101T020000
RRULE:FREQ=YEARLY;BYMONTH=11;BYDAY=1SU
END:STANDARD
END:VTIMEZONE
BEGIN:VEVENT
UID:brentwood-597241@ygametime.com
DTSTAMP:20260328T130000Z
DTSTART;TZID=America/Chicago:20260328T080000
DURATION:PT0H60M0S
SUMMARY:Cooper vs Bergmeyer
DESCRIPTION:Girls 2021-22 | Soccer\nBrentwood Family YMCA\n
URL;VALUE=URI:https://ygametime.com/branch/brentwood/sports/2026-spring-soccer/25714/?utm_medium=calendar&utm_source=team_cal&utm_content=league_url#game-597241
LOCATION:Brentwood Family YMCA Field 3
BEGIN:VALARM
TRIGGER:-P2H
ACTION:DISPLAY
DESCRIPTION:Cooper vs Bergmeyer
END:VALARM
END:VEVENT
BEGIN:VEVENT
UID:brentwood-597247@ygametime.com
DTSTAMP:20260404T130000Z
DTSTART;TZID=America/Chicago:20260404T080000
DURATION:PT0H60M0S
SUMMARY:Sabin vs Cooper
DESCRIPTION:Girls 2021-22 | Soccer\nBrentwood Family YMCA\n
URL;VALUE=URI:https://ygametime.com/branch/brentwood/sports/2026-spring-soccer/25714/?utm_medium=calendar&utm_source=team_cal&utm_content=league_url#game-597247
LOCATION:Brentwood Family YMCA Field 3
BEGIN:VALARM
TRIGGER:-P2H
ACTION:DISPLAY
DESCRIPTION:Sabin vs Cooper
END:VALARM
END:VEVENT
BEGIN:VEVENT
UID:brentwood-597253@ygametime.com
DTSTAMP:20260411T130000Z
DTSTART;TZID=America/Chicago:20260411T080000
DURATION:PT0H60M0S
SUMMARY:Cooper vs Hetzer
DESCRIPTION:Girls 2021-22 | Soccer\nBrentwood Family YMCA\n
URL;VALUE=URI:https://ygametime.com/branch/brentwood/sports/2026-spring-soccer/25714/?utm_medium=calendar&utm_source=team_cal&utm_content=league_url#game-597253
LOCATION:Brentwood Family YMCA Field 3
BEGIN:VALARM
TRIGGER:-P2H
ACTION:DISPLAY
DESCRIPTION:Cooper vs Hetzer
END:VALARM
END:VEVENT
BEGIN:VEVENT
UID:brentwood-597265@ygametime.com
DTSTAMP:20260425T130000Z
DTSTART;TZID=America/Chicago:20260425T080000
DURATION:PT0H60M0S
SUMMARY:Cooper vs Jackson
DESCRIPTION:Girls 2021-22 | Soccer\nBrentwood Family YMCA\n
URL;VALUE=URI:https://ygametime.com/branch/brentwood/sports/2026-spring-soccer/25714/?utm_medium=calendar&utm_source=team_cal&utm_content=league_url#game-597265
LOCATION:Brentwood Family YMCA Field 3
BEGIN:VALARM
TRIGGER:-P2H
ACTION:DISPLAY
DESCRIPTION:Cooper vs Jackson
END:VALARM
END:VEVENT
BEGIN:VEVENT
UID:brentwood-597271@ygametime.com
DTSTAMP:20260502T130000Z
DTSTART;TZID=America/Chicago:20260502T080000
DURATION:PT0H60M0S
SUMMARY:McNutt vs Cooper
DESCRIPTION:Girls 2021-22 | Soccer\nBrentwood Family YMCA\n
URL;VALUE=URI:https://ygametime.com/branch/brentwood/sports/2026-spring-soccer/25714/?utm_medium=calendar&utm_source=team_cal&utm_content=league_url#game-597271
LOCATION:Brentwood Family YMCA Field 3
BEGIN:VALARM
TRIGGER:-P2H
ACTION:DISPLAY
DESCRIPTION:McNutt vs Cooper
END:VALARM
END:VEVENT
BEGIN:VEVENT
UID:brentwood-597282@ygametime.com
DTSTAMP:20260509T150000Z
DTSTART;TZID=America/Chicago:20260509T100000
DURATION:PT0H60M0S
SUMMARY:Cooper vs Kirkmeyer
DESCRIPTION:Girls 2021-22 | Soccer\nBrentwood Family YMCA\n
URL;VALUE=URI:https://ygametime.com/branch/brentwood/sports/2026-spring-soccer/25714/?utm_medium=calendar&utm_source=team_cal&utm_content=league_url#game-597282
LOCATION:Brentwood Family YMCA Field 4
BEGIN:VALARM
TRIGGER:-P2H
ACTION:DISPLAY
DESCRIPTION:Cooper vs Kirkmeyer
END:VALARM
END:VEVENT
BEGIN:VEVENT
UID:brentwood-597259@ygametime.com
DTSTAMP:20260516T130000Z
DTSTART;TZID=America/Chicago:20260516T080000
DURATION:PT0H60M0S
SUMMARY:Painter/Martin/Carbine vs Cooper
DESCRIPTION:Girls 2021-22 | Soccer\nBrentwood Family YMCA\n
URL;VALUE=URI:https://ygametime.com/branch/brentwood/sports/2026-spring-soccer/25714/?utm_medium=calendar&utm_source=team_cal&utm_content=league_url#game-597259
LOCATION:Brentwood Family YMCA Field 3
BEGIN:VALARM
TRIGGER:-P2H
ACTION:DISPLAY
DESCRIPTION:Painter/Martin/Carbine vs Cooper
END:VALARM
END:VEVENT
END:VCALENDAR

