BEGIN:VCALENDAR
VERSION:2.0
PRODID:-//YGAMETIME.com//YGT iCal Creator//EN
METHOD:PUBLISH
X-PUBLISHED-TTL:PT6H
REFRESH-INTERVAL;VALUE=DURATION:PT6H
CALSCALE:GREGORIAN
X-WR-CALNAME:YGAMETIME CALENDAR
BEGIN:VTIMEZONE
TZID:America/Chicago
X-LIC-LOCATION:America/Chicago
BEGIN:DAYLIGHT
TZOFFSETFROM:-0600
TZOFFSETTO:-0500
TZNAME:CDT
DTSTART:19700308T020000
RRULE:FREQ=YEARLY;BYMONTH=3;BYDAY=2SU
END:DAYLIGHT
BEGIN:STANDARD
TZOFFSETFROM:-0500
TZOFFSETTO:-0600
TZNAME:CST
DTSTART:19701101T020000
RRULE:FREQ=YEARLY;BYMONTH=11;BYDAY=1SU
END:STANDARD
END:VTIMEZONE
BEGIN:VEVENT
UID:brentwood-597242@ygametime.com
DTSTAMP:20260328T130000Z
DTSTART;TZID=America/Chicago:20260328T080000
DURATION:PT0H60M0S
SUMMARY:Kirkmeyer vs McNutt
DESCRIPTION:Girls 2021-22 | Soccer\nBrentwood Family YMCA\n
URL;VALUE=URI:https://ygametime.com/branch/brentwood/sports/2026-spring-soccer/25714/?utm_medium=calendar&utm_source=team_cal&utm_content=league_url#game-597242
LOCATION:Brentwood Family YMCA Field 4
BEGIN:VALARM
TRIGGER:-P2H
ACTION:DISPLAY
DESCRIPTION:Kirkmeyer vs McNutt
END:VALARM
END:VEVENT
BEGIN:VEVENT
UID:brentwood-597252@ygametime.com
DTSTAMP:20260404T150000Z
DTSTART;TZID=America/Chicago:20260404T100000
DURATION:PT0H60M0S
SUMMARY:Bergmeyer vs Kirkmeyer
DESCRIPTION:Girls 2021-22 | Soccer\nBrentwood Family YMCA\n
URL;VALUE=URI:https://ygametime.com/branch/brentwood/sports/2026-spring-soccer/25714/?utm_medium=calendar&utm_source=team_cal&utm_content=league_url#game-597252
LOCATION:Brentwood Family YMCA Field 4
BEGIN:VALARM
TRIGGER:-P2H
ACTION:DISPLAY
DESCRIPTION:Bergmeyer vs Kirkmeyer
END:VALARM
END:VEVENT
BEGIN:VEVENT
UID:brentwood-597258@ygametime.com
DTSTAMP:20260411T130000Z
DTSTART;TZID=America/Chicago:20260411T080000
DURATION:PT0H60M0S
SUMMARY:Bufalino vs Kirkmeyer
DESCRIPTION:Girls 2021-22 | Soccer\nBrentwood Family YMCA\n
URL;VALUE=URI:https://ygametime.com/branch/brentwood/sports/2026-spring-soccer/25714/?utm_medium=calendar&utm_source=team_cal&utm_content=league_url#game-597258
LOCATION:Brentwood Family YMCA Field 4
BEGIN:VALARM
TRIGGER:-P2H
ACTION:DISPLAY
DESCRIPTION:Bufalino vs Kirkmeyer
END:VALARM
END:VEVENT
BEGIN:VEVENT
UID:brentwood-597270@ygametime.com
DTSTAMP:20260425T150000Z
DTSTART;TZID=America/Chicago:20260425T100000
DURATION:PT0H60M0S
SUMMARY:Smith/Staley vs Kirkmeyer
DESCRIPTION:Girls 2021-22 | Soccer\nBrentwood Family YMCA\n
URL;VALUE=URI:https://ygametime.com/branch/brentwood/sports/2026-spring-soccer/25714/?utm_medium=calendar&utm_source=team_cal&utm_content=league_url#game-597270
LOCATION:Brentwood Family YMCA Field 4
BEGIN:VALARM
TRIGGER:-P2H
ACTION:DISPLAY
DESCRIPTION:Smith/Staley vs Kirkmeyer
END:VALARM
END:VEVENT
BEGIN:VEVENT
UID:brentwood-597276@ygametime.com
DTSTAMP:20260502T150000Z
DTSTART;TZID=America/Chicago:20260502T100000
DURATION:PT0H60M0S
SUMMARY:Kirkmeyer vs Bellenfant/Konves
DESCRIPTION:Girls 2021-22 | Soccer\nBrentwood Family YMCA\n
URL;VALUE=URI:https://ygametime.com/branch/brentwood/sports/2026-spring-soccer/25714/?utm_medium=calendar&utm_source=team_cal&utm_content=league_url#game-597276
LOCATION:Brentwood Family YMCA Field 4
BEGIN:VALARM
TRIGGER:-P2H
ACTION:DISPLAY
DESCRIPTION:Kirkmeyer vs Bellenfant/Konves
END:VALARM
END:VEVENT
BEGIN:VEVENT
UID:brentwood-597282@ygametime.com
DTSTAMP:20260509T150000Z
DTSTART;TZID=America/Chicago:20260509T100000
DURATION:PT0H60M0S
SUMMARY:Cooper vs Kirkmeyer
DESCRIPTION:Girls 2021-22 | Soccer\nBrentwood Family YMCA\n
URL;VALUE=URI:https://ygametime.com/branch/brentwood/sports/2026-spring-soccer/25714/?utm_medium=calendar&utm_source=team_cal&utm_content=league_url#game-597282
LOCATION:Brentwood Family YMCA Field 4
BEGIN:VALARM
TRIGGER:-P2H
ACTION:DISPLAY
DESCRIPTION:Cooper vs Kirkmeyer
END:VALARM
END:VEVENT
BEGIN:VEVENT
UID:brentwood-597264@ygametime.com
DTSTAMP:20260516T150000Z
DTSTART;TZID=America/Chicago:20260516T100000
DURATION:PT0H60M0S
SUMMARY:Kirkmeyer vs Tallant
DESCRIPTION:Girls 2021-22 | Soccer\nBrentwood Family YMCA\n
URL;VALUE=URI:https://ygametime.com/branch/brentwood/sports/2026-spring-soccer/25714/?utm_medium=calendar&utm_source=team_cal&utm_content=league_url#game-597264
LOCATION:Brentwood Family YMCA Field 4
BEGIN:VALARM
TRIGGER:-P2H
ACTION:DISPLAY
DESCRIPTION:Kirkmeyer vs Tallant
END:VALARM
END:VEVENT
END:VCALENDAR

