BEGIN:VCALENDAR
VERSION:2.0
PRODID:-//YGAMETIME.com//YGT iCal Creator//EN
METHOD:PUBLISH
X-PUBLISHED-TTL:PT6H
REFRESH-INTERVAL;VALUE=DURATION:PT6H
CALSCALE:GREGORIAN
X-WR-CALNAME:YGAMETIME CALENDAR
BEGIN:VTIMEZONE
TZID:America/Chicago
X-LIC-LOCATION:America/Chicago
BEGIN:DAYLIGHT
TZOFFSETFROM:-0600
TZOFFSETTO:-0500
TZNAME:CDT
DTSTART:19700308T020000
RRULE:FREQ=YEARLY;BYMONTH=3;BYDAY=2SU
END:DAYLIGHT
BEGIN:STANDARD
TZOFFSETFROM:-0500
TZOFFSETTO:-0600
TZNAME:CST
DTSTART:19701101T020000
RRULE:FREQ=YEARLY;BYMONTH=11;BYDAY=1SU
END:STANDARD
END:VTIMEZONE
BEGIN:VEVENT
UID:brentwood-597245@ygametime.com
DTSTAMP:20260328T150000Z
DTSTART;TZID=America/Chicago:20260328T100000
DURATION:PT0H60M0S
SUMMARY:Smith/Staley vs Hetzer
DESCRIPTION:Girls 2021-22 | Soccer\nBrentwood Family YMCA\n
URL;VALUE=URI:https://ygametime.com/branch/brentwood/sports/2026-spring-soccer/25714/?utm_medium=calendar&utm_source=team_cal&utm_content=league_url#game-597245
LOCATION:Brentwood Family YMCA Field 3
BEGIN:VALARM
TRIGGER:-P2H
ACTION:DISPLAY
DESCRIPTION:Smith/Staley vs Hetzer
END:VALARM
END:VEVENT
BEGIN:VEVENT
UID:brentwood-597249@ygametime.com
DTSTAMP:20260404T140000Z
DTSTART;TZID=America/Chicago:20260404T090000
DURATION:PT0H60M0S
SUMMARY:Hetzer vs Bellenfant/Konves
DESCRIPTION:Girls 2021-22 | Soccer\nBrentwood Family YMCA\n
URL;VALUE=URI:https://ygametime.com/branch/brentwood/sports/2026-spring-soccer/25714/?utm_medium=calendar&utm_source=team_cal&utm_content=league_url#game-597249
LOCATION:Brentwood Family YMCA Field 3
BEGIN:VALARM
TRIGGER:-P2H
ACTION:DISPLAY
DESCRIPTION:Hetzer vs Bellenfant/Konves
END:VALARM
END:VEVENT
BEGIN:VEVENT
UID:brentwood-597253@ygametime.com
DTSTAMP:20260411T130000Z
DTSTART;TZID=America/Chicago:20260411T080000
DURATION:PT0H60M0S
SUMMARY:Cooper vs Hetzer
DESCRIPTION:Girls 2021-22 | Soccer\nBrentwood Family YMCA\n
URL;VALUE=URI:https://ygametime.com/branch/brentwood/sports/2026-spring-soccer/25714/?utm_medium=calendar&utm_source=team_cal&utm_content=league_url#game-597253
LOCATION:Brentwood Family YMCA Field 3
BEGIN:VALARM
TRIGGER:-P2H
ACTION:DISPLAY
DESCRIPTION:Cooper vs Hetzer
END:VALARM
END:VEVENT
BEGIN:VEVENT
UID:brentwood-597267@ygametime.com
DTSTAMP:20260425T140000Z
DTSTART;TZID=America/Chicago:20260425T090000
DURATION:PT0H60M0S
SUMMARY:Hetzer vs Bergmeyer
DESCRIPTION:Girls 2021-22 | Soccer\nBrentwood Family YMCA\n
URL;VALUE=URI:https://ygametime.com/branch/brentwood/sports/2026-spring-soccer/25714/?utm_medium=calendar&utm_source=team_cal&utm_content=league_url#game-597267
LOCATION:Brentwood Family YMCA Field 3
BEGIN:VALARM
TRIGGER:-P2H
ACTION:DISPLAY
DESCRIPTION:Hetzer vs Bergmeyer
END:VALARM
END:VEVENT
BEGIN:VEVENT
UID:brentwood-597273@ygametime.com
DTSTAMP:20260502T140000Z
DTSTART;TZID=America/Chicago:20260502T090000
DURATION:PT0H60M0S
SUMMARY:Painter/Martin/Carbine vs Hetzer
DESCRIPTION:Girls 2021-22 | Soccer\nBrentwood Family YMCA\n
URL;VALUE=URI:https://ygametime.com/branch/brentwood/sports/2026-spring-soccer/25714/?utm_medium=calendar&utm_source=team_cal&utm_content=league_url#game-597273
LOCATION:Brentwood Family YMCA Field 3
BEGIN:VALARM
TRIGGER:-P2H
ACTION:DISPLAY
DESCRIPTION:Painter/Martin/Carbine vs Hetzer
END:VALARM
END:VEVENT
BEGIN:VEVENT
UID:brentwood-597279@ygametime.com
DTSTAMP:20260509T140000Z
DTSTART;TZID=America/Chicago:20260509T090000
DURATION:PT0H60M0S
SUMMARY:Hetzer vs Jackson
DESCRIPTION:Girls 2021-22 | Soccer\nBrentwood Family YMCA\n
URL;VALUE=URI:https://ygametime.com/branch/brentwood/sports/2026-spring-soccer/25714/?utm_medium=calendar&utm_source=team_cal&utm_content=league_url#game-597279
LOCATION:Brentwood Family YMCA Field 3
BEGIN:VALARM
TRIGGER:-P2H
ACTION:DISPLAY
DESCRIPTION:Hetzer vs Jackson
END:VALARM
END:VEVENT
BEGIN:VEVENT
UID:brentwood-597263@ygametime.com
DTSTAMP:20260516T150000Z
DTSTART;TZID=America/Chicago:20260516T100000
DURATION:PT0H60M0S
SUMMARY:Hetzer vs Sabin
DESCRIPTION:Girls 2021-22 | Soccer\nBrentwood Family YMCA\n
URL;VALUE=URI:https://ygametime.com/branch/brentwood/sports/2026-spring-soccer/25714/?utm_medium=calendar&utm_source=team_cal&utm_content=league_url#game-597263
LOCATION:Brentwood Family YMCA Field 3
BEGIN:VALARM
TRIGGER:-P2H
ACTION:DISPLAY
DESCRIPTION:Hetzer vs Sabin
END:VALARM
END:VEVENT
END:VCALENDAR

