BEGIN:VCALENDAR
VERSION:2.0
PRODID:-//YGAMETIME.com//YGT iCal Creator//EN
METHOD:PUBLISH
X-PUBLISHED-TTL:PT6H
REFRESH-INTERVAL;VALUE=DURATION:PT6H
CALSCALE:GREGORIAN
X-WR-CALNAME:YGAMETIME CALENDAR
BEGIN:VTIMEZONE
TZID:America/Chicago
X-LIC-LOCATION:America/Chicago
BEGIN:DAYLIGHT
TZOFFSETFROM:-0600
TZOFFSETTO:-0500
TZNAME:CDT
DTSTART:19700308T020000
RRULE:FREQ=YEARLY;BYMONTH=3;BYDAY=2SU
END:DAYLIGHT
BEGIN:STANDARD
TZOFFSETFROM:-0500
TZOFFSETTO:-0600
TZNAME:CST
DTSTART:19701101T020000
RRULE:FREQ=YEARLY;BYMONTH=11;BYDAY=1SU
END:STANDARD
END:VTIMEZONE
BEGIN:VEVENT
UID:brentwood-596780@ygametime.com
DTSTAMP:20260328T130000Z
DTSTART;TZID=America/Chicago:20260328T080000
DURATION:PT0H75M0S
SUMMARY:Blackwell vs Murphy
DESCRIPTION:Boys 2014-15 | Soccer\nBrentwood Family YMCA\n
URL;VALUE=URI:https://ygametime.com/branch/brentwood/sports/2026-spring-soccer/25713/?utm_medium=calendar&utm_source=team_cal&utm_content=league_url#game-596780
LOCATION:Crockett Park Field 9A
BEGIN:VALARM
TRIGGER:-P2H
ACTION:DISPLAY
DESCRIPTION:Blackwell vs Murphy
END:VALARM
END:VEVENT
BEGIN:VEVENT
UID:brentwood-596787@ygametime.com
DTSTAMP:20260404T130000Z
DTSTART;TZID=America/Chicago:20260404T080000
DURATION:PT0H75M0S
SUMMARY:Murphy vs Boswell
DESCRIPTION:Boys 2014-15 | Soccer\nBrentwood Family YMCA\n
URL;VALUE=URI:https://ygametime.com/branch/brentwood/sports/2026-spring-soccer/25713/?utm_medium=calendar&utm_source=team_cal&utm_content=league_url#game-596787
LOCATION:Crockett Park Field 9A
BEGIN:VALARM
TRIGGER:-P2H
ACTION:DISPLAY
DESCRIPTION:Murphy vs Boswell
END:VALARM
END:VEVENT
BEGIN:VEVENT
UID:brentwood-596790@ygametime.com
DTSTAMP:20260411T141500Z
DTSTART;TZID=America/Chicago:20260411T091500
DURATION:PT0H75M0S
SUMMARY:Gonzales vs Murphy
DESCRIPTION:Boys 2014-15 | Soccer\nBrentwood Family YMCA\n
URL;VALUE=URI:https://ygametime.com/branch/brentwood/sports/2026-spring-soccer/25713/?utm_medium=calendar&utm_source=team_cal&utm_content=league_url#game-596790
LOCATION:Crockett Park Field 9A
BEGIN:VALARM
TRIGGER:-P2H
ACTION:DISPLAY
DESCRIPTION:Gonzales vs Murphy
END:VALARM
END:VEVENT
BEGIN:VEVENT
UID:brentwood-602855@ygametime.com
DTSTAMP:20260418T153000Z
DTSTART;TZID=America/Chicago:20260418T103000
DURATION:PT0H75M0S
SUMMARY:Murphy vs Boswell
DESCRIPTION:Boys 2014-15 | Soccer\nBrentwood Family YMCA\n
URL;VALUE=URI:https://ygametime.com/branch/brentwood/sports/2026-spring-soccer/25713/?utm_medium=calendar&utm_source=team_cal&utm_content=league_url#game-602855
LOCATION:Crockett Park Field 9A
BEGIN:VALARM
TRIGGER:-P2H
ACTION:DISPLAY
DESCRIPTION:Murphy vs Boswell
END:VALARM
END:VEVENT
BEGIN:VEVENT
UID:brentwood-602860@ygametime.com
DTSTAMP:20260425T164500Z
DTSTART;TZID=America/Chicago:20260425T114500
DURATION:PT0H75M0S
SUMMARY:Marten vs Murphy
DESCRIPTION:Boys 2014-15 | Soccer\nBrentwood Family YMCA\n
URL;VALUE=URI:https://ygametime.com/branch/brentwood/sports/2026-spring-soccer/25713/?utm_medium=calendar&utm_source=team_cal&utm_content=league_url#game-602860
LOCATION:Crockett Park Field 9A
BEGIN:VALARM
TRIGGER:-P2H
ACTION:DISPLAY
DESCRIPTION:Marten vs Murphy
END:VALARM
END:VEVENT
BEGIN:VEVENT
UID:brentwood-602866@ygametime.com
DTSTAMP:20260509T141500Z
DTSTART;TZID=America/Chicago:20260509T091500
DURATION:PT0H75M0S
SUMMARY:Murphy vs Lee/ Wirdzek
DESCRIPTION:Boys 2014-15 | Soccer\nBrentwood Family YMCA\n
URL;VALUE=URI:https://ygametime.com/branch/brentwood/sports/2026-spring-soccer/25713/?utm_medium=calendar&utm_source=team_cal&utm_content=league_url#game-602866
LOCATION:Crockett Park Field 9A
BEGIN:VALARM
TRIGGER:-P2H
ACTION:DISPLAY
DESCRIPTION:Murphy vs Lee/ Wirdzek
END:VALARM
END:VEVENT
BEGIN:VEVENT
UID:brentwood-602863@ygametime.com
DTSTAMP:20260516T153000Z
DTSTART;TZID=America/Chicago:20260516T103000
DURATION:PT0H75M0S
SUMMARY:Gonzales vs Murphy
DESCRIPTION:Boys 2014-15 | Soccer\nBrentwood Family YMCA\n
URL;VALUE=URI:https://ygametime.com/branch/brentwood/sports/2026-spring-soccer/25713/?utm_medium=calendar&utm_source=team_cal&utm_content=league_url#game-602863
LOCATION:Crockett Park Field 9A
BEGIN:VALARM
TRIGGER:-P2H
ACTION:DISPLAY
DESCRIPTION:Gonzales vs Murphy
END:VALARM
END:VEVENT
END:VCALENDAR

