BEGIN:VCALENDAR
VERSION:2.0
PRODID:-//YGAMETIME.com//YGT iCal Creator//EN
METHOD:PUBLISH
X-PUBLISHED-TTL:PT6H
REFRESH-INTERVAL;VALUE=DURATION:PT6H
CALSCALE:GREGORIAN
X-WR-CALNAME:YGAMETIME CALENDAR
BEGIN:VTIMEZONE
TZID:America/Chicago
X-LIC-LOCATION:America/Chicago
BEGIN:DAYLIGHT
TZOFFSETFROM:-0600
TZOFFSETTO:-0500
TZNAME:CDT
DTSTART:19700308T020000
RRULE:FREQ=YEARLY;BYMONTH=3;BYDAY=2SU
END:DAYLIGHT
BEGIN:STANDARD
TZOFFSETFROM:-0500
TZOFFSETTO:-0600
TZNAME:CST
DTSTART:19701101T020000
RRULE:FREQ=YEARLY;BYMONTH=11;BYDAY=1SU
END:STANDARD
END:VTIMEZONE
BEGIN:VEVENT
UID:brentwood-596781@ygametime.com
DTSTAMP:20260328T141500Z
DTSTART;TZID=America/Chicago:20260328T091500
DURATION:PT0H75M0S
SUMMARY:Boswell vs McKnight
DESCRIPTION:Boys 2014-15 | Soccer\nBrentwood Family YMCA\n
URL;VALUE=URI:https://ygametime.com/branch/brentwood/sports/2026-spring-soccer/25713/?utm_medium=calendar&utm_source=team_cal&utm_content=league_url#game-596781
LOCATION:Crockett Park Field 9A
BEGIN:VALARM
TRIGGER:-P2H
ACTION:DISPLAY
DESCRIPTION:Boswell vs McKnight
END:VALARM
END:VEVENT
BEGIN:VEVENT
UID:brentwood-596785@ygametime.com
DTSTAMP:20260404T141500Z
DTSTART;TZID=America/Chicago:20260404T091500
DURATION:PT0H75M0S
SUMMARY:McKnight vs Lee/ Wirdzek
DESCRIPTION:Boys 2014-15 | Soccer\nBrentwood Family YMCA\n
URL;VALUE=URI:https://ygametime.com/branch/brentwood/sports/2026-spring-soccer/25713/?utm_medium=calendar&utm_source=team_cal&utm_content=league_url#game-596785
LOCATION:Crockett Park Field 9A
BEGIN:VALARM
TRIGGER:-P2H
ACTION:DISPLAY
DESCRIPTION:McKnight vs Lee/ Wirdzek
END:VALARM
END:VEVENT
BEGIN:VEVENT
UID:brentwood-596789@ygametime.com
DTSTAMP:20260411T153000Z
DTSTART;TZID=America/Chicago:20260411T103000
DURATION:PT0H75M0S
SUMMARY:Marten vs McKnight
DESCRIPTION:Boys 2014-15 | Soccer\nBrentwood Family YMCA\n
URL;VALUE=URI:https://ygametime.com/branch/brentwood/sports/2026-spring-soccer/25713/?utm_medium=calendar&utm_source=team_cal&utm_content=league_url#game-596789
LOCATION:Crockett Park Field 9A
BEGIN:VALARM
TRIGGER:-P2H
ACTION:DISPLAY
DESCRIPTION:Marten vs McKnight
END:VALARM
END:VEVENT
BEGIN:VEVENT
UID:brentwood-602854@ygametime.com
DTSTAMP:20260418T141500Z
DTSTART;TZID=America/Chicago:20260418T091500
DURATION:PT0H75M0S
SUMMARY:Rivera vs McKnight
DESCRIPTION:Boys 2014-15 | Soccer\nBrentwood Family YMCA\n
URL;VALUE=URI:https://ygametime.com/branch/brentwood/sports/2026-spring-soccer/25713/?utm_medium=calendar&utm_source=team_cal&utm_content=league_url#game-602854
LOCATION:Crockett Park Field 9A
BEGIN:VALARM
TRIGGER:-P2H
ACTION:DISPLAY
DESCRIPTION:Rivera vs McKnight
END:VALARM
END:VEVENT
BEGIN:VEVENT
UID:brentwood-602859@ygametime.com
DTSTAMP:20260425T153000Z
DTSTART;TZID=America/Chicago:20260425T103000
DURATION:PT0H75M0S
SUMMARY:Boswell vs McKnight
DESCRIPTION:Boys 2014-15 | Soccer\nBrentwood Family YMCA\n
URL;VALUE=URI:https://ygametime.com/branch/brentwood/sports/2026-spring-soccer/25713/?utm_medium=calendar&utm_source=team_cal&utm_content=league_url#game-602859
LOCATION:Crockett Park Field 9A
BEGIN:VALARM
TRIGGER:-P2H
ACTION:DISPLAY
DESCRIPTION:Boswell vs McKnight
END:VALARM
END:VEVENT
BEGIN:VEVENT
UID:brentwood-602865@ygametime.com
DTSTAMP:20260509T130000Z
DTSTART;TZID=America/Chicago:20260509T080000
DURATION:PT0H75M0S
SUMMARY:McKnight vs Blackwell
DESCRIPTION:Boys 2014-15 | Soccer\nBrentwood Family YMCA\n
URL;VALUE=URI:https://ygametime.com/branch/brentwood/sports/2026-spring-soccer/25713/?utm_medium=calendar&utm_source=team_cal&utm_content=league_url#game-602865
LOCATION:Crockett Park Field 9A
BEGIN:VALARM
TRIGGER:-P2H
ACTION:DISPLAY
DESCRIPTION:McKnight vs Blackwell
END:VALARM
END:VEVENT
BEGIN:VEVENT
UID:brentwood-602862@ygametime.com
DTSTAMP:20260516T141500Z
DTSTART;TZID=America/Chicago:20260516T091500
DURATION:PT0H75M0S
SUMMARY:Marten vs McKnight
DESCRIPTION:Boys 2014-15 | Soccer\nBrentwood Family YMCA\n
URL;VALUE=URI:https://ygametime.com/branch/brentwood/sports/2026-spring-soccer/25713/?utm_medium=calendar&utm_source=team_cal&utm_content=league_url#game-602862
LOCATION:Crockett Park Field 9A
BEGIN:VALARM
TRIGGER:-P2H
ACTION:DISPLAY
DESCRIPTION:Marten vs McKnight
END:VALARM
END:VEVENT
END:VCALENDAR

