BEGIN:VCALENDAR
VERSION:2.0
PRODID:-//YGAMETIME.com//YGT iCal Creator//EN
METHOD:PUBLISH
X-PUBLISHED-TTL:PT6H
REFRESH-INTERVAL;VALUE=DURATION:PT6H
CALSCALE:GREGORIAN
X-WR-CALNAME:YGAMETIME CALENDAR
BEGIN:VTIMEZONE
TZID:America/Chicago
X-LIC-LOCATION:America/Chicago
BEGIN:DAYLIGHT
TZOFFSETFROM:-0600
TZOFFSETTO:-0500
TZNAME:CDT
DTSTART:19700308T020000
RRULE:FREQ=YEARLY;BYMONTH=3;BYDAY=2SU
END:DAYLIGHT
BEGIN:STANDARD
TZOFFSETFROM:-0500
TZOFFSETTO:-0600
TZNAME:CST
DTSTART:19701101T020000
RRULE:FREQ=YEARLY;BYMONTH=11;BYDAY=1SU
END:STANDARD
END:VTIMEZONE
BEGIN:VEVENT
UID:brentwood-596783@ygametime.com
DTSTAMP:20260328T164500Z
DTSTART;TZID=America/Chicago:20260328T114500
DURATION:PT0H75M0S
SUMMARY:Lee/ Wirdzek vs Rivera
DESCRIPTION:Boys 2014-15 | Soccer\nBrentwood Family YMCA\n
URL;VALUE=URI:https://ygametime.com/branch/brentwood/sports/2026-spring-soccer/25713/?utm_medium=calendar&utm_source=team_cal&utm_content=league_url#game-596783
LOCATION:Crockett Park Field 9A
BEGIN:VALARM
TRIGGER:-P2H
ACTION:DISPLAY
DESCRIPTION:Lee/ Wirdzek vs Rivera
END:VALARM
END:VEVENT
BEGIN:VEVENT
UID:brentwood-596786@ygametime.com
DTSTAMP:20260404T153000Z
DTSTART;TZID=America/Chicago:20260404T103000
DURATION:PT0H75M0S
SUMMARY:Rivera vs Marten
DESCRIPTION:Boys 2014-15 | Soccer\nBrentwood Family YMCA\n
URL;VALUE=URI:https://ygametime.com/branch/brentwood/sports/2026-spring-soccer/25713/?utm_medium=calendar&utm_source=team_cal&utm_content=league_url#game-596786
LOCATION:Crockett Park Field 9A
BEGIN:VALARM
TRIGGER:-P2H
ACTION:DISPLAY
DESCRIPTION:Rivera vs Marten
END:VALARM
END:VEVENT
BEGIN:VEVENT
UID:brentwood-596788@ygametime.com
DTSTAMP:20260411T164500Z
DTSTART;TZID=America/Chicago:20260411T114500
DURATION:PT0H75M0S
SUMMARY:Blackwell vs Rivera
DESCRIPTION:Boys 2014-15 | Soccer\nBrentwood Family YMCA\n
URL;VALUE=URI:https://ygametime.com/branch/brentwood/sports/2026-spring-soccer/25713/?utm_medium=calendar&utm_source=team_cal&utm_content=league_url#game-596788
LOCATION:Crockett Park Field 9A
BEGIN:VALARM
TRIGGER:-P2H
ACTION:DISPLAY
DESCRIPTION:Blackwell vs Rivera
END:VALARM
END:VEVENT
BEGIN:VEVENT
UID:brentwood-602854@ygametime.com
DTSTAMP:20260418T141500Z
DTSTART;TZID=America/Chicago:20260418T091500
DURATION:PT0H75M0S
SUMMARY:Rivera vs McKnight
DESCRIPTION:Boys 2014-15 | Soccer\nBrentwood Family YMCA\n
URL;VALUE=URI:https://ygametime.com/branch/brentwood/sports/2026-spring-soccer/25713/?utm_medium=calendar&utm_source=team_cal&utm_content=league_url#game-602854
LOCATION:Crockett Park Field 9A
BEGIN:VALARM
TRIGGER:-P2H
ACTION:DISPLAY
DESCRIPTION:Rivera vs McKnight
END:VALARM
END:VEVENT
BEGIN:VEVENT
UID:brentwood-602858@ygametime.com
DTSTAMP:20260425T141500Z
DTSTART;TZID=America/Chicago:20260425T091500
DURATION:PT0H75M0S
SUMMARY:Rivera vs Lee/ Wirdzek
DESCRIPTION:Boys 2014-15 | Soccer\nBrentwood Family YMCA\n
URL;VALUE=URI:https://ygametime.com/branch/brentwood/sports/2026-spring-soccer/25713/?utm_medium=calendar&utm_source=team_cal&utm_content=league_url#game-602858
LOCATION:Crockett Park Field 9A
BEGIN:VALARM
TRIGGER:-P2H
ACTION:DISPLAY
DESCRIPTION:Rivera vs Lee/ Wirdzek
END:VALARM
END:VEVENT
BEGIN:VEVENT
UID:brentwood-602867@ygametime.com
DTSTAMP:20260509T153000Z
DTSTART;TZID=America/Chicago:20260509T103000
DURATION:PT0H75M0S
SUMMARY:Rivera vs Gonzales
DESCRIPTION:Boys 2014-15 | Soccer\nBrentwood Family YMCA\n
URL;VALUE=URI:https://ygametime.com/branch/brentwood/sports/2026-spring-soccer/25713/?utm_medium=calendar&utm_source=team_cal&utm_content=league_url#game-602867
LOCATION:Crockett Park Field 9A
BEGIN:VALARM
TRIGGER:-P2H
ACTION:DISPLAY
DESCRIPTION:Rivera vs Gonzales
END:VALARM
END:VEVENT
BEGIN:VEVENT
UID:brentwood-602861@ygametime.com
DTSTAMP:20260516T130000Z
DTSTART;TZID=America/Chicago:20260516T080000
DURATION:PT0H75M0S
SUMMARY:Blackwell vs Rivera
DESCRIPTION:Boys 2014-15 | Soccer\nBrentwood Family YMCA\n
URL;VALUE=URI:https://ygametime.com/branch/brentwood/sports/2026-spring-soccer/25713/?utm_medium=calendar&utm_source=team_cal&utm_content=league_url#game-602861
LOCATION:Crockett Park Field 9A
BEGIN:VALARM
TRIGGER:-P2H
ACTION:DISPLAY
DESCRIPTION:Blackwell vs Rivera
END:VALARM
END:VEVENT
END:VCALENDAR

