BEGIN:VCALENDAR
VERSION:2.0
PRODID:-//YGAMETIME.com//YGT iCal Creator//EN
METHOD:PUBLISH
X-PUBLISHED-TTL:PT6H
REFRESH-INTERVAL;VALUE=DURATION:PT6H
CALSCALE:GREGORIAN
X-WR-CALNAME:YGAMETIME CALENDAR
BEGIN:VTIMEZONE
TZID:America/Chicago
X-LIC-LOCATION:America/Chicago
BEGIN:DAYLIGHT
TZOFFSETFROM:-0600
TZOFFSETTO:-0500
TZNAME:CDT
DTSTART:19700308T020000
RRULE:FREQ=YEARLY;BYMONTH=3;BYDAY=2SU
END:DAYLIGHT
BEGIN:STANDARD
TZOFFSETFROM:-0500
TZOFFSETTO:-0600
TZNAME:CST
DTSTART:19701101T020000
RRULE:FREQ=YEARLY;BYMONTH=11;BYDAY=1SU
END:STANDARD
END:VTIMEZONE
BEGIN:VEVENT
UID:brentwood-597332@ygametime.com
DTSTAMP:20260328T130000Z
DTSTART;TZID=America/Chicago:20260328T080000
DURATION:PT0H75M0S
SUMMARY:Gutierrez/ Nunez vs Savoie
DESCRIPTION:Boys 2016-17 | Soccer\nBrentwood Family YMCA\n
URL;VALUE=URI:https://ygametime.com/branch/brentwood/sports/2026-spring-soccer/25712/?utm_medium=calendar&utm_source=team_cal&utm_content=league_url#game-597332
LOCATION:Crockett Park Field 11A
BEGIN:VALARM
TRIGGER:-P2H
ACTION:DISPLAY
DESCRIPTION:Gutierrez/ Nunez vs Savoie
END:VALARM
END:VEVENT
BEGIN:VEVENT
UID:brentwood-597343@ygametime.com
DTSTAMP:20260404T153000Z
DTSTART;TZID=America/Chicago:20260404T103000
DURATION:PT0H75M0S
SUMMARY:Savoie vs Vestal
DESCRIPTION:Boys 2016-17 | Soccer\nBrentwood Family YMCA\n
URL;VALUE=URI:https://ygametime.com/branch/brentwood/sports/2026-spring-soccer/25712/?utm_medium=calendar&utm_source=team_cal&utm_content=league_url#game-597343
LOCATION:Crockett Park Field 11B
BEGIN:VALARM
TRIGGER:-P2H
ACTION:DISPLAY
DESCRIPTION:Savoie vs Vestal
END:VALARM
END:VEVENT
BEGIN:VEVENT
UID:brentwood-597348@ygametime.com
DTSTAMP:20260411T141500Z
DTSTART;TZID=America/Chicago:20260411T091500
DURATION:PT0H75M0S
SUMMARY:Mettee vs Savoie
DESCRIPTION:Boys 2016-17 | Soccer\nBrentwood Family YMCA\n
URL;VALUE=URI:https://ygametime.com/branch/brentwood/sports/2026-spring-soccer/25712/?utm_medium=calendar&utm_source=team_cal&utm_content=league_url#game-597348
LOCATION:Crockett Park Field 11B
BEGIN:VALARM
TRIGGER:-P2H
ACTION:DISPLAY
DESCRIPTION:Mettee vs Savoie
END:VALARM
END:VEVENT
BEGIN:VEVENT
UID:brentwood-602889@ygametime.com
DTSTAMP:20260418T153000Z
DTSTART;TZID=America/Chicago:20260418T103000
DURATION:PT0H75M0S
SUMMARY:Chisholm vs Savoie
DESCRIPTION:Boys 2016-17 | Soccer\nBrentwood Family YMCA\n
URL;VALUE=URI:https://ygametime.com/branch/brentwood/sports/2026-spring-soccer/25712/?utm_medium=calendar&utm_source=team_cal&utm_content=league_url#game-602889
LOCATION:Crockett Park Field 11A
BEGIN:VALARM
TRIGGER:-P2H
ACTION:DISPLAY
DESCRIPTION:Chisholm vs Savoie
END:VALARM
END:VEVENT
BEGIN:VEVENT
UID:brentwood-602892@ygametime.com
DTSTAMP:20260425T141500Z
DTSTART;TZID=America/Chicago:20260425T091500
DURATION:PT0H75M0S
SUMMARY:Bulla vs Savoie
DESCRIPTION:Boys 2016-17 | Soccer\nBrentwood Family YMCA\n
URL;VALUE=URI:https://ygametime.com/branch/brentwood/sports/2026-spring-soccer/25712/?utm_medium=calendar&utm_source=team_cal&utm_content=league_url#game-602892
LOCATION:Crockett Park Field 11A
BEGIN:VALARM
TRIGGER:-P2H
ACTION:DISPLAY
DESCRIPTION:Bulla vs Savoie
END:VALARM
END:VEVENT
BEGIN:VEVENT
UID:brentwood-602908@ygametime.com
DTSTAMP:20260509T153000Z
DTSTART;TZID=America/Chicago:20260509T103000
DURATION:PT0H75M0S
SUMMARY:Vestal vs Savoie
DESCRIPTION:Boys 2016-17 | Soccer\nBrentwood Family YMCA\n
URL;VALUE=URI:https://ygametime.com/branch/brentwood/sports/2026-spring-soccer/25712/?utm_medium=calendar&utm_source=team_cal&utm_content=league_url#game-602908
LOCATION:Crockett Park Field 11B
BEGIN:VALARM
TRIGGER:-P2H
ACTION:DISPLAY
DESCRIPTION:Vestal vs Savoie
END:VALARM
END:VEVENT
BEGIN:VEVENT
UID:brentwood-602901@ygametime.com
DTSTAMP:20260516T153000Z
DTSTART;TZID=America/Chicago:20260516T103000
DURATION:PT0H75M0S
SUMMARY:Britt vs Savoie
DESCRIPTION:Boys 2016-17 | Soccer\nBrentwood Family YMCA\n
URL;VALUE=URI:https://ygametime.com/branch/brentwood/sports/2026-spring-soccer/25712/?utm_medium=calendar&utm_source=team_cal&utm_content=league_url#game-602901
LOCATION:Crockett Park Field 11A
BEGIN:VALARM
TRIGGER:-P2H
ACTION:DISPLAY
DESCRIPTION:Britt vs Savoie
END:VALARM
END:VEVENT
END:VCALENDAR

