BEGIN:VCALENDAR
VERSION:2.0
PRODID:-//YGAMETIME.com//YGT iCal Creator//EN
METHOD:PUBLISH
X-PUBLISHED-TTL:PT6H
REFRESH-INTERVAL;VALUE=DURATION:PT6H
CALSCALE:GREGORIAN
X-WR-CALNAME:YGAMETIME CALENDAR
BEGIN:VTIMEZONE
TZID:America/Chicago
X-LIC-LOCATION:America/Chicago
BEGIN:DAYLIGHT
TZOFFSETFROM:-0600
TZOFFSETTO:-0500
TZNAME:CDT
DTSTART:19700308T020000
RRULE:FREQ=YEARLY;BYMONTH=3;BYDAY=2SU
END:DAYLIGHT
BEGIN:STANDARD
TZOFFSETFROM:-0500
TZOFFSETTO:-0600
TZNAME:CST
DTSTART:19701101T020000
RRULE:FREQ=YEARLY;BYMONTH=11;BYDAY=1SU
END:STANDARD
END:VTIMEZONE
BEGIN:VEVENT
UID:brentwood-597333@ygametime.com
DTSTAMP:20260328T130000Z
DTSTART;TZID=America/Chicago:20260328T080000
DURATION:PT0H75M0S
SUMMARY:Vestal vs Bulla
DESCRIPTION:Boys 2016-17 | Soccer\nBrentwood Family YMCA\n
URL;VALUE=URI:https://ygametime.com/branch/brentwood/sports/2026-spring-soccer/25712/?utm_medium=calendar&utm_source=team_cal&utm_content=league_url#game-597333
LOCATION:Crockett Park Field 11B
BEGIN:VALARM
TRIGGER:-P2H
ACTION:DISPLAY
DESCRIPTION:Vestal vs Bulla
END:VALARM
END:VEVENT
BEGIN:VEVENT
UID:brentwood-597339@ygametime.com
DTSTAMP:20260404T130000Z
DTSTART;TZID=America/Chicago:20260404T080000
DURATION:PT0H75M0S
SUMMARY:Bulla vs Brown/Gonzales/Pappas
DESCRIPTION:Boys 2016-17 | Soccer\nBrentwood Family YMCA\n
URL;VALUE=URI:https://ygametime.com/branch/brentwood/sports/2026-spring-soccer/25712/?utm_medium=calendar&utm_source=team_cal&utm_content=league_url#game-597339
LOCATION:Crockett Park Field 11B
BEGIN:VALARM
TRIGGER:-P2H
ACTION:DISPLAY
DESCRIPTION:Bulla vs Brown/Gonzales/Pappas
END:VALARM
END:VEVENT
BEGIN:VEVENT
UID:brentwood-597345@ygametime.com
DTSTAMP:20260411T130000Z
DTSTART;TZID=America/Chicago:20260411T080000
DURATION:PT0H75M0S
SUMMARY:Donnell vs Bulla
DESCRIPTION:Boys 2016-17 | Soccer\nBrentwood Family YMCA\n
URL;VALUE=URI:https://ygametime.com/branch/brentwood/sports/2026-spring-soccer/25712/?utm_medium=calendar&utm_source=team_cal&utm_content=league_url#game-597345
LOCATION:Crockett Park Field 11B
BEGIN:VALARM
TRIGGER:-P2H
ACTION:DISPLAY
DESCRIPTION:Donnell vs Bulla
END:VALARM
END:VEVENT
BEGIN:VEVENT
UID:brentwood-602886@ygametime.com
DTSTAMP:20260418T130000Z
DTSTART;TZID=America/Chicago:20260418T080000
DURATION:PT0H75M0S
SUMMARY:Bulla vs Britt
DESCRIPTION:Boys 2016-17 | Soccer\nBrentwood Family YMCA\n
URL;VALUE=URI:https://ygametime.com/branch/brentwood/sports/2026-spring-soccer/25712/?utm_medium=calendar&utm_source=team_cal&utm_content=league_url#game-602886
LOCATION:Crockett Park Field 11B
BEGIN:VALARM
TRIGGER:-P2H
ACTION:DISPLAY
DESCRIPTION:Bulla vs Britt
END:VALARM
END:VEVENT
BEGIN:VEVENT
UID:brentwood-602892@ygametime.com
DTSTAMP:20260425T141500Z
DTSTART;TZID=America/Chicago:20260425T091500
DURATION:PT0H75M0S
SUMMARY:Bulla vs Savoie
DESCRIPTION:Boys 2016-17 | Soccer\nBrentwood Family YMCA\n
URL;VALUE=URI:https://ygametime.com/branch/brentwood/sports/2026-spring-soccer/25712/?utm_medium=calendar&utm_source=team_cal&utm_content=league_url#game-602892
LOCATION:Crockett Park Field 11A
BEGIN:VALARM
TRIGGER:-P2H
ACTION:DISPLAY
DESCRIPTION:Bulla vs Savoie
END:VALARM
END:VEVENT
BEGIN:VEVENT
UID:brentwood-602904@ygametime.com
DTSTAMP:20260509T130000Z
DTSTART;TZID=America/Chicago:20260509T080000
DURATION:PT0H75M0S
SUMMARY:Bulla vs Chisholm
DESCRIPTION:Boys 2016-17 | Soccer\nBrentwood Family YMCA\n
URL;VALUE=URI:https://ygametime.com/branch/brentwood/sports/2026-spring-soccer/25712/?utm_medium=calendar&utm_source=team_cal&utm_content=league_url#game-602904
LOCATION:Crockett Park Field 11B
BEGIN:VALARM
TRIGGER:-P2H
ACTION:DISPLAY
DESCRIPTION:Bulla vs Chisholm
END:VALARM
END:VEVENT
BEGIN:VEVENT
UID:brentwood-602898@ygametime.com
DTSTAMP:20260516T130000Z
DTSTART;TZID=America/Chicago:20260516T080000
DURATION:PT0H75M0S
SUMMARY:Vestal vs Bulla
DESCRIPTION:Boys 2016-17 | Soccer\nBrentwood Family YMCA\n
URL;VALUE=URI:https://ygametime.com/branch/brentwood/sports/2026-spring-soccer/25712/?utm_medium=calendar&utm_source=team_cal&utm_content=league_url#game-602898
LOCATION:Crockett Park Field 11B
BEGIN:VALARM
TRIGGER:-P2H
ACTION:DISPLAY
DESCRIPTION:Vestal vs Bulla
END:VALARM
END:VEVENT
END:VCALENDAR

