BEGIN:VCALENDAR
VERSION:2.0
PRODID:-//YGAMETIME.com//YGT iCal Creator//EN
METHOD:PUBLISH
X-PUBLISHED-TTL:PT6H
REFRESH-INTERVAL;VALUE=DURATION:PT6H
CALSCALE:GREGORIAN
X-WR-CALNAME:YGAMETIME CALENDAR
BEGIN:VTIMEZONE
TZID:America/Chicago
X-LIC-LOCATION:America/Chicago
BEGIN:DAYLIGHT
TZOFFSETFROM:-0600
TZOFFSETTO:-0500
TZNAME:CDT
DTSTART:19700308T020000
RRULE:FREQ=YEARLY;BYMONTH=3;BYDAY=2SU
END:DAYLIGHT
BEGIN:STANDARD
TZOFFSETFROM:-0500
TZOFFSETTO:-0600
TZNAME:CST
DTSTART:19701101T020000
RRULE:FREQ=YEARLY;BYMONTH=11;BYDAY=1SU
END:STANDARD
END:VTIMEZONE
BEGIN:VEVENT
UID:brentwood-597334@ygametime.com
DTSTAMP:20260328T141500Z
DTSTART;TZID=America/Chicago:20260328T091500
DURATION:PT0H75M0S
SUMMARY:Vague vs Mettee
DESCRIPTION:Boys 2016-17 | Soccer\nBrentwood Family YMCA\n
URL;VALUE=URI:https://ygametime.com/branch/brentwood/sports/2026-spring-soccer/25712/?utm_medium=calendar&utm_source=team_cal&utm_content=league_url#game-597334
LOCATION:Crockett Park Field 11A
BEGIN:VALARM
TRIGGER:-P2H
ACTION:DISPLAY
DESCRIPTION:Vague vs Mettee
END:VALARM
END:VEVENT
BEGIN:VEVENT
UID:brentwood-597340@ygametime.com
DTSTAMP:20260404T141500Z
DTSTART;TZID=America/Chicago:20260404T091500
DURATION:PT0H75M0S
SUMMARY:McLean vs Vague
DESCRIPTION:Boys 2016-17 | Soccer\nBrentwood Family YMCA\n
URL;VALUE=URI:https://ygametime.com/branch/brentwood/sports/2026-spring-soccer/25712/?utm_medium=calendar&utm_source=team_cal&utm_content=league_url#game-597340
LOCATION:Crockett Park Field 11A
BEGIN:VALARM
TRIGGER:-P2H
ACTION:DISPLAY
DESCRIPTION:McLean vs Vague
END:VALARM
END:VEVENT
BEGIN:VEVENT
UID:brentwood-597346@ygametime.com
DTSTAMP:20260411T141500Z
DTSTART;TZID=America/Chicago:20260411T091500
DURATION:PT0H75M0S
SUMMARY:Vague vs Britt
DESCRIPTION:Boys 2016-17 | Soccer\nBrentwood Family YMCA\n
URL;VALUE=URI:https://ygametime.com/branch/brentwood/sports/2026-spring-soccer/25712/?utm_medium=calendar&utm_source=team_cal&utm_content=league_url#game-597346
LOCATION:Crockett Park Field 11A
BEGIN:VALARM
TRIGGER:-P2H
ACTION:DISPLAY
DESCRIPTION:Vague vs Britt
END:VALARM
END:VEVENT
BEGIN:VEVENT
UID:brentwood-602887@ygametime.com
DTSTAMP:20260418T141500Z
DTSTART;TZID=America/Chicago:20260418T091500
DURATION:PT0H75M0S
SUMMARY:Vague vs Mettee
DESCRIPTION:Boys 2016-17 | Soccer\nBrentwood Family YMCA\n
URL;VALUE=URI:https://ygametime.com/branch/brentwood/sports/2026-spring-soccer/25712/?utm_medium=calendar&utm_source=team_cal&utm_content=league_url#game-602887
LOCATION:Crockett Park Field 11B
BEGIN:VALARM
TRIGGER:-P2H
ACTION:DISPLAY
DESCRIPTION:Vague vs Mettee
END:VALARM
END:VEVENT
BEGIN:VEVENT
UID:brentwood-602896@ygametime.com
DTSTAMP:20260425T153000Z
DTSTART;TZID=America/Chicago:20260425T103000
DURATION:PT0H75M0S
SUMMARY:Brown/Gonzales/Pappas vs Vague
DESCRIPTION:Boys 2016-17 | Soccer\nBrentwood Family YMCA\n
URL;VALUE=URI:https://ygametime.com/branch/brentwood/sports/2026-spring-soccer/25712/?utm_medium=calendar&utm_source=team_cal&utm_content=league_url#game-602896
LOCATION:Crockett Park Field 11B
BEGIN:VALARM
TRIGGER:-P2H
ACTION:DISPLAY
DESCRIPTION:Brown/Gonzales/Pappas vs Vague
END:VALARM
END:VEVENT
BEGIN:VEVENT
UID:brentwood-602905@ygametime.com
DTSTAMP:20260509T141500Z
DTSTART;TZID=America/Chicago:20260509T091500
DURATION:PT0H75M0S
SUMMARY:Blackwell vs Vague
DESCRIPTION:Boys 2016-17 | Soccer\nBrentwood Family YMCA\n
URL;VALUE=URI:https://ygametime.com/branch/brentwood/sports/2026-spring-soccer/25712/?utm_medium=calendar&utm_source=team_cal&utm_content=league_url#game-602905
LOCATION:Crockett Park Field 11A
BEGIN:VALARM
TRIGGER:-P2H
ACTION:DISPLAY
DESCRIPTION:Blackwell vs Vague
END:VALARM
END:VEVENT
BEGIN:VEVENT
UID:brentwood-602899@ygametime.com
DTSTAMP:20260516T141500Z
DTSTART;TZID=America/Chicago:20260516T091500
DURATION:PT0H75M0S
SUMMARY:Vague vs Mettee
DESCRIPTION:Boys 2016-17 | Soccer\nBrentwood Family YMCA\n
URL;VALUE=URI:https://ygametime.com/branch/brentwood/sports/2026-spring-soccer/25712/?utm_medium=calendar&utm_source=team_cal&utm_content=league_url#game-602899
LOCATION:Crockett Park Field 11A
BEGIN:VALARM
TRIGGER:-P2H
ACTION:DISPLAY
DESCRIPTION:Vague vs Mettee
END:VALARM
END:VEVENT
END:VCALENDAR

