BEGIN:VCALENDAR
VERSION:2.0
PRODID:-//YGAMETIME.com//YGT iCal Creator//EN
METHOD:PUBLISH
X-PUBLISHED-TTL:PT6H
REFRESH-INTERVAL;VALUE=DURATION:PT6H
CALSCALE:GREGORIAN
X-WR-CALNAME:YGAMETIME CALENDAR
BEGIN:VTIMEZONE
TZID:America/Chicago
X-LIC-LOCATION:America/Chicago
BEGIN:DAYLIGHT
TZOFFSETFROM:-0600
TZOFFSETTO:-0500
TZNAME:CDT
DTSTART:19700308T020000
RRULE:FREQ=YEARLY;BYMONTH=3;BYDAY=2SU
END:DAYLIGHT
BEGIN:STANDARD
TZOFFSETFROM:-0500
TZOFFSETTO:-0600
TZNAME:CST
DTSTART:19701101T020000
RRULE:FREQ=YEARLY;BYMONTH=11;BYDAY=1SU
END:STANDARD
END:VTIMEZONE
BEGIN:VEVENT
UID:brentwood-597335@ygametime.com
DTSTAMP:20260328T141500Z
DTSTART;TZID=America/Chicago:20260328T091500
DURATION:PT0H75M0S
SUMMARY:Brown/Gonzales/Pappas vs Blackwell
DESCRIPTION:Boys 2016-17 | Soccer\nBrentwood Family YMCA\n
URL;VALUE=URI:https://ygametime.com/branch/brentwood/sports/2026-spring-soccer/25712/?utm_medium=calendar&utm_source=team_cal&utm_content=league_url#game-597335
LOCATION:Crockett Park Field 11B
BEGIN:VALARM
TRIGGER:-P2H
ACTION:DISPLAY
DESCRIPTION:Brown/Gonzales/Pappas vs Blackwell
END:VALARM
END:VEVENT
BEGIN:VEVENT
UID:brentwood-597341@ygametime.com
DTSTAMP:20260404T141500Z
DTSTART;TZID=America/Chicago:20260404T091500
DURATION:PT0H75M0S
SUMMARY:Blackwell vs Donnell
DESCRIPTION:Boys 2016-17 | Soccer\nBrentwood Family YMCA\n
URL;VALUE=URI:https://ygametime.com/branch/brentwood/sports/2026-spring-soccer/25712/?utm_medium=calendar&utm_source=team_cal&utm_content=league_url#game-597341
LOCATION:Crockett Park Field 11B
BEGIN:VALARM
TRIGGER:-P2H
ACTION:DISPLAY
DESCRIPTION:Blackwell vs Donnell
END:VALARM
END:VEVENT
BEGIN:VEVENT
UID:brentwood-597347@ygametime.com
DTSTAMP:20260411T153000Z
DTSTART;TZID=America/Chicago:20260411T103000
DURATION:PT0H75M0S
SUMMARY:Chisholm vs Blackwell
DESCRIPTION:Boys 2016-17 | Soccer\nBrentwood Family YMCA\n
URL;VALUE=URI:https://ygametime.com/branch/brentwood/sports/2026-spring-soccer/25712/?utm_medium=calendar&utm_source=team_cal&utm_content=league_url#game-597347
LOCATION:Crockett Park Field 11B
BEGIN:VALARM
TRIGGER:-P2H
ACTION:DISPLAY
DESCRIPTION:Chisholm vs Blackwell
END:VALARM
END:VEVENT
BEGIN:VEVENT
UID:brentwood-602888@ygametime.com
DTSTAMP:20260418T141500Z
DTSTART;TZID=America/Chicago:20260418T091500
DURATION:PT0H75M0S
SUMMARY:Brown/Gonzales/Pappas vs Blackwell
DESCRIPTION:Boys 2016-17 | Soccer\nBrentwood Family YMCA\n
URL;VALUE=URI:https://ygametime.com/branch/brentwood/sports/2026-spring-soccer/25712/?utm_medium=calendar&utm_source=team_cal&utm_content=league_url#game-602888
LOCATION:Crockett Park Field 11A
BEGIN:VALARM
TRIGGER:-P2H
ACTION:DISPLAY
DESCRIPTION:Brown/Gonzales/Pappas vs Blackwell
END:VALARM
END:VEVENT
BEGIN:VEVENT
UID:brentwood-602894@ygametime.com
DTSTAMP:20260425T141500Z
DTSTART;TZID=America/Chicago:20260425T091500
DURATION:PT0H75M0S
SUMMARY:Blackwell vs Donnell
DESCRIPTION:Boys 2016-17 | Soccer\nBrentwood Family YMCA\n
URL;VALUE=URI:https://ygametime.com/branch/brentwood/sports/2026-spring-soccer/25712/?utm_medium=calendar&utm_source=team_cal&utm_content=league_url#game-602894
LOCATION:Crockett Park Field 11B
BEGIN:VALARM
TRIGGER:-P2H
ACTION:DISPLAY
DESCRIPTION:Blackwell vs Donnell
END:VALARM
END:VEVENT
BEGIN:VEVENT
UID:brentwood-602905@ygametime.com
DTSTAMP:20260509T141500Z
DTSTART;TZID=America/Chicago:20260509T091500
DURATION:PT0H75M0S
SUMMARY:Blackwell vs Vague
DESCRIPTION:Boys 2016-17 | Soccer\nBrentwood Family YMCA\n
URL;VALUE=URI:https://ygametime.com/branch/brentwood/sports/2026-spring-soccer/25712/?utm_medium=calendar&utm_source=team_cal&utm_content=league_url#game-602905
LOCATION:Crockett Park Field 11A
BEGIN:VALARM
TRIGGER:-P2H
ACTION:DISPLAY
DESCRIPTION:Blackwell vs Vague
END:VALARM
END:VEVENT
BEGIN:VEVENT
UID:brentwood-602900@ygametime.com
DTSTAMP:20260516T141500Z
DTSTART;TZID=America/Chicago:20260516T091500
DURATION:PT0H75M0S
SUMMARY:Gutierrez/ Nunez vs Blackwell
DESCRIPTION:Boys 2016-17 | Soccer\nBrentwood Family YMCA\n
URL;VALUE=URI:https://ygametime.com/branch/brentwood/sports/2026-spring-soccer/25712/?utm_medium=calendar&utm_source=team_cal&utm_content=league_url#game-602900
LOCATION:Crockett Park Field 11B
BEGIN:VALARM
TRIGGER:-P2H
ACTION:DISPLAY
DESCRIPTION:Gutierrez/ Nunez vs Blackwell
END:VALARM
END:VEVENT
END:VCALENDAR

