BEGIN:VCALENDAR
VERSION:2.0
PRODID:-//YGAMETIME.com//YGT iCal Creator//EN
METHOD:PUBLISH
X-PUBLISHED-TTL:PT6H
REFRESH-INTERVAL;VALUE=DURATION:PT6H
CALSCALE:GREGORIAN
X-WR-CALNAME:YGAMETIME CALENDAR
BEGIN:VTIMEZONE
TZID:America/Chicago
X-LIC-LOCATION:America/Chicago
BEGIN:DAYLIGHT
TZOFFSETFROM:-0600
TZOFFSETTO:-0500
TZNAME:CDT
DTSTART:19700308T020000
RRULE:FREQ=YEARLY;BYMONTH=3;BYDAY=2SU
END:DAYLIGHT
BEGIN:STANDARD
TZOFFSETFROM:-0500
TZOFFSETTO:-0600
TZNAME:CST
DTSTART:19701101T020000
RRULE:FREQ=YEARLY;BYMONTH=11;BYDAY=1SU
END:STANDARD
END:VTIMEZONE
BEGIN:VEVENT
UID:brentwood-597336@ygametime.com
DTSTAMP:20260328T153000Z
DTSTART;TZID=America/Chicago:20260328T103000
DURATION:PT0H75M0S
SUMMARY:Chisholm vs McLean
DESCRIPTION:Boys 2016-17 | Soccer\nBrentwood Family YMCA\n
URL;VALUE=URI:https://ygametime.com/branch/brentwood/sports/2026-spring-soccer/25712/?utm_medium=calendar&utm_source=team_cal&utm_content=league_url#game-597336
LOCATION:Crockett Park Field 11A
BEGIN:VALARM
TRIGGER:-P2H
ACTION:DISPLAY
DESCRIPTION:Chisholm vs McLean
END:VALARM
END:VEVENT
BEGIN:VEVENT
UID:brentwood-597342@ygametime.com
DTSTAMP:20260404T153000Z
DTSTART;TZID=America/Chicago:20260404T103000
DURATION:PT0H75M0S
SUMMARY:Britt vs Chisholm
DESCRIPTION:Boys 2016-17 | Soccer\nBrentwood Family YMCA\n
URL;VALUE=URI:https://ygametime.com/branch/brentwood/sports/2026-spring-soccer/25712/?utm_medium=calendar&utm_source=team_cal&utm_content=league_url#game-597342
LOCATION:Crockett Park Field 11A
BEGIN:VALARM
TRIGGER:-P2H
ACTION:DISPLAY
DESCRIPTION:Britt vs Chisholm
END:VALARM
END:VEVENT
BEGIN:VEVENT
UID:brentwood-597347@ygametime.com
DTSTAMP:20260411T153000Z
DTSTART;TZID=America/Chicago:20260411T103000
DURATION:PT0H75M0S
SUMMARY:Chisholm vs Blackwell
DESCRIPTION:Boys 2016-17 | Soccer\nBrentwood Family YMCA\n
URL;VALUE=URI:https://ygametime.com/branch/brentwood/sports/2026-spring-soccer/25712/?utm_medium=calendar&utm_source=team_cal&utm_content=league_url#game-597347
LOCATION:Crockett Park Field 11B
BEGIN:VALARM
TRIGGER:-P2H
ACTION:DISPLAY
DESCRIPTION:Chisholm vs Blackwell
END:VALARM
END:VEVENT
BEGIN:VEVENT
UID:brentwood-602889@ygametime.com
DTSTAMP:20260418T153000Z
DTSTART;TZID=America/Chicago:20260418T103000
DURATION:PT0H75M0S
SUMMARY:Chisholm vs Savoie
DESCRIPTION:Boys 2016-17 | Soccer\nBrentwood Family YMCA\n
URL;VALUE=URI:https://ygametime.com/branch/brentwood/sports/2026-spring-soccer/25712/?utm_medium=calendar&utm_source=team_cal&utm_content=league_url#game-602889
LOCATION:Crockett Park Field 11A
BEGIN:VALARM
TRIGGER:-P2H
ACTION:DISPLAY
DESCRIPTION:Chisholm vs Savoie
END:VALARM
END:VEVENT
BEGIN:VEVENT
UID:brentwood-602895@ygametime.com
DTSTAMP:20260425T153000Z
DTSTART;TZID=America/Chicago:20260425T103000
DURATION:PT0H75M0S
SUMMARY:Britt vs Chisholm
DESCRIPTION:Boys 2016-17 | Soccer\nBrentwood Family YMCA\n
URL;VALUE=URI:https://ygametime.com/branch/brentwood/sports/2026-spring-soccer/25712/?utm_medium=calendar&utm_source=team_cal&utm_content=league_url#game-602895
LOCATION:Crockett Park Field 11A
BEGIN:VALARM
TRIGGER:-P2H
ACTION:DISPLAY
DESCRIPTION:Britt vs Chisholm
END:VALARM
END:VEVENT
BEGIN:VEVENT
UID:brentwood-602904@ygametime.com
DTSTAMP:20260509T130000Z
DTSTART;TZID=America/Chicago:20260509T080000
DURATION:PT0H75M0S
SUMMARY:Bulla vs Chisholm
DESCRIPTION:Boys 2016-17 | Soccer\nBrentwood Family YMCA\n
URL;VALUE=URI:https://ygametime.com/branch/brentwood/sports/2026-spring-soccer/25712/?utm_medium=calendar&utm_source=team_cal&utm_content=league_url#game-602904
LOCATION:Crockett Park Field 11B
BEGIN:VALARM
TRIGGER:-P2H
ACTION:DISPLAY
DESCRIPTION:Bulla vs Chisholm
END:VALARM
END:VEVENT
BEGIN:VEVENT
UID:brentwood-602897@ygametime.com
DTSTAMP:20260516T130000Z
DTSTART;TZID=America/Chicago:20260516T080000
DURATION:PT0H75M0S
SUMMARY:Chisholm vs McLean
DESCRIPTION:Boys 2016-17 | Soccer\nBrentwood Family YMCA\n
URL;VALUE=URI:https://ygametime.com/branch/brentwood/sports/2026-spring-soccer/25712/?utm_medium=calendar&utm_source=team_cal&utm_content=league_url#game-602897
LOCATION:Crockett Park Field 11A
BEGIN:VALARM
TRIGGER:-P2H
ACTION:DISPLAY
DESCRIPTION:Chisholm vs McLean
END:VALARM
END:VEVENT
END:VCALENDAR

