BEGIN:VCALENDAR
VERSION:2.0
PRODID:-//YGAMETIME.com//YGT iCal Creator//EN
METHOD:PUBLISH
X-PUBLISHED-TTL:PT6H
REFRESH-INTERVAL;VALUE=DURATION:PT6H
CALSCALE:GREGORIAN
X-WR-CALNAME:YGAMETIME CALENDAR
BEGIN:VTIMEZONE
TZID:America/Chicago
X-LIC-LOCATION:America/Chicago
BEGIN:DAYLIGHT
TZOFFSETFROM:-0600
TZOFFSETTO:-0500
TZNAME:CDT
DTSTART:19700308T020000
RRULE:FREQ=YEARLY;BYMONTH=3;BYDAY=2SU
END:DAYLIGHT
BEGIN:STANDARD
TZOFFSETFROM:-0500
TZOFFSETTO:-0600
TZNAME:CST
DTSTART:19701101T020000
RRULE:FREQ=YEARLY;BYMONTH=11;BYDAY=1SU
END:STANDARD
END:VTIMEZONE
BEGIN:VEVENT
UID:brentwood-596806@ygametime.com
DTSTAMP:20260328T153000Z
DTSTART;TZID=America/Chicago:20260328T103000
DURATION:PT0H75M0S
SUMMARY:Rassmusen vs Williams
DESCRIPTION:Boys 2018 | Soccer\nBrentwood Family YMCA\n
URL;VALUE=URI:https://ygametime.com/branch/brentwood/sports/2026-spring-soccer/25711/?utm_medium=calendar&utm_source=team_cal&utm_content=league_url#game-596806
LOCATION:Crockett Park Field 8A
BEGIN:VALARM
TRIGGER:-P2H
ACTION:DISPLAY
DESCRIPTION:Rassmusen vs Williams
END:VALARM
END:VEVENT
BEGIN:VEVENT
UID:brentwood-596811@ygametime.com
DTSTAMP:20260404T153000Z
DTSTART;TZID=America/Chicago:20260404T103000
DURATION:PT0H75M0S
SUMMARY:Dorsey 2 vs Rassmusen
DESCRIPTION:Boys 2018 | Soccer\nBrentwood Family YMCA\n
URL;VALUE=URI:https://ygametime.com/branch/brentwood/sports/2026-spring-soccer/25711/?utm_medium=calendar&utm_source=team_cal&utm_content=league_url#game-596811
LOCATION:Crockett Park Field 8A
BEGIN:VALARM
TRIGGER:-P2H
ACTION:DISPLAY
DESCRIPTION:Dorsey 2 vs Rassmusen
END:VALARM
END:VEVENT
BEGIN:VEVENT
UID:brentwood-596816@ygametime.com
DTSTAMP:20260411T130000Z
DTSTART;TZID=America/Chicago:20260411T080000
DURATION:PT0H75M0S
SUMMARY:Rassmusen vs Spedding
DESCRIPTION:Boys 2018 | Soccer\nBrentwood Family YMCA\n
URL;VALUE=URI:https://ygametime.com/branch/brentwood/sports/2026-spring-soccer/25711/?utm_medium=calendar&utm_source=team_cal&utm_content=league_url#game-596816
LOCATION:Crockett Park Field 8A
BEGIN:VALARM
TRIGGER:-P2H
ACTION:DISPLAY
DESCRIPTION:Rassmusen vs Spedding
END:VALARM
END:VEVENT
BEGIN:VEVENT
UID:brentwood-602987@ygametime.com
DTSTAMP:20260418T141500Z
DTSTART;TZID=America/Chicago:20260418T091500
DURATION:PT0H75M0S
SUMMARY:Rassmusen vs Williams
DESCRIPTION:Boys 2018 | Soccer\nBrentwood Family YMCA\n
URL;VALUE=URI:https://ygametime.com/branch/brentwood/sports/2026-spring-soccer/25711/?utm_medium=calendar&utm_source=team_cal&utm_content=league_url#game-602987
LOCATION:Crockett Park Field 8A
BEGIN:VALARM
TRIGGER:-P2H
ACTION:DISPLAY
DESCRIPTION:Rassmusen vs Williams
END:VALARM
END:VEVENT
BEGIN:VEVENT
UID:brentwood-602992@ygametime.com
DTSTAMP:20260425T153000Z
DTSTART;TZID=America/Chicago:20260425T103000
DURATION:PT0H75M0S
SUMMARY:Dorsey 2 vs Rassmusen
DESCRIPTION:Boys 2018 | Soccer\nBrentwood Family YMCA\n
URL;VALUE=URI:https://ygametime.com/branch/brentwood/sports/2026-spring-soccer/25711/?utm_medium=calendar&utm_source=team_cal&utm_content=league_url#game-602992
LOCATION:Crockett Park Field 8A
BEGIN:VALARM
TRIGGER:-P2H
ACTION:DISPLAY
DESCRIPTION:Dorsey 2 vs Rassmusen
END:VALARM
END:VEVENT
BEGIN:VEVENT
UID:brentwood-603001@ygametime.com
DTSTAMP:20260509T164500Z
DTSTART;TZID=America/Chicago:20260509T114500
DURATION:PT0H75M0S
SUMMARY:Delvizis vs Rassmusen
DESCRIPTION:Boys 2018 | Soccer\nBrentwood Family YMCA\n
URL;VALUE=URI:https://ygametime.com/branch/brentwood/sports/2026-spring-soccer/25711/?utm_medium=calendar&utm_source=team_cal&utm_content=league_url#game-603001
LOCATION:Crockett Park Field 8A
BEGIN:VALARM
TRIGGER:-P2H
ACTION:DISPLAY
DESCRIPTION:Delvizis vs Rassmusen
END:VALARM
END:VEVENT
BEGIN:VEVENT
UID:brentwood-602997@ygametime.com
DTSTAMP:20260516T153000Z
DTSTART;TZID=America/Chicago:20260516T103000
DURATION:PT0H75M0S
SUMMARY:Rassmusen vs Spedding
DESCRIPTION:Boys 2018 | Soccer\nBrentwood Family YMCA\n
URL;VALUE=URI:https://ygametime.com/branch/brentwood/sports/2026-spring-soccer/25711/?utm_medium=calendar&utm_source=team_cal&utm_content=league_url#game-602997
LOCATION:Crockett Park Field 8A
BEGIN:VALARM
TRIGGER:-P2H
ACTION:DISPLAY
DESCRIPTION:Rassmusen vs Spedding
END:VALARM
END:VEVENT
END:VCALENDAR

