BEGIN:VCALENDAR
VERSION:2.0
PRODID:-//YGAMETIME.com//YGT iCal Creator//EN
METHOD:PUBLISH
X-PUBLISHED-TTL:PT6H
REFRESH-INTERVAL;VALUE=DURATION:PT6H
CALSCALE:GREGORIAN
X-WR-CALNAME:YGAMETIME CALENDAR
BEGIN:VTIMEZONE
TZID:America/Chicago
X-LIC-LOCATION:America/Chicago
BEGIN:DAYLIGHT
TZOFFSETFROM:-0600
TZOFFSETTO:-0500
TZNAME:CDT
DTSTART:19700308T020000
RRULE:FREQ=YEARLY;BYMONTH=3;BYDAY=2SU
END:DAYLIGHT
BEGIN:STANDARD
TZOFFSETFROM:-0500
TZOFFSETTO:-0600
TZNAME:CST
DTSTART:19701101T020000
RRULE:FREQ=YEARLY;BYMONTH=11;BYDAY=1SU
END:STANDARD
END:VTIMEZONE
BEGIN:VEVENT
UID:brentwood-596804@ygametime.com
DTSTAMP:20260328T130000Z
DTSTART;TZID=America/Chicago:20260328T080000
DURATION:PT0H75M0S
SUMMARY:Wyatt vs Terry/Grimm
DESCRIPTION:Boys 2018 | Soccer\nBrentwood Family YMCA\n
URL;VALUE=URI:https://ygametime.com/branch/brentwood/sports/2026-spring-soccer/25711/?utm_medium=calendar&utm_source=team_cal&utm_content=league_url#game-596804
LOCATION:Crockett Park Field 7A
BEGIN:VALARM
TRIGGER:-P2H
ACTION:DISPLAY
DESCRIPTION:Wyatt vs Terry/Grimm
END:VALARM
END:VEVENT
BEGIN:VEVENT
UID:brentwood-596809@ygametime.com
DTSTAMP:20260404T141500Z
DTSTART;TZID=America/Chicago:20260404T091500
DURATION:PT0H75M0S
SUMMARY:Williams vs Wyatt
DESCRIPTION:Boys 2018 | Soccer\nBrentwood Family YMCA\n
URL;VALUE=URI:https://ygametime.com/branch/brentwood/sports/2026-spring-soccer/25711/?utm_medium=calendar&utm_source=team_cal&utm_content=league_url#game-596809
LOCATION:Crockett Park Field 8A
BEGIN:VALARM
TRIGGER:-P2H
ACTION:DISPLAY
DESCRIPTION:Williams vs Wyatt
END:VALARM
END:VEVENT
BEGIN:VEVENT
UID:brentwood-596814@ygametime.com
DTSTAMP:20260411T130000Z
DTSTART;TZID=America/Chicago:20260411T080000
DURATION:PT0H75M0S
SUMMARY:Wyatt vs Dorsey 2
DESCRIPTION:Boys 2018 | Soccer\nBrentwood Family YMCA\n
URL;VALUE=URI:https://ygametime.com/branch/brentwood/sports/2026-spring-soccer/25711/?utm_medium=calendar&utm_source=team_cal&utm_content=league_url#game-596814
LOCATION:Crockett Park Field 7A
BEGIN:VALARM
TRIGGER:-P2H
ACTION:DISPLAY
DESCRIPTION:Wyatt vs Dorsey 2
END:VALARM
END:VEVENT
BEGIN:VEVENT
UID:brentwood-602988@ygametime.com
DTSTAMP:20260418T130000Z
DTSTART;TZID=America/Chicago:20260418T080000
DURATION:PT0H75M0S
SUMMARY:Wyatt vs Spedding
DESCRIPTION:Boys 2018 | Soccer\nBrentwood Family YMCA\n
URL;VALUE=URI:https://ygametime.com/branch/brentwood/sports/2026-spring-soccer/25711/?utm_medium=calendar&utm_source=team_cal&utm_content=league_url#game-602988
LOCATION:Crockett Park Field 8A
BEGIN:VALARM
TRIGGER:-P2H
ACTION:DISPLAY
DESCRIPTION:Wyatt vs Spedding
END:VALARM
END:VEVENT
BEGIN:VEVENT
UID:brentwood-602990@ygametime.com
DTSTAMP:20260425T141500Z
DTSTART;TZID=America/Chicago:20260425T091500
DURATION:PT0H75M0S
SUMMARY:Williams vs Wyatt
DESCRIPTION:Boys 2018 | Soccer\nBrentwood Family YMCA\n
URL;VALUE=URI:https://ygametime.com/branch/brentwood/sports/2026-spring-soccer/25711/?utm_medium=calendar&utm_source=team_cal&utm_content=league_url#game-602990
LOCATION:Crockett Park Field 8A
BEGIN:VALARM
TRIGGER:-P2H
ACTION:DISPLAY
DESCRIPTION:Williams vs Wyatt
END:VALARM
END:VEVENT
BEGIN:VEVENT
UID:brentwood-603004@ygametime.com
DTSTAMP:20260509T153000Z
DTSTART;TZID=America/Chicago:20260509T103000
DURATION:PT0H75M0S
SUMMARY:Wyatt vs Joyner
DESCRIPTION:Boys 2018 | Soccer\nBrentwood Family YMCA\n
URL;VALUE=URI:https://ygametime.com/branch/brentwood/sports/2026-spring-soccer/25711/?utm_medium=calendar&utm_source=team_cal&utm_content=league_url#game-603004
LOCATION:Crockett Park Field 8A
BEGIN:VALARM
TRIGGER:-P2H
ACTION:DISPLAY
DESCRIPTION:Wyatt vs Joyner
END:VALARM
END:VEVENT
BEGIN:VEVENT
UID:brentwood-602995@ygametime.com
DTSTAMP:20260516T130000Z
DTSTART;TZID=America/Chicago:20260516T080000
DURATION:PT0H75M0S
SUMMARY:Wyatt vs Owens
DESCRIPTION:Boys 2018 | Soccer\nBrentwood Family YMCA\n
URL;VALUE=URI:https://ygametime.com/branch/brentwood/sports/2026-spring-soccer/25711/?utm_medium=calendar&utm_source=team_cal&utm_content=league_url#game-602995
LOCATION:Crockett Park Field 7A
BEGIN:VALARM
TRIGGER:-P2H
ACTION:DISPLAY
DESCRIPTION:Wyatt vs Owens
END:VALARM
END:VEVENT
END:VCALENDAR

