BEGIN:VCALENDAR
VERSION:2.0
PRODID:-//YGAMETIME.com//YGT iCal Creator//EN
METHOD:PUBLISH
X-PUBLISHED-TTL:PT6H
REFRESH-INTERVAL;VALUE=DURATION:PT6H
CALSCALE:GREGORIAN
X-WR-CALNAME:YGAMETIME CALENDAR
BEGIN:VTIMEZONE
TZID:America/Chicago
X-LIC-LOCATION:America/Chicago
BEGIN:DAYLIGHT
TZOFFSETFROM:-0600
TZOFFSETTO:-0500
TZNAME:CDT
DTSTART:19700308T020000
RRULE:FREQ=YEARLY;BYMONTH=3;BYDAY=2SU
END:DAYLIGHT
BEGIN:STANDARD
TZOFFSETFROM:-0500
TZOFFSETTO:-0600
TZNAME:CST
DTSTART:19701101T020000
RRULE:FREQ=YEARLY;BYMONTH=11;BYDAY=1SU
END:STANDARD
END:VTIMEZONE
BEGIN:VEVENT
UID:brentwood-596805@ygametime.com
DTSTAMP:20260328T164500Z
DTSTART;TZID=America/Chicago:20260328T114500
DURATION:PT0H75M0S
SUMMARY:Owens vs Delvizis
DESCRIPTION:Boys 2018 | Soccer\nBrentwood Family YMCA\n
URL;VALUE=URI:https://ygametime.com/branch/brentwood/sports/2026-spring-soccer/25711/?utm_medium=calendar&utm_source=team_cal&utm_content=league_url#game-596805
LOCATION:Crockett Park Field 8A
BEGIN:VALARM
TRIGGER:-P2H
ACTION:DISPLAY
DESCRIPTION:Owens vs Delvizis
END:VALARM
END:VEVENT
BEGIN:VEVENT
UID:brentwood-596813@ygametime.com
DTSTAMP:20260404T130000Z
DTSTART;TZID=America/Chicago:20260404T080000
DURATION:PT0H75M0S
SUMMARY:Terry/Grimm vs Owens
DESCRIPTION:Boys 2018 | Soccer\nBrentwood Family YMCA\n
URL;VALUE=URI:https://ygametime.com/branch/brentwood/sports/2026-spring-soccer/25711/?utm_medium=calendar&utm_source=team_cal&utm_content=league_url#game-596813
LOCATION:Crockett Park Field 7A
BEGIN:VALARM
TRIGGER:-P2H
ACTION:DISPLAY
DESCRIPTION:Terry/Grimm vs Owens
END:VALARM
END:VEVENT
BEGIN:VEVENT
UID:brentwood-596818@ygametime.com
DTSTAMP:20260411T141500Z
DTSTART;TZID=America/Chicago:20260411T091500
DURATION:PT0H75M0S
SUMMARY:Dorsey 1 vs Owens
DESCRIPTION:Boys 2018 | Soccer\nBrentwood Family YMCA\n
URL;VALUE=URI:https://ygametime.com/branch/brentwood/sports/2026-spring-soccer/25711/?utm_medium=calendar&utm_source=team_cal&utm_content=league_url#game-596818
LOCATION:Crockett Park Field 8A
BEGIN:VALARM
TRIGGER:-P2H
ACTION:DISPLAY
DESCRIPTION:Dorsey 1 vs Owens
END:VALARM
END:VEVENT
BEGIN:VEVENT
UID:brentwood-602989@ygametime.com
DTSTAMP:20260418T153000Z
DTSTART;TZID=America/Chicago:20260418T103000
DURATION:PT0H75M0S
SUMMARY:Joyner vs Owens
DESCRIPTION:Boys 2018 | Soccer\nBrentwood Family YMCA\n
URL;VALUE=URI:https://ygametime.com/branch/brentwood/sports/2026-spring-soccer/25711/?utm_medium=calendar&utm_source=team_cal&utm_content=league_url#game-602989
LOCATION:Crockett Park Field 8A
BEGIN:VALARM
TRIGGER:-P2H
ACTION:DISPLAY
DESCRIPTION:Joyner vs Owens
END:VALARM
END:VEVENT
BEGIN:VEVENT
UID:brentwood-602994@ygametime.com
DTSTAMP:20260425T130000Z
DTSTART;TZID=America/Chicago:20260425T080000
DURATION:PT0H75M0S
SUMMARY:Terry/Grimm vs Owens
DESCRIPTION:Boys 2018 | Soccer\nBrentwood Family YMCA\n
URL;VALUE=URI:https://ygametime.com/branch/brentwood/sports/2026-spring-soccer/25711/?utm_medium=calendar&utm_source=team_cal&utm_content=league_url#game-602994
LOCATION:Crockett Park Field 7A
BEGIN:VALARM
TRIGGER:-P2H
ACTION:DISPLAY
DESCRIPTION:Terry/Grimm vs Owens
END:VALARM
END:VEVENT
BEGIN:VEVENT
UID:brentwood-603000@ygametime.com
DTSTAMP:20260509T130000Z
DTSTART;TZID=America/Chicago:20260509T080000
DURATION:PT0H75M0S
SUMMARY:Spedding vs Owens
DESCRIPTION:Boys 2018 | Soccer\nBrentwood Family YMCA\n
URL;VALUE=URI:https://ygametime.com/branch/brentwood/sports/2026-spring-soccer/25711/?utm_medium=calendar&utm_source=team_cal&utm_content=league_url#game-603000
LOCATION:Crockett Park Field 8A
BEGIN:VALARM
TRIGGER:-P2H
ACTION:DISPLAY
DESCRIPTION:Spedding vs Owens
END:VALARM
END:VEVENT
BEGIN:VEVENT
UID:brentwood-602995@ygametime.com
DTSTAMP:20260516T130000Z
DTSTART;TZID=America/Chicago:20260516T080000
DURATION:PT0H75M0S
SUMMARY:Wyatt vs Owens
DESCRIPTION:Boys 2018 | Soccer\nBrentwood Family YMCA\n
URL;VALUE=URI:https://ygametime.com/branch/brentwood/sports/2026-spring-soccer/25711/?utm_medium=calendar&utm_source=team_cal&utm_content=league_url#game-602995
LOCATION:Crockett Park Field 7A
BEGIN:VALARM
TRIGGER:-P2H
ACTION:DISPLAY
DESCRIPTION:Wyatt vs Owens
END:VALARM
END:VEVENT
END:VCALENDAR

